Workbook
Name HORAS: Hoja1!$A$4:$A$43

Sheet INICIAL
K3: UTILIZAR LA GRILLA A MODO DE EJEMPLO
A6: Grilla Salarial según Resolución Conjunta Nº 1961 MEFGC-18 desde ENERO 2019
A7: Ejemplos de liquidación salarial para cargos sin antigüedad en la docencia. Al incluir antigüedades, disminuye o desaparece el monto del C.M.G.
A8: Jardín de Infantes Común / Nivel Inicial - JORNADA SIMPLE | AB8: Jardín de Infantes Común / Nivel Inicial - JORNADA SIMPLE | AJ8: 0.235
A9: Códigos | B9: Denominación del cargo | C9: AÑOS | D9: CANTIDAD DE HORAS | E9: SUBVENCIONADO | F9: CAJA COMPL. | G9: INDICE del Sueldo básico Unificado | H9: TOTAL DE INDICES | I9: INDICES JERARQUIZACION | J9: PLUS DIFERENCIAL POR ESTABLECIMIENTO | K9: Valor Sueldo Básico Unificado RB | L9: PLUS DIFERENCIAL POR JERARQUIZACIÓN | M9: PLUS DIFERENCIAL POR ESTABLECIMIENTO | N9: Antigüedad Docente | O9: Asig. Estímulo Educ. R/ NB (Presentismo) | P9: DECRETO 243/08 RB | Q9: Antigüedad Decreto 243/08 | R9: Art. 128 Estatuto Docente R/ NB | S9: Adicional Especial Remun no Bonif. | T9: Total Haberes Remunerat. | U9: Retenciones por aportes personales | Z9: Total Aportes | AA9: SUBTOTAL NETO SIN C.M.G. | AB9: MDM | AC9: C.M.G. | AD9: Sub Total Neto a cobrar | AE9: FONID / RESOLUC. Nº 02/04 neto | AF9: SUMA FIJA NO REMUN.Y NO BONIF. POR UNICA VEZ | AG9: APORTE NAC. A MAT. DIDÁCTICO 2017 | AH9: TOTAL NETO A COBRAR | AI9: Adicional Especial Remun no Bonif. | AJ9: Total Aportes | AK9: NETO DEL ADICIO-NAL | AL9: NETO A COBRAR
U10: Jubilación 11% | V10: Obra Social 3% | W10: INSSJP - Ley 19032 3% | X10: Ley 24.016 Dec. 137/05 2% | Y10: Caja Compl. 4,5%
A11: 528 | B11: Director de Jardín de Infantes Independeniente | C11: 0 | G11: 1783 | H11: =SUM(G11:G11) -> 1783 | K11: =H11*'DATOS REFERENCIALES'!$C$4 -> 11457.558 | N11: =LOOKUP(C11,'TABLA ANTIG.'!$A$4:$A$39,'TABLA ANTIG.'!$B$4:$B$39)*(K11) -> 0 | O11: =(K11)*0.1 -> 1145.7558 | P11: ='DATOS REFERENCIALES'!$C$8 -> 4275 | Q11: =LOOKUP(C11,'TABLA ANTIG.'!$A$4:$A$39,'TABLA ANTIG.'!$B$4:$B$39)*(P11) -> 0 | R11: 0 | S11: ='DATOS REFERENCIALES'!$C$14 -> 0 | T11: =K11+L11+M11+N11+O11+P11+Q11+R11+S11 -> 16878.314 | U11: =$T11*11% -> 1856.6145 | V11: =$T11*3% -> 506.34941 | W11: =$T11*3% -> 506.34941 | X11: =$T11*2% -> 337.56628 | Y11: =$T11*4.5% -> 759.52412 | Z11: =SUM(U11:Y11) -> 3966.4037 | AA11: =T11-Z11 -> 12911.91 | AB11: ='DATOS REFERENCIALES'!$C$10 -> 1520 | AC11: =IF((IF(H11>1119,('DATOS REFERENCIALES'!$C$9-(T11-U11-V11-W11-X11-Y11+AB11-(S11-S11*0.235))),(('DATOS REFERENCIALES'!$C$9/1120)*H11)-(K11+N11+O11+P11+Q11+R11-U11-V11-W11-X11-Y11+AB11-(S11*0.235))))<0,0,IF(H11>1119,(('DATOS REFERENCIALES'!$C$9)-(T11-U11-V11-W11-X11-Y11+AB11-(S11-S11*0.235))),(('DATOS REFERENCIALES'!$C$9/1120)*H11)-(K11+N11+O11+P11+Q11+R11-U11-V11-W11-X11-Y11+AB11-(S11*0.235)))) -> 2718.0899 | AD11: =SUM(AA11:AC11) -> 17150 | AE11: ='DATOS REFERENCIALES'!$C$13 -> 1210 | AF11: =IF($H11>1119,'DATOS REFERENCIALES'!C17,'DATOS REFERENCIALES'!C17/1120*$H11) -> 1500 | AG11: ='DATOS REFERENCIALES'!$C$12 -> 210 | AH11: =SUM(AD11:AG11)+SUM(AD12:AG12) -> 21371.634 | AI11: ='DATOS REFERENCIALES'!C16 -> 772 | AJ11: =AI11*$AJ$8 -> 181.42 | AK11: =AI11-AJ11 -> 590.58 | AL11: =AH11+AK11 -> 21962.214 | AM11: Para los cargos de Jardín se debe abonar un "suplememto no remunerativo y complementario" para quienes cobren 50% de las AAFF
A12: 528 | B12: Director de Jardín de Infantes Independeniente | C12: =IF(C11>0,C11,0) -> 0 | G12: 1783 | I12: 133.73 | J12: 1 turno y hasta 14 secciones. | L12: =I12*'DATOS REFERENCIALES'!$C$4 -> 859.34898 | M12: =IF(J12='DATOS REFERENCIALES'!$C$30,INICIAL!K11*'DATOS REFERENCIALES'!$D$30,IF(J12='DATOS REFERENCIALES'!$C$31,('DATOS REFERENCIALES'!$D$31*INICIAL!K11),IF(J12='DATOS REFERENCIALES'!$C$32,('DATOS REFERENCIALES'!$D$32*INICIAL!K11),IF(J12='DATOS REFERENCIALES'!$C$33,('DATOS REFERENCIALES'!$D$33*INICIAL!K11),IF(J12='DATOS REFERENCIALES'!$C$34,('DATOS REFERENCIALES'!$D$34*INICIAL!K11),IF(J12='DATOS REFERENCIALES'!$C$35,('DATOS REFERENCIALES'!$D$35*INICIAL!K11),IF(J12='DATOS REFERENCIALES'!$C$36,('DATOS REFERENCIALES'!$D$36*INICIAL!K11),IF(J12='DATOS REFERENCIALES'!$C$37,('DATOS REFERENCIALES'!$D$37*INICIAL!K11),0)))))))) -> 687.45348 | N12: =LOOKUP(C12,'TABLA ANTIG.'!$A$4:$A$39,'TABLA ANTIG.'!$B$4:$B$39)*(L12+M12) -> 0 | O12: =(L12+M12)*0.1 -> 154.68025 | T12: =L12+M12+O12+N12+P12+Q12+R12+S12 -> 1701.4827 | U12: =$T12*11% -> 187.1631 | V12: =$T12*3% -> 51.044481 | W12: =$T12*3% -> 51.044481 | X12: =$T12*2% -> 34.029654 | Y12: =$T12*4.5% -> 76.566722 | Z12: =SUM(U12:Y12) -> 399.84844 | AA12: =T12-Z12 -> 1301.6343 | AD12: =SUM(AA12:AC12) -> 1301.6343
A13: 579 | B13: Vicedirector | C13: 0 | G13: 1545 | H13: =SUM(G13:G13) -> 1545 | K13: =H13*'DATOS REFERENCIALES'!$C$4 -> 9928.17 | N13: =LOOKUP(C13,'TABLA ANTIG.'!$A$4:$A$39,'TABLA ANTIG.'!$B$4:$B$39)*(K13) -> 0 | O13: =(K13)*0.1 -> 992.817 | P13: ='DATOS REFERENCIALES'!$C$8 -> 4275 | Q13: =LOOKUP(C13,'TABLA ANTIG.'!$A$4:$A$39,'TABLA ANTIG.'!$B$4:$B$39)*(P13) -> 0 | R13: 0 | S13: ='DATOS REFERENCIALES'!$C$14 -> 0 | T13: =K13+L13+M13+N13+O13+P13+Q13+R13+S13 -> 15195.987 | U13: =$T13*11% -> 1671.5586 | V13: =$T13*3% -> 455.87961 | W13: =$T13*3% -> 455.87961 | X13: =$T13*2% -> 303.91974 | Y13: =$T13*4.5% -> 683.81942 | Z13: =SUM(U13:Y13) -> 3571.0569 | AA13: =T13-Z13 -> 11624.93 | AB13: ='DATOS REFERENCIALES'!$C$10 -> 1520 | AC13: =IF((IF(H13>1119,('DATOS REFERENCIALES'!$C$9-(T13-U13-V13-W13-X13-Y13+AB13-L13-L13*0.235-(S13-S13*0.235))),(('DATOS REFERENCIALES'!$C$9/1120)*H13)-(K13+N13+O13+P13+Q13+R13-U13-V13-W13-X13-Y13+AB13-(L13-L13*0.235)-(S13*0.235))))<0,0,IF(H13>1119,(('DATOS REFERENCIALES'!$C$9)-(T13-U13-V13-W13-X13-Y13+AB13-(L13-L13*0.235)-(S13-S13*0.235))),(('DATOS REFERENCIALES'!$C$9/1120)*H13)-(K13+N13+O13+P13+Q13+R13-U13-V13-W13-X13-Y13+AB13-(L13-L13*0.235)-(S13*0.235)))) -> 4005.0699 | AD13: =SUM(AA13:AC13) -> 17150 | AE13: ='DATOS REFERENCIALES'!$C$13 -> 1210 | AF13: =IF($H13>1119,'DATOS REFERENCIALES'!C17,'DATOS REFERENCIALES'!C17/1120*$H13) -> 1500 | AG13: ='DATOS REFERENCIALES'!$C$12 -> 210 | AH13: =SUM(AD13:AG13)+SUM(AD14:AG14) -> 20696.619 | AI13: ='DATOS REFERENCIALES'!C16 -> 772 | AJ13: =AI13*$AJ$8 -> 181.42 | AK13: =AI13-AJ13 -> 590.58 | AL13: =AH13+AK13 -> 21287.199
A14: 579 | B14: Vicedirector | C14: =IF(C13>0,C13,0) -> 0 | G14: 1545 | I14: 115.88 | L14: =I14*'DATOS REFERENCIALES'!$C$4 -> 744.64488 | N14: =LOOKUP(C14,'TABLA ANTIG.'!$A$4:$A$39,'TABLA ANTIG.'!$B$4:$B$39)*(L14+M14) -> 0 | O14: =(L14+M14)*0.1 -> 74.464488 | T14: =K14+L14+M14+N14+O14+P14+Q14+R14+S14 -> 819.10937 | U14: =$T14*11% -> 90.10203 | V14: =$T14*3% -> 24.573281 | W14: =$T14*3% -> 24.573281 | X14: =$T14*2% -> 16.382187 | Y14: =$T14*4.5% -> 36.859922 | Z14: =SUM(U14:Y14) -> 192.4907 | AA14: =T14-Z14 -> 626.61867 | AD14: =SUM(AA14:AC14) -> 626.61867
A15: 544 | B15: Maestro Secretario | C15: 0 | G15: 1307 | H15: =SUM(G15:G15) -> 1307 | K15: =H15*'DATOS REFERENCIALES'!$C$4 -> 8398.782 | N15: =LOOKUP(C15,'TABLA ANTIG.'!$A$4:$A$39,'TABLA ANTIG.'!$B$4:$B$39)*(K15) -> 0 | O15: =(K15)*0.1 -> 839.8782 | P15: ='DATOS REFERENCIALES'!$C$8 -> 4275 | Q15: =LOOKUP(C15,'TABLA ANTIG.'!$A$4:$A$39,'TABLA ANTIG.'!$B$4:$B$39)*(P15) -> 0 | R15: 0 | S15: ='DATOS REFERENCIALES'!$C$14 -> 0 | T15: =K15+L15+M15+N15+O15+P15+Q15+R15+S15 -> 13513.66 | U15: =$T15*11% -> 1486.5026 | V15: =$T15*3% -> 405.40981 | W15: =$T15*3% -> 405.40981 | X15: =$T15*2% -> 270.2732 | Y15: =$T15*4.5% -> 608.11471 | Z15: =SUM(U15:Y15) -> 3175.7101 | AA15: =T15-Z15 -> 10337.95 | AB15: ='DATOS REFERENCIALES'!$C$10 -> 1520 | AC15: =IF((IF(H15>1119,('DATOS REFERENCIALES'!$C$9-(T15-U15-V15-W15-X15-Y15+AB15-L15-L15*0.235-(S15-S15*0.235))),(('DATOS REFERENCIALES'!$C$9/1120)*H15)-(K15+N15+O15+P15+Q15+R15-U15-V15-W15-X15-Y15+AB15-(L15-L15*0.235)-(S15*0.235))))<0,0,IF(H15>1119,(('DATOS REFERENCIALES'!$C$9)-(T15-U15-V15-W15-X15-Y15+AB15-(L15-L15*0.235)-(S15-S15*0.235))),(('DATOS REFERENCIALES'!$C$9/1120)*H15)-(K15+N15+O15+P15+Q15+R15-U15-V15-W15-X15-Y15+AB15-(L15-L15*0.235)-(S15*0.235)))) -> 5292.0499 | AD15: =SUM(AA15:AC15) -> 17150 | AE15: ='DATOS REFERENCIALES'!$C$13 -> 1210 | AF15: =IF($H15>1119,'DATOS REFERENCIALES'!C17,'DATOS REFERENCIALES'!C17/1120*$H15) -> 1500 | AG15: ='DATOS REFERENCIALES'!$C$12 -> 210 | AH15: =SUM(AD15:AG15)+SUM(AD16:AG16) -> 20600.095 | AI15: ='DATOS REFERENCIALES'!C16 -> 772 | AJ15: =AI15*$AJ$8 -> 181.42 | AK15: =AI15-AJ15 -> 590.58 | AL15: =AH15+AK15 -> 21190.675
A16: 544 | B16: Maestro Secretario | C16: =IF(C15>0,C15,0) -> 0 | G16: 1307 | I16: 98.03 | L16: =I16*'DATOS REFERENCIALES'!$C$4 -> 629.94078 | N16: =LOOKUP(C16,'TABLA ANTIG.'!$A$4:$A$39,'TABLA ANTIG.'!$B$4:$B$39)*(L16+M16) -> 0 | O16: =(L16+M16)*0.1 -> 62.994078 | T16: =K16+L16+M16+N16+O16+P16+Q16+R16+S16 -> 692.93486 | U16: =$T16*11% -> 76.222834 | V16: =$T16*3% -> 20.788046 | W16: =$T16*3% -> 20.788046 | X16: =$T16*2% -> 13.858697 | Y16: =$T16*4.5% -> 31.182069 | Z16: =SUM(U16:Y16) -> 162.83969 | AA16: =T16-Z16 -> 530.09517 | AD16: =SUM(AA16:AC16) -> 530.09517
A17: 543 | B17: Maestro Jardinera/Sección | C17: 0 | G17: 1120 | H17: =SUM(G17:G17) -> 1120 | K17: =H17*'DATOS REFERENCIALES'!$C$4 -> 7197.12 | N17: =LOOKUP(C17,'TABLA ANTIG.'!$A$4:$A$39,'TABLA ANTIG.'!$B$4:$B$39)*(K17+L17+M17) -> 0 | O17: =(K17+L17+M17)*0.1 -> 719.712 | P17: ='DATOS REFERENCIALES'!$C$8 -> 4275 | Q17: =LOOKUP(C17,'TABLA ANTIG.'!$A$4:$A$39,'TABLA ANTIG.'!$B$4:$B$39)*(P17) -> 0 | R17: 0 | S17: ='DATOS REFERENCIALES'!$C$14 -> 0 | T17: =K17+L17+M17+N17+O17+P17+Q17+R17+S17 -> 12191.832 | U17: =$T17*11% -> 1341.1015 | V17: =$T17*3% -> 365.75496 | W17: =$T17*3% -> 365.75496 | X17: =$T17*2% -> 243.83664 | Y17: =$T17*4.5% -> 548.63244 | Z17: =SUM(U17:Y17) -> 2865.0805 | AA17: =T17-Z17 -> 9326.7515 | AB17: ='DATOS REFERENCIALES'!$C$10 -> 1520 | AC17: =IF((IF(H17>1119,(('DATOS REFERENCIALES'!$C$9)-(T17-U17-V17-W17-X17-Y17+AB17-L17-L17*0.235)+(S17-S17*0.235)),(('DATOS REFERENCIALES'!$C$9/1120)*H17)-(K17+N17+O17+P17+Q17+R17-U17-V17-W17-X17-Y17+AB17-(L17-L17*0.235)-(S17*0.235))))<0,0,IF(H17>1119,(('DATOS REFERENCIALES'!$C$9)-(T17-U17-V17-W17-X17-Y17+AB17-(L17-L17*0.235)-(S17-S17*0.235))),(('DATOS REFERENCIALES'!$C$9/1120)*H17)-(K17+N17+O17+P17+Q17+R17-U17-V17-W17-X17-Y17+AB17-(L17-L17*0.235)-(S17*0.235)))) -> 6303.2485 | AD17: =SUM(AA17:AC17) -> 17150 | AE17: ='DATOS REFERENCIALES'!$C$13 -> 1210 | AF17: =IF(H17>1119,'DATOS REFERENCIALES'!C17,'DATOS REFERENCIALES'!C17/1120*H17) -> 1500 | AG17: ='DATOS REFERENCIALES'!$C$12 -> 210 | AH17: =SUM(AD17:AG17) -> 20070 | AI17: ='DATOS REFERENCIALES'!$C$16 -> 772 | AJ17: =AI17*$AJ$8 -> 181.42 | AK17: =AI17-AJ17 -> 590.58 | AL17: =AH17+AK17 -> 20660.58
A18: 906 | B18: Maestro de Apoyo | C18: 0 | G18: 1120 | H18: =SUM(G18:G18) -> 1120 | K18: =H18*'DATOS REFERENCIALES'!$C$4 -> 7197.12 | N18: =LOOKUP(C18,'TABLA ANTIG.'!$A$4:$A$39,'TABLA ANTIG.'!$B$4:$B$39)*(K18+L18+M18) -> 0 | O18: =(K18+L18+M18)*0.1 -> 719.712 | P18: ='DATOS REFERENCIALES'!$C$8 -> 4275 | Q18: =LOOKUP(C18,'TABLA ANTIG.'!$A$4:$A$39,'TABLA ANTIG.'!$B$4:$B$39)*(P18) -> 0 | R18: 0 | S18: ='DATOS REFERENCIALES'!$C$14 -> 0 | T18: =K18+L18+M18+N18+O18+P18+Q18+R18+S18 -> 12191.832 | U18: =$T18*11% -> 1341.1015 | V18: =$T18*3% -> 365.75496 | W18: =$T18*3% -> 365.75496 | X18: =$T18*2% -> 243.83664 | Y18: =$T18*4.5% -> 548.63244 | Z18: =SUM(U18:Y18) -> 2865.0805 | AA18: =T18-Z18 -> 9326.7515 | AB18: ='DATOS REFERENCIALES'!$C$10 -> 1520 | AC18: =IF((IF(H18>1119,('DATOS REFERENCIALES'!$C$9-(T18-U18-V18-W18-X18-Y18+AB18-L18-L18*0.235-(S18-S18*0.235))),(('DATOS REFERENCIALES'!$C$9/1120)*H18)-(K18+N18+O18+P18+Q18+R18-U18-V18-W18-X18-Y18+AB18-(L18-L18*0.235)-(S18*0.235))))<0,0,IF(H18>1119,(('DATOS REFERENCIALES'!$C$9)-(T18-U18-V18-W18-X18-Y18+AB18-(L18-L18*0.235)-(S18-S18*0.235))),(('DATOS REFERENCIALES'!$C$9/1120)*H18)-(K18+N18+O18+P18+Q18+R18-U18-V18-W18-X18-Y18+AB18-(L18-L18*0.235)-(S18*0.235)))) -> 6303.2485 | AD18: =SUM(AA18:AC18) -> 17150 | AE18: ='DATOS REFERENCIALES'!$C$13 -> 1210 | AF18: =IF(H18>1119,'DATOS REFERENCIALES'!C17,'DATOS REFERENCIALES'!C17/1120*H18) -> 1500 | AG18: ='DATOS REFERENCIALES'!$C$12 -> 210 | AH18: =SUM(AD18:AG18) -> 20070 | AI18: ='DATOS REFERENCIALES'!$C$16 -> 772 | AJ18: =AI18*$AJ$8 -> 181.42 | AK18: =AI18-AJ18 -> 590.58 | AL18: =AH18+AK18 -> 20660.58
A19: 907 | B19: Maestro de Apoyo para la integración | C19: 0 | G19: 1120 | H19: =SUM(G19:G19) -> 1120 | K19: =H19*'DATOS REFERENCIALES'!$C$4 -> 7197.12 | N19: =LOOKUP(C19,'TABLA ANTIG.'!$A$4:$A$39,'TABLA ANTIG.'!$B$4:$B$39)*(K19+L19+M19) -> 0 | O19: =(K19+L19+M19)*0.1 -> 719.712 | P19: ='DATOS REFERENCIALES'!$C$8 -> 4275 | Q19: =LOOKUP(C19,'TABLA ANTIG.'!$A$4:$A$39,'TABLA ANTIG.'!$B$4:$B$39)*(P19) -> 0 | R19: 0 | S19: ='DATOS REFERENCIALES'!$C$14 -> 0 | T19: =K19+L19+M19+N19+O19+P19+Q19+R19+S19 -> 12191.832 | U19: =$T19*11% -> 1341.1015 | V19: =$T19*3% -> 365.75496 | W19: =$T19*3% -> 365.75496 | X19: =$T19*2% -> 243.83664 | Y19: =$T19*4.5% -> 548.63244 | Z19: =SUM(U19:Y19) -> 2865.0805 | AA19: =T19-Z19 -> 9326.7515 | AB19: ='DATOS REFERENCIALES'!$C$10 -> 1520 | AC19: =IF((IF(H19>1119,('DATOS REFERENCIALES'!$C$9-(T19-U19-V19-W19-X19-Y19+AB19-L19-L19*0.235-(S19-S19*0.235))),(('DATOS REFERENCIALES'!$C$9/1120)*H19)-(K19+N19+O19+P19+Q19+R19-U19-V19-W19-X19-Y19+AB19-(L19-L19*0.235)-(S19*0.235))))<0,0,IF(H19>1119,(('DATOS REFERENCIALES'!$C$9)-(T19-U19-V19-W19-X19-Y19+AB19-(L19-L19*0.235)-(S19-S19*0.235))),(('DATOS REFERENCIALES'!$C$9/1120)*H19)-(K19+N19+O19+P19+Q19+R19-U19-V19-W19-X19-Y19+AB19-(L19-L19*0.235)-(S19*0.235)))) -> 6303.2485 | AD19: =SUM(AA19:AC19) -> 17150 | AE19: ='DATOS REFERENCIALES'!$C$13 -> 1210 | AF19: =IF(H19>1119,'DATOS REFERENCIALES'!C17,'DATOS REFERENCIALES'!C17/1120*H19) -> 1500 | AG19: ='DATOS REFERENCIALES'!$C$12 -> 210 | AH19: =SUM(AD19:AG19) -> 20070 | AI19: ='DATOS REFERENCIALES'!$C$16 -> 772 | AJ19: =AI19*$AJ$8 -> 181.42 | AK19: =AI19-AJ19 -> 590.58 | AL19: =AH19+AK19 -> 20660.58
A20: 889 | B20: Maestro Celador | C20: 0 | G20: 981.5 | H20: =SUM(G20:G20) -> 981.5 | K20: =H20*'DATOS REFERENCIALES'!$C$4 -> 6307.119 | N20: =LOOKUP(C20,'TABLA ANTIG.'!$A$4:$A$39,'TABLA ANTIG.'!$B$4:$B$39)*(K20+L20+M20) -> 0 | O20: =(K20+L20+M20)*0.1 -> 630.7119 | P20: ='DATOS REFERENCIALES'!$C$8 -> 4275 | Q20: =LOOKUP(C20,'TABLA ANTIG.'!$A$4:$A$39,'TABLA ANTIG.'!$B$4:$B$39)*(P20) -> 0 | R20: 0 | S20: ='DATOS REFERENCIALES'!$C$14 -> 0 | T20: =K20+L20+M20+N20+O20+P20+Q20+R20+S20 -> 11212.831 | U20: =$T20*11% -> 1233.4114 | V20: =$T20*3% -> 336.38493 | W20: =$T20*3% -> 336.38493 | X20: =$T20*2% -> 224.25662 | Y20: =$T20*4.5% -> 504.57739 | Z20: =SUM(U20:Y20) -> 2635.0153 | AA20: =T20-Z20 -> 8577.8156 | AB20: ='DATOS REFERENCIALES'!$C$10 -> 1520 | AC20: =IF((IF(H20>1119,('DATOS REFERENCIALES'!$C$9-(T20-U20-V20-W20-X20-Y20+AB20-L20-L20*0.235+(S20-S20*0.235))),(('DATOS REFERENCIALES'!$C$9/1120)*H20)-(K20+N20+O20+P20+Q20+R20-U20-V20-W20-X20-Y20+AB20-(L20-L20*0.235)+(S20*0.235))))<0,0,IF(H20>1119,(('DATOS REFERENCIALES'!$C$9)-(T20-U20-V20-W20-X20-Y20+AB20-(L20-L20*0.235)+(S20-S20*0.235))),(('DATOS REFERENCIALES'!$C$9/1120)*H20)-(K20+N20+O20+P20+Q20+R20-U20-V20-W20-X20-Y20+AB20-(L20-L20*0.235)+(S20*0.235)))) -> 4931.4031 | AD20: =SUM(AA20:AC20) -> 15029.219 | AE20: ='DATOS REFERENCIALES'!$C$13 -> 1210 | AF20: =IF(H20>1119,'DATOS REFERENCIALES'!C17,'DATOS REFERENCIALES'!C17/1120*H20) -> 1314.5089 | AG20: ='DATOS REFERENCIALES'!$C$12 -> 210 | AH20: =SUM(AD20:AG20) -> 17763.728 | AI20: ='DATOS REFERENCIALES'!$C$16 -> 772 | AJ20: =AI20*$AJ$8 -> 181.42 | AK20: =AI20-AJ20 -> 590.58 | AL20: =AH20+AK20 -> 18354.308
A21: 566 | B21: Hora cátedra Maestro Especial | C21: 0 | D21: 1 | G21: 56 | H21: =SUM(G21:G21) -> 56 | K21: =(H21*'DATOS REFERENCIALES'!$C$4)*D21 -> 359.856 | N21: =LOOKUP(C21,'TABLA ANTIG.'!$A$4:$A$39,'TABLA ANTIG.'!$B$4:$B$39)*(K21+L21+M21) -> 0 | O21: =(K21+L21+M21)*0.1 -> 35.9856 | P21: =IF(D21>48,'DATOS REFERENCIALES'!D8+('DATOS REFERENCIALES'!F8*10),IF(D21<39,'DATOS REFERENCIALES'!$E$8*D21,((D21-'DATOS REFERENCIALES'!$I$8)*'DATOS REFERENCIALES'!$F$8)+'DATOS REFERENCIALES'!D8)) -> 225 | Q21: =LOOKUP(C21,'TABLA ANTIG.'!$A$4:$A$39,'TABLA ANTIG.'!$B$4:$B$39)*(P21) -> 0 | R21: 0 | S21: =IF(D21>29.99,'DATOS REFERENCIALES'!$D$14,'DATOS REFERENCIALES'!$E$14*D21) -> 0 | T21: =K21+L21+M21+N21+O21+P21+Q21+R21+S21 -> 620.8416 | U21: =$T21*11% -> 68.292576 | V21: =$T21*3% -> 18.625248 | W21: =$T21*3% -> 18.625248 | X21: =$T21*2% -> 12.416832 | Y21: =$T21*4.5% -> 27.937872 | Z21: =SUM(U21:Y21) -> 145.89778 | AA21: =T21-Z21 -> 474.94382 | AB21: =IF(D21>38,'DATOS REFERENCIALES'!$D$10,'DATOS REFERENCIALES'!$E$10*D21) -> 80 | AC21: =IF(D21>41,IF((('DATOS REFERENCIALES'!$D$9)-((T21-S21)-(Z21-S21*0.235)+(AB21)))<0,0,((('DATOS REFERENCIALES'!$D$9)-((T21-S21)-(Z21-S21*0.235)+(AB21))))),IF((('DATOS REFERENCIALES'!$E$9*D21)-(((T21-S21)-(Z21-S21*0.235)+(AB21))))<0,0,('DATOS REFERENCIALES'!$E$9*D21)-((T21-S21)-(Z21-S21*0.235)+(AB21)))) -> 302.55618 | AD21: =SUM(AA21:AC21) -> 857.5 | AE21: =IF(D21>'DATOS REFERENCIALES'!$I$13,'DATOS REFERENCIALES'!$D$13,('DATOS REFERENCIALES'!$E$13*D21)) -> 80.66666 | AF21: =IF(D21>'DATOS REFERENCIALES'!$I$17,'DATOS REFERENCIALES'!$D$17,('DATOS REFERENCIALES'!$E$17*D21)) -> 75 | AG21: =IF(D21>'DATOS REFERENCIALES'!$I$12,'DATOS REFERENCIALES'!$D$12,'DATOS REFERENCIALES'!$E$12*D21) -> 14 | AH21: =SUM(AD21:AG21) -> 1027.1667 | AI21: =IF(D21>'DATOS REFERENCIALES'!$I$16,'DATOS REFERENCIALES'!$D$16,'DATOS REFERENCIALES'!$E$16*D21) -> 51.47 | AJ21: =AI21*$AJ$8 -> 12.09545 | AK21: =AI21-AJ21 -> 39.37455 | AL21: =AH21+AK21 -> 1066.5412
A23: Jardín de Infantes Común / Nivel Inicial - JORNADA COMPLETA | AB23: Jardín de Infantes Común / Nivel Inicial- JORNADA COMPLETA | AJ23: 0.235
A24: Códigos | B24: Denominación del cargo | C24: AÑOS | D24: CANTIDAD DE HORAS | E24: SUBVENCIONADO | F24: CAJA COMPL. | G24: INDICE del Sueldo básico Unificado | H24: TOTAL DE INDICES | I24: INDICES JERARQUIZACION | J24: PLUS DIFERENCIAL POR ESTABLECIMIENTO | K24: Valor Sueldo Básico Unificado RB | L24: PLUS DIFERENCIAL POR JERARQUIZACIÓN | M24: PLUS DIFERENCIAL POR ESTABLECIMIENTO | N24: Antigüedad Docente | O24: Asig. Estímulo Educ. R/ NB (Presentismo) | P24: DECRETO 243/08 RB | Q24: Antigüedad Decreto 243/08 | R24: Art. 128 Estatuto Docente R/ NB | S24: Adicional Especial Remun no Bonif. | T24: Total Haberes Remunerat. | U24: Retenciones por aportes personales | Z24: Total Aportes | AA24: SUBTOTAL NETO SIN C.M.G. | AB24: MDM | AC24: C.M.G. | AD24: Sub Total Neto a cobrar | AE24: FONID / RESOLUC. Nº 02/04 neto | AF24: SUMA FIJA NO REMUN.Y NO BONIF. POR UNICA VEZ | AG24: APORTE NAC. A MAT. DIDÁCTICO 2017 de 08/17 a 12/17 | AH24: TOTAL NETO A COBRAR | AI24: Adicional Especial Remun no Bonif. | AJ24: Total Aportes | AK24: NETO DEL ADICIO-NAL | AL24: NETO A COBRAR
U25: Jubilación 11% | V25: Obra Social 3% | W25: INSSJP - Ley 19032 3% | X25: Ley 24.016 Dec. 137/05 2% | Y25: Caja Compl. 4,5%
A26: 835 | B26: Director de Jardín de Infantes | C26: 0 | G26: 3125 | H26: =SUM(G26:G26) -> 3125 | K26: =H26*'DATOS REFERENCIALES'!$C$4 -> 20081.25 | N26: =LOOKUP(C26,'TABLA ANTIG.'!$A$4:$A$39,'TABLA ANTIG.'!$B$4:$B$39)*(K26) -> 0 | O26: =(K26)*0.1 -> 2008.125 | P26: ='DATOS REFERENCIALES'!$D$8 -> 8550 | Q26: =LOOKUP(C26,'TABLA ANTIG.'!$A$4:$A$39,'TABLA ANTIG.'!$B$4:$B$39)*(P26) -> 0 | R26: 0 | S26: ='DATOS REFERENCIALES'!$D$14 -> 0 | T26: =K26+L26+M26+N26+O26+P26+Q26+R26+S26 -> 30639.375 | U26: =$T26*11% -> 3370.3313 | V26: =$T26*3% -> 919.18125 | W26: =$T26*3% -> 919.18125 | X26: =$T26*2% -> 612.7875 | Y26: =$T26*4.5% -> 1378.7719 | Z26: =SUM(U26:Y26) -> 7200.2531 | AA26: =T26-Z26 -> 23439.122 | AB26: ='DATOS REFERENCIALES'!$D$10 -> 3040 | AC26: =IF((IF(H26>2042,('DATOS REFERENCIALES'!$D$9-(T26-U26-V26-W26-X26-Y26+AB26)+(S26-S26*0.235)),(('DATOS REFERENCIALES'!$D$9/2043)*H26)-(K26+N26+O26+P26+Q26+R26-U26-V26-W26-X26-Y26+AB26)))<0,0,IF(H26>2042,(('DATOS REFERENCIALES'!$D$9)-(T26-U26-V26-W26-X26-Y26+AB26)+(S26-S26*0.235)),(('DATOS REFERENCIALES'!$D$9/2043)*H26)-(K26+N26+O26+P26+Q26+R26-U26-V26-W26-X26-Y26+AB26))) -> 7820.8781 | AD26: =SUM(AA26:AC26) -> 34300 | AE26: ='DATOS REFERENCIALES'!$D$13 -> 2420 | AF26: =IF($H26>2240,'DATOS REFERENCIALES'!D17,'DATOS REFERENCIALES'!D17/2240*$H26) -> 3000 | AG26: ='DATOS REFERENCIALES'!$D$12 -> 420 | AH26: =SUM(AD26:AG26)+SUM(AD27:AG27) -> 42421.307 | AI26: ='DATOS REFERENCIALES'!D16 -> 1544 | AJ26: =AI26*$AJ$8 -> 362.84 | AK26: =AI26-AJ26 -> 1181.16 | AL26: =AH26+AK26 -> 43602.467
A27: 835 | B27: Director de Jardín de Infantes | C27: =IF(C26>0,C26,0) -> 0 | I27: 234.38 | J27: 1 turno y hasta 14 secciones. | L27: =I27*'DATOS REFERENCIALES'!$C$4 -> 1506.1259 | M27: =IF(J27='DATOS REFERENCIALES'!$C$30,INICIAL!K26*'DATOS REFERENCIALES'!$D$30,IF(J27='DATOS REFERENCIALES'!$C$31,('DATOS REFERENCIALES'!$D$31*INICIAL!K26),IF(J27='DATOS REFERENCIALES'!$C$32,('DATOS REFERENCIALES'!$D$32*INICIAL!K26),IF(J27='DATOS REFERENCIALES'!$C$33,('DATOS REFERENCIALES'!$D$33*INICIAL!K26),IF(J27='DATOS REFERENCIALES'!$C$34,('DATOS REFERENCIALES'!$D$34*INICIAL!K26),IF(J27='DATOS REFERENCIALES'!$C$35,('DATOS REFERENCIALES'!$D$35*INICIAL!K26),IF(J27='DATOS REFERENCIALES'!$C$36,('DATOS REFERENCIALES'!$D$36*INICIAL!K26),IF(J27='DATOS REFERENCIALES'!$C$37,('DATOS REFERENCIALES'!$D$37*INICIAL!K26),0)))))))) -> 1204.875 | N27: =LOOKUP(C27,'TABLA ANTIG.'!$A$4:$A$39,'TABLA ANTIG.'!$B$4:$B$39)*(L27+M27) -> 0 | O27: =(L27+M27)*0.1 -> 271.10009 | T27: =K27+L27+M27+N27+O27+P27+Q27+R27 -> 2982.101 | U27: =$T27*11% -> 328.03111 | V27: =$T27*3% -> 89.463029 | W27: =$T27*3% -> 89.463029 | X27: =$T27*2% -> 59.642019 | Y27: =$T27*4.5% -> 134.19454 | Z27: =SUM(U27:Y27) -> 700.79373 | AA27: =T27-Z27 -> 2281.3072 | AD27: =SUM(AA27:AC27) -> 2281.3072
A28: 877 | B28: Vicedirector de Jardín de Infantes | C28: 0 | G28: 2667 | H28: =SUM(G28:G28) -> 2667 | K28: =H28*'DATOS REFERENCIALES'!$C$4 -> 17138.142 | N28: =LOOKUP(C28,'TABLA ANTIG.'!$A$4:$A$39,'TABLA ANTIG.'!$B$4:$B$39)*(K28) -> 0 | O28: =(K28)*0.1 -> 1713.8142 | P28: ='DATOS REFERENCIALES'!$D$8 -> 8550 | Q28: =LOOKUP(C28,'TABLA ANTIG.'!$A$4:$A$39,'TABLA ANTIG.'!$B$4:$B$39)*(P28) -> 0 | R28: 0 | S28: ='DATOS REFERENCIALES'!$D$14 -> 0 | T28: =K28+L28+M28+N28+O28+P28+Q28+R28+S28 -> 27401.956 | U28: =$T28*11% -> 3014.2152 | V28: =$T28*3% -> 822.05869 | W28: =$T28*3% -> 822.05869 | X28: =$T28*2% -> 548.03912 | Y28: =$T28*4.5% -> 1233.088 | Z28: =SUM(U28:Y28) -> 6439.4597 | AA28: =T28-Z28 -> 20962.496 | AB28: ='DATOS REFERENCIALES'!$D$10 -> 3040 | AC28: =IF((IF(H28>2042,('DATOS REFERENCIALES'!$D$9-(T28-U28-V28-W28-X28-Y28+AB28)+(S28-S28*0.235)),(('DATOS REFERENCIALES'!$D$9/2043)*H28)-(K28+N28+O28+P28+Q28+R28-U28-V28-W28-X28-Y28+AB28)))<0,0,IF(H28>2042,(('DATOS REFERENCIALES'!$D$9)-(T28-U28-V28-W28-X28-Y28+AB28)+(S28-S28*0.235)),(('DATOS REFERENCIALES'!$D$9/2043)*H28)-(K28+N28+O28+P28+Q28+R28-U28-V28-W28-X28-Y28+AB28))) -> 10297.504 | AD28: =SUM(AA28:AC28) -> 34300 | AE28: ='DATOS REFERENCIALES'!$D$13 -> 2420 | AF28: =IF($H28>2240,'DATOS REFERENCIALES'!D17,'DATOS REFERENCIALES'!D17/2240*$H28) -> 3000 | AG28: ='DATOS REFERENCIALES'!$D$12 -> 420 | AH28: =SUM(AD28:AG28)+SUM(AD29:AG29) -> 41221.658 | AI28: ='DATOS REFERENCIALES'!D16 -> 1544 | AJ28: =AI28*$AJ$8 -> 362.84 | AK28: =AI28-AJ28 -> 1181.16 | AL28: =AH28+AK28 -> 42402.818
A29: 877 | B29: Vicedirector de Jardín de Infantes | C29: =IF(C28>0,C28,0) -> 0 | I29: 200.03 | L29: =I29*'DATOS REFERENCIALES'!$C$4 -> 1285.3928 | N29: =LOOKUP(C29,'TABLA ANTIG.'!$A$4:$A$39,'TABLA ANTIG.'!$B$4:$B$39)*(L29+M29) -> 0 | O29: =(L29+M29)*0.1 -> 128.53928 | T29: =K29+L29+M29+N29+O29+P29+Q29+R29 -> 1413.9321 | U29: =$T29*11% -> 155.53253 | V29: =$T29*3% -> 42.417962 | W29: =$T29*3% -> 42.417962 | X29: =$T29*2% -> 28.278641 | Y29: =$T29*4.5% -> 63.626943 | Z29: =SUM(U29:Y29) -> 332.27403 | AA29: =T29-Z29 -> 1081.658 | AD29: =SUM(AA29:AC29) -> 1081.658
A30: 838 | B30: Maestro Secretario | C30: 0 | G30: 2359 | H30: =SUM(G30:G30) -> 2359 | K30: =H30*'DATOS REFERENCIALES'!$C$4 -> 15158.934 | N30: =LOOKUP(C30,'TABLA ANTIG.'!$A$4:$A$39,'TABLA ANTIG.'!$B$4:$B$39)*(K30+L30+M30) -> 0 | O30: =(K30)*0.1 -> 1515.8934 | P30: ='DATOS REFERENCIALES'!$D$8 -> 8550 | Q30: =LOOKUP(C30,'TABLA ANTIG.'!$A$4:$A$39,'TABLA ANTIG.'!$B$4:$B$39)*(P30) -> 0 | R30: 0 | S30: ='DATOS REFERENCIALES'!$D$14 -> 0 | T30: =K30+L30+M30+N30+O30+P30+Q30+R30+S30 -> 25224.827 | U30: =$T30*11% -> 2774.731 | V30: =$T30*3% -> 756.74482 | W30: =$T30*3% -> 756.74482 | X30: =$T30*2% -> 504.49655 | Y30: =$T30*4.5% -> 1135.1172 | Z30: =SUM(U30:Y30) -> 5927.8344 | AA30: =T30-Z30 -> 19296.993 | AB30: ='DATOS REFERENCIALES'!$D$10 -> 3040 | AC30: =IF((IF(H30>2042,('DATOS REFERENCIALES'!$D$9-(T30-U30-V30-W30-X30-Y30+AB30)+(S30-S30*0.235)),(('DATOS REFERENCIALES'!$D$9/2043)*H30)-(K30+N30+O30+P30+Q30+R30-U30-V30-W30-X30-Y30+AB30)))<0,0,IF(H30>2042,(('DATOS REFERENCIALES'!$D$9)-(T30-U30-V30-W30-X30-Y30+AB30)+(S30-S30*0.235)),(('DATOS REFERENCIALES'!$D$9/2043)*H30)-(K30+N30+O30+P30+Q30+R30-U30-V30-W30-X30-Y30+AB30))) -> 11963.007 | AD30: =SUM(AA30:AC30) -> 34300 | AE30: ='DATOS REFERENCIALES'!$D$13 -> 2420 | AF30: =IF($H30>2240,'DATOS REFERENCIALES'!D17,'DATOS REFERENCIALES'!D17/2240*$H30) -> 3000 | AG30: ='DATOS REFERENCIALES'!$D$12 -> 420 | AH30: =SUM(AD30:AG30)+SUM(AD31:AG31) -> 41096.745 | AI30: ='DATOS REFERENCIALES'!D16 -> 1544 | AJ30: =AI30*$AJ$8 -> 362.84 | AK30: =AI30-AJ30 -> 1181.16 | AL30: =AH30+AK30 -> 42277.905
A31: 838 | B31: Maestro Secretario | C31: =IF(C30>0,C30,0) -> 0 | I31: 176.93 | L31: =I31*'DATOS REFERENCIALES'!$C$4 -> 1136.9522 | N31: =LOOKUP(C31,'TABLA ANTIG.'!$A$4:$A$39,'TABLA ANTIG.'!$B$4:$B$39)*(K31+L31+M31) -> 0 | O31: =(L31+M31)*0.1 -> 113.69522 | T31: =K31+L31+M31+N31+O31+P31+Q31+R31 -> 1250.6474 | U31: =$T31*11% -> 137.57121 | V31: =$T31*3% -> 37.519422 | W31: =$T31*3% -> 37.519422 | X31: =$T31*2% -> 25.012948 | Y31: =$T31*4.5% -> 56.279133 | Z31: =SUM(U31:Y31) -> 293.90214 | AA31: =T31-Z31 -> 956.74526 | AD31: =SUM(AA31:AC31) -> 956.74526
A32: 906 | B32: Maestro Jardinera/Sección | C32: 0 | G32: 2240 | H32: =SUM(G32:G32) -> 2240 | K32: =H32*'DATOS REFERENCIALES'!$C$4 -> 14394.24 | N32: =LOOKUP(C32,'TABLA ANTIG.'!$A$4:$A$39,'TABLA ANTIG.'!$B$4:$B$39)*(K32+L32+M32) -> 0 | O32: =(K32+L32+M32)*0.1 -> 1439.424 | P32: ='DATOS REFERENCIALES'!$D$8 -> 8550 | Q32: =LOOKUP(C32,'TABLA ANTIG.'!$A$4:$A$39,'TABLA ANTIG.'!$B$4:$B$39)*(P32) -> 0 | R32: 0 | S32: ='DATOS REFERENCIALES'!$D$14 -> 0 | T32: =K32+L32+M32+N32+O32+P32+Q32+R32+S32 -> 24383.664 | U32: =$T32*11% -> 2682.203 | V32: =$T32*3% -> 731.50992 | W32: =$T32*3% -> 731.50992 | X32: =$T32*2% -> 487.67328 | Y32: =$T32*4.5% -> 1097.2649 | Z32: =SUM(U32:Y32) -> 5730.161 | AA32: =T32-Z32 -> 18653.503 | AB32: ='DATOS REFERENCIALES'!$D$10 -> 3040 | AC32: =IF((IF(H32>2042,('DATOS REFERENCIALES'!$D$9-(T32-U32-V32-W32-X32-Y32+AB32)+(S32-S32*0.235)),(('DATOS REFERENCIALES'!$D$9/2043)*H32)-(K32+N32+O32+P32+Q32+R32-U32-V32-W32-X32-Y32+AB32)))<0,0,IF(H32>2042,(('DATOS REFERENCIALES'!$D$9)-(T32-U32-V32-W32-X32-Y32+AB32)+(S32-S32*0.235)),(('DATOS REFERENCIALES'!$D$9/2043)*H32)-(K32+N32+O32+P32+Q32+R32-U32-V32-W32-X32-Y32+AB32))) -> 12606.497 | AD32: =SUM(AA32:AC32) -> 34300 | AE32: ='DATOS REFERENCIALES'!$D$13 -> 2420 | AF32: =IF($H32>2240,'DATOS REFERENCIALES'!D17,'DATOS REFERENCIALES'!D17/2240*$H32) -> 3000 | AG32: ='DATOS REFERENCIALES'!$D$12 -> 420 | AH32: =SUM(AD32:AG32) -> 40140 | AI32: ='DATOS REFERENCIALES'!D16 -> 1544 | AJ32: =AI32*$AJ$8 -> 362.84 | AK32: =AI32-AJ32 -> 1181.16 | AL32: =AH32+AK32 -> 41321.16
A33: 566 | B33: Hora cátedra Maestro Especial | C33: 0 | D33: 1 | G33: 56 | H33: =SUM(G33:G33) -> 56 | K33: =(H33*'DATOS REFERENCIALES'!$C$4)*D33 -> 359.856 | N33: =LOOKUP(C33,'TABLA ANTIG.'!$A$4:$A$39,'TABLA ANTIG.'!$B$4:$B$39)*(K33+L33+M33) -> 0 | O33: =(K33+L33+M33)*0.1 -> 35.9856 | P33: =IF(D33>48,'DATOS REFERENCIALES'!$D$8+('DATOS REFERENCIALES'!$F$8*10),IF(D33<39,'DATOS REFERENCIALES'!$E$8*D33,((D33-'DATOS REFERENCIALES'!$I$8)*'DATOS REFERENCIALES'!$F$8)+'DATOS REFERENCIALES'!$D$8)) -> 225 | Q33: =LOOKUP(C33,'TABLA ANTIG.'!$A$4:$A$39,'TABLA ANTIG.'!$B$4:$B$39)*(P33) -> 0 | R33: 0 | S33: =IF(D33>29.99,'DATOS REFERENCIALES'!$D$14,'DATOS REFERENCIALES'!$E$14*D33) -> 0 | T33: =K33+L33+M33+N33+O33+P33+Q33+R33+S33 -> 620.8416 | U33: =$T33*11% -> 68.292576 | V33: =$T33*3% -> 18.625248 | W33: =$T33*3% -> 18.625248 | X33: =$T33*2% -> 12.416832 | Y33: =$T33*4.5% -> 27.937872 | Z33: =SUM(U33:Y33) -> 145.89778 | AA33: =T33-Z33 -> 474.94382 | AB33: =IF(D33>38,'DATOS REFERENCIALES'!$D$10,'DATOS REFERENCIALES'!$E$10*D33) -> 80 | AC33: =IF(D33>41,IF((('DATOS REFERENCIALES'!$D$9)-((T33-S33)-(Z33-S33*0.235)+(AB33)))<0,0,((('DATOS REFERENCIALES'!$D$9)-((T33-S33)-(Z33-S33*0.235)+(AB33))))),IF((('DATOS REFERENCIALES'!$E$9*D33)-(((T33-S33)-(Z33-S33*0.235)+(AB33))))<0,0,('DATOS REFERENCIALES'!$E$9*D33)-((T33-S33)-(Z33-S33*0.235)+(AB33)))) -> 302.55618 | AD33: =SUM(AA33:AC33) -> 857.5 | AE33: =IF(D33>'DATOS REFERENCIALES'!$I$13,'DATOS REFERENCIALES'!$D$13,('DATOS REFERENCIALES'!$E$13*D33)) -> 80.66666 | AF33: =IF(D33>'DATOS REFERENCIALES'!$I$17,'DATOS REFERENCIALES'!$D$17,('DATOS REFERENCIALES'!$E$17*D33)) -> 75 | AG33: =IF(D33>'DATOS REFERENCIALES'!$I$12,'DATOS REFERENCIALES'!$D$12,'DATOS REFERENCIALES'!$E$12*D33) -> 14 | AH33: =SUM(AD33:AG33) -> 1027.1667 | AI33: =IF(D33>'DATOS REFERENCIALES'!$I$16,'DATOS REFERENCIALES'!$D$16,'DATOS REFERENCIALES'!$E$16*D33) -> 51.47 | AJ33: =AI33*$AJ$8 -> 12.09545 | AK33: =AI33-AJ33 -> 39.37455 | AL33: =AH33+AK33 -> 1066.5412

Sheet Hoja1
A4: 1
A5: 2
A6: 3
A7: 4
A8: 5
A9: 6
A10: 7
A11: 8
A12: 9
A13: 10
A14: 11
A15: 12
... A63: 60

Sheet PRIMARIA 
K3: UTILIZAR LA GRILLA A MODO DE EJEMPLO
A6: Grilla Salarial según Resolución Conjunta Nº 1961 MEFGC-18 desde ENERO 2019
A7: Ejemplos de liquidación salarial para cargos sin antigüedad en la docencia. Al incluir antigüedades, disminuye o desaparece el monto del C.M.G.
A8: Primaria Común - JORNADA SIMPLE | AD8: Primaria Común - JORNADA SIMPLE | AK8: 0.235
A9: Códigos | B9: Denominación del cargo | C9: AÑOS | D9: CANTIDAD DE HORAS | E9: SUBVENCIOANDO | F9: CAJA COMPL. | G9: INDICE del Sueldo básico Unificado | H9: TOTAL DE INDICES | I9: INDICES JERARQUIZACION | J9: PLUS DIFERENCIAL POR ESTABLECIMIENTO | K9: Valor Sueldo Básico Unificado RB | L9: PLUS DIFERENCIAL POR JERARQUIZACIÓN | M9: PLUS DIFERENCIAL POR ESTABLECIMIENTO | N9: Antigüedad Docente | O9: Asig. Estímulo Educ. R/ NB (Presentismo) | P9: DECRETO 243/08 RB | Q9: Antigüedad Decreto 243/08 | R9: Art. 128 Estatuto Docente R/ NB | S9: Adicional Especial Remun no Bonif. | T9: Total Haberes Remunerat. | U9: Retenciones por aportes personales | Z9: Total Aportes | AA9: SUBTOTAL NETO SIN C.M.G. | AB9: MDM | AC9: C.M.G. | AD9: Sub Total Neto a cobrar | AE9: FONID / RESOLUC. Nº 02/04 neto | AF9: Adelanto Cláusula de Seguimiento 2017 | AG9: SUMA FIJA NO REMUN.Y NO BONIF. POR UNICA VEZ | AH9: APORTE NAC. A MAT. DIDÁCTICO 2017 | AI9: TOTAL NETO A COBRAR | AJ9: Adicional Especial Remun no Bonif. | AK9: Total Aportes | AL9: NETO DEL ADICIO-NAL | AM9: NETO A COBRAR
U10: Jubilación 11% | V10: Obra Social 3% | W10: INSSJP - Ley 19032 3% | X10: Ley 24.016 Dec. 137/05 2% | Y10: Caja Compl. 4,5%
A11: 585 | B11: Director | C11: 0 | G11: 1783 | H11: =SUM(G11:G11) -> 1783 | K11: =H11*'DATOS REFERENCIALES'!$C$4 -> 11457.558 | N11: =LOOKUP(C11,'TABLA ANTIG.'!$A$4:$A$39,'TABLA ANTIG.'!$B$4:$B$39)*(K11) -> 0 | O11: =K11*0.1 -> 1145.7558 | P11: ='DATOS REFERENCIALES'!$C$8 -> 4275 | Q11: =LOOKUP(C11,'TABLA ANTIG.'!$A$4:$A$39,'TABLA ANTIG.'!$B$4:$B$39)*(P11) -> 0 | R11: 0 | S11: ='DATOS REFERENCIALES'!$C$14 -> 0 | T11: =K11+N11+O11+P11+Q11+R11+S11 -> 16878.314 | U11: =$T11*11% -> 1856.6145 | V11: =$T11*3% -> 506.34941 | W11: =$T11*3% -> 506.34941 | X11: =$T11*2% -> 337.56628 | Y11: =$T11*4.5% -> 759.52412 | Z11: =SUM(U11:Y11) -> 3966.4037 | AA11: =T11-Z11 -> 12911.91 | AB11: ='DATOS REFERENCIALES'!$C$10 -> 1520 | AC11: =IF((IF(H11>1119,('DATOS REFERENCIALES'!$C$9-(T11-U11-V11-W11-X11-Y11+AB11-L11-L11*0.235-(S11-S11*0.235))),(('DATOS REFERENCIALES'!$C$9/1120)*H11)-(K11+N11+O11+P11+Q11+R11-U11-V11-W11-X11-Y11+AB11-(L11-L11*0.235)-(S11*0.235))))<0,0,IF(H11>1119,(('DATOS REFERENCIALES'!$C$9)-(T11-U11-V11-W11-X11-Y11+AB11-(L11-L11*0.235)-(S11-S11*0.235))),(('DATOS REFERENCIALES'!$C$9/1120)*H11)-(K11+N11+O11+P11+Q11+R11-U11-V11-W11-X11-Y11+AB11-(L11-L11*0.235)-(S11*0.235)))) -> 2718.0899 | AD11: =SUM(AA11:AC11) -> 17150 | AE11: ='DATOS REFERENCIALES'!$C$13 -> 1210 | AG11: =IF($H11>1119,'DATOS REFERENCIALES'!C17,'DATOS REFERENCIALES'!C17/1120*$H11) -> 1500 | AH11: ='DATOS REFERENCIALES'!$C$12 -> 210 | AI11: =SUM(AD11:AH11)+SUM(AD12:AH12) -> 21371.634 | AJ11: ='DATOS REFERENCIALES'!C16 -> 772 | AK11: =AJ11*$AK$8 -> 181.42 | AL11: =AJ11-AK11 -> 590.58 | AM11: =AI11+AL11 -> 21962.214
A12: 585 | B12: Director | C12: =IF(C11>0,C11,0) -> 0 | I12: 133.73 | J12: 1 turno y hasta 14 secciones. | L12: =I12*'DATOS REFERENCIALES'!$C$4 -> 859.34898 | M12: =IF(J12='DATOS REFERENCIALES'!$C$30,K11*'DATOS REFERENCIALES'!$D$30,IF(J12='DATOS REFERENCIALES'!$C$31,('DATOS REFERENCIALES'!$D$31*K11),IF(J12='DATOS REFERENCIALES'!$C$32,('DATOS REFERENCIALES'!$D$32*K11),IF(J12='DATOS REFERENCIALES'!$C$33,('DATOS REFERENCIALES'!$D$33*K11),IF(J12='DATOS REFERENCIALES'!$C$34,('DATOS REFERENCIALES'!$D$34*K11),IF(J12='DATOS REFERENCIALES'!$C$35,('DATOS REFERENCIALES'!$D$35*K11),IF(J12='DATOS REFERENCIALES'!$C$36,('DATOS REFERENCIALES'!$D$36*K11),IF(J12='DATOS REFERENCIALES'!$C$37,('DATOS REFERENCIALES'!$D$37*K11),0)))))))) -> 687.45348 | N12: =LOOKUP(C12,'TABLA ANTIG.'!$A$4:$A$39,'TABLA ANTIG.'!$B$4:$B$39)*(L12+M12) -> 0 | O12: =(L12+M12)*0.1 -> 154.68025 | T12: =L12+M12+N12+O12+P12+Q12+R12 -> 1701.4827 | U12: =$T12*11% -> 187.1631 | V12: =$T12*3% -> 51.044481 | W12: =$T12*3% -> 51.044481 | X12: =$T12*2% -> 34.029654 | Y12: =$T12*4.5% -> 76.566722 | Z12: =SUM(U12:Y12) -> 399.84844 | AA12: =T12-Z12 -> 1301.6343 | AD12: =SUM(AA12:AC12) -> 1301.6343
A13: 840 | B13: Vicedirector | C13: 0 | G13: 1545 | H13: =SUM(G13:G13) -> 1545 | K13: =H13*'DATOS REFERENCIALES'!$C$4 -> 9928.17 | N13: =LOOKUP(C13,'TABLA ANTIG.'!$A$4:$A$39,'TABLA ANTIG.'!$B$4:$B$39)*(K13) -> 0 | O13: =K13*0.1 -> 992.817 | P13: ='DATOS REFERENCIALES'!$C$8 -> 4275 | Q13: =LOOKUP(C13,'TABLA ANTIG.'!$A$4:$A$39,'TABLA ANTIG.'!$B$4:$B$39)*(P13) -> 0 | R13: 0 | S13: ='DATOS REFERENCIALES'!$C$14 -> 0 | T13: =K13+N13+O13+P13+Q13+R13+S13 -> 15195.987 | U13: =$T13*11% -> 1671.5586 | V13: =$T13*3% -> 455.87961 | W13: =$T13*3% -> 455.87961 | X13: =$T13*2% -> 303.91974 | Y13: =$T13*4.5% -> 683.81942 | Z13: =SUM(U13:Y13) -> 3571.0569 | AA13: =T13-Z13 -> 11624.93 | AB13: ='DATOS REFERENCIALES'!$C$10 -> 1520 | AC13: =IF((IF(H13>1119,('DATOS REFERENCIALES'!$C$9-(T13-U13-V13-W13-X13-Y13+AB13-L13-L13*0.235-(S13-S13*0.235))),(('DATOS REFERENCIALES'!$C$9/1120)*H13)-(K13+N13+O13+P13+Q13+R13-U13-V13-W13-X13-Y13+AB13-(L13-L13*0.235)-(S13*0.235))))<0,0,IF(H13>1119,(('DATOS REFERENCIALES'!$C$9)-(T13-U13-V13-W13-X13-Y13+AB13-(L13-L13*0.235)-(S13-S13*0.235))),(('DATOS REFERENCIALES'!$C$9/1120)*H13)-(K13+N13+O13+P13+Q13+R13-U13-V13-W13-X13-Y13+AB13-(L13-L13*0.235)-(S13*0.235)))) -> 4005.0699 | AD13: =SUM(AA13:AC13) -> 17150 | AE13: ='DATOS REFERENCIALES'!$C$13 -> 1210 | AG13: =IF($H13>1119,'DATOS REFERENCIALES'!C17,'DATOS REFERENCIALES'!C17/1120*$H13) -> 1500 | AH13: ='DATOS REFERENCIALES'!$C$12 -> 210 | AI13: =SUM(AD13:AH13)+SUM(AD14:AH14) -> 20696.619 | AJ13: ='DATOS REFERENCIALES'!C16 -> 772 | AK13: =AJ13*$AK$8 -> 181.42 | AL13: =AJ13-AK13 -> 590.58 | AM13: =AI13+AL13 -> 21287.199
A14: 840 | B14: Vicedirector | C14: =IF(C13>0,C13,0) -> 0 | I14: 115.88 | L14: =I14*'DATOS REFERENCIALES'!$C$4 -> 744.64488 | N14: =LOOKUP(C14,'TABLA ANTIG.'!$A$4:$A$39,'TABLA ANTIG.'!$B$4:$B$39)*(L14+M14) -> 0 | O14: =(L14+M14)*0.1 -> 74.464488 | T14: =L14+M14+N14+O14+P14+Q14+R14 -> 819.10937 | U14: =$T14*11% -> 90.10203 | V14: =$T14*3% -> 24.573281 | W14: =$T14*3% -> 24.573281 | X14: =$T14*2% -> 16.382187 | Y14: =$T14*4.5% -> 36.859922 | Z14: =SUM(U14:Y14) -> 192.4907 | AA14: =T14-Z14 -> 626.61867 | AD14: =SUM(AA14:AC14) -> 626.61867
A15: 846 | B15: Maestro Secretario | C15: 0 | G15: 1307 | H15: =SUM(G15:G15) -> 1307 | K15: =H15*'DATOS REFERENCIALES'!$C$4 -> 8398.782 | N15: =LOOKUP(C15,'TABLA ANTIG.'!$A$4:$A$39,'TABLA ANTIG.'!$B$4:$B$39)*(K15) -> 0 | O15: =K15*0.1 -> 839.8782 | P15: ='DATOS REFERENCIALES'!$C$8 -> 4275 | Q15: =LOOKUP(C15,'TABLA ANTIG.'!$A$4:$A$39,'TABLA ANTIG.'!$B$4:$B$39)*(P15) -> 0 | R15: 0 | S15: ='DATOS REFERENCIALES'!$C$14 -> 0 | T15: =K15+N15+O15+P15+Q15+R15+S15 -> 13513.66 | U15: =$T15*11% -> 1486.5026 | V15: =$T15*3% -> 405.40981 | W15: =$T15*3% -> 405.40981 | X15: =$T15*2% -> 270.2732 | Y15: =$T15*4.5% -> 608.11471 | Z15: =SUM(U15:Y15) -> 3175.7101 | AA15: =T15-Z15 -> 10337.95 | AB15: ='DATOS REFERENCIALES'!$C$10 -> 1520 | AC15: =IF((IF(H15>1119,('DATOS REFERENCIALES'!$C$9-(T15-U15-V15-W15-X15-Y15+AB15-L15-L15*0.235-(S15-S15*0.235))),(('DATOS REFERENCIALES'!$C$9/1120)*H15)-(K15+N15+O15+P15+Q15+R15-U15-V15-W15-X15-Y15+AB15-(L15-L15*0.235)-(S15*0.235))))<0,0,IF(H15>1119,(('DATOS REFERENCIALES'!$C$9)-(T15-U15-V15-W15-X15-Y15+AB15-(L15-L15*0.235)-(S15-S15*0.235))),(('DATOS REFERENCIALES'!$C$9/1120)*H15)-(K15+N15+O15+P15+Q15+R15-U15-V15-W15-X15-Y15+AB15-(L15-L15*0.235)-(S15*0.235)))) -> 5292.0499 | AD15: =SUM(AA15:AC15) -> 17150 | AE15: ='DATOS REFERENCIALES'!$C$13 -> 1210 | AG15: =IF($H15>1119,'DATOS REFERENCIALES'!C17,'DATOS REFERENCIALES'!C17/1120*$H15) -> 1500 | AH15: ='DATOS REFERENCIALES'!$C$12 -> 210 | AI15: =SUM(AD15:AH15)+SUM(AD16:AH16) -> 20600.095 | AJ15: ='DATOS REFERENCIALES'!C16 -> 772 | AK15: =AJ15*$AK$8 -> 181.42 | AL15: =AJ15-AK15 -> 590.58 | AM15: =AI15+AL15 -> 21190.675
A16: 846 | B16: Maestro Secretario | C16: =IF(C15>0,C15,0) -> 0 | I16: 98.03 | L16: =I16*'DATOS REFERENCIALES'!$C$4 -> 629.94078 | N16: =LOOKUP(C16,'TABLA ANTIG.'!$A$4:$A$39,'TABLA ANTIG.'!$B$4:$B$39)*(L16+M16) -> 0 | O16: =(L16+M16)*0.1 -> 62.994078 | T16: =L16+M16+N16+O16+P16+Q16+R16 -> 692.93486 | U16: =$T16*11% -> 76.222834 | V16: =$T16*3% -> 20.788046 | W16: =$T16*3% -> 20.788046 | X16: =$T16*2% -> 13.858697 | Y16: =$T16*4.5% -> 31.182069 | Z16: =SUM(U16:Y16) -> 162.83969 | AA16: =T16-Z16 -> 530.09517 | AD16: =SUM(AA16:AC16) -> 530.09517
A17: 847 | B17: Maestro de Apoyo | C17: 0 | G17: 1120 | H17: =SUM(G17:G17) -> 1120 | K17: =H17*'DATOS REFERENCIALES'!$C$4 -> 7197.12 | N17: =LOOKUP(C17,'TABLA ANTIG.'!$A$4:$A$39,'TABLA ANTIG.'!$B$4:$B$39)*(K17) -> 0 | O17: =K17*0.1 -> 719.712 | P17: ='DATOS REFERENCIALES'!$C$8 -> 4275 | Q17: =LOOKUP(C17,'TABLA ANTIG.'!$A$4:$A$39,'TABLA ANTIG.'!$B$4:$B$39)*(P17) -> 0 | R17: 0 | S17: ='DATOS REFERENCIALES'!$C$14 -> 0 | T17: =K17+N17+O17+P17+Q17+R17+S17 -> 12191.832 | U17: =$T17*11% -> 1341.1015 | V17: =$T17*3% -> 365.75496 | W17: =$T17*3% -> 365.75496 | X17: =$T17*2% -> 243.83664 | Y17: =$T17*4.5% -> 548.63244 | Z17: =SUM(U17:Y17) -> 2865.0805 | AA17: =T17-Z17 -> 9326.7515 | AB17: ='DATOS REFERENCIALES'!$C$10 -> 1520 | AC17: =IF((IF(H17>1119,('DATOS REFERENCIALES'!$C$9-(T17-U17-V17-W17-X17-Y17+AB17-L17-L17*0.235-(S17-S17*0.235))),(('DATOS REFERENCIALES'!$C$9/1120)*H17)-(K17+N17+O17+P17+Q17+R17-U17-V17-W17-X17-Y17+AB17-(L17-L17*0.235)-(S17*0.235))))<0,0,IF(H17>1119,(('DATOS REFERENCIALES'!$C$9)-(T17-U17-V17-W17-X17-Y17+AB17-(L17-L17*0.235)-(S17-S17*0.235))),(('DATOS REFERENCIALES'!$C$9/1120)*H17)-(K17+N17+O17+P17+Q17+R17-U17-V17-W17-X17-Y17+AB17-(L17-L17*0.235)-(S17*0.235)))) -> 6303.2485 | AD17: =SUM(AA17:AC17) -> 17150 | AE17: ='DATOS REFERENCIALES'!$C$13 -> 1210 | AG17: =IF($H17>1119,'DATOS REFERENCIALES'!C17,'DATOS REFERENCIALES'!C17/1120*$H17) -> 1500 | AH17: ='DATOS REFERENCIALES'!$C$12 -> 210 | AI17: =SUM(AD17:AH17) -> 20070 | AJ17: ='DATOS REFERENCIALES'!$C$16 -> 772 | AK17: =AJ17*$AK$8 -> 181.42 | AL17: =AJ17-AK17 -> 590.58 | AM17: =AI17+AL17 -> 20660.58
A18: 848 | B18: Maestro de Apoyo para la integración | C18: 0 | G18: 1120 | H18: =SUM(G18:G18) -> 1120 | K18: =H18*'DATOS REFERENCIALES'!$C$4 -> 7197.12 | N18: =LOOKUP(C18,'TABLA ANTIG.'!$A$4:$A$39,'TABLA ANTIG.'!$B$4:$B$39)*(K18) -> 0 | O18: =K18*0.1 -> 719.712 | P18: ='DATOS REFERENCIALES'!$C$8 -> 4275 | Q18: =LOOKUP(C18,'TABLA ANTIG.'!$A$4:$A$39,'TABLA ANTIG.'!$B$4:$B$39)*(P18) -> 0 | R18: 0 | S18: ='DATOS REFERENCIALES'!$C$14 -> 0 | T18: =K18+N18+O18+P18+Q18+R18+S18 -> 12191.832 | U18: =$T18*11% -> 1341.1015 | V18: =$T18*3% -> 365.75496 | W18: =$T18*3% -> 365.75496 | X18: =$T18*2% -> 243.83664 | Y18: =$T18*4.5% -> 548.63244 | Z18: =SUM(U18:Y18) -> 2865.0805 | AA18: =T18-Z18 -> 9326.7515 | AB18: ='DATOS REFERENCIALES'!$C$10 -> 1520 | AC18: =IF((IF(H18>1119,('DATOS REFERENCIALES'!$C$9-(T18-U18-V18-W18-X18-Y18+AB18-L18-L18*0.235-(S18-S18*0.235))),(('DATOS REFERENCIALES'!$C$9/1120)*H18)-(K18+N18+O18+P18+Q18+R18-U18-V18-W18-X18-Y18+AB18-(L18-L18*0.235)-(S18*0.235))))<0,0,IF(H18>1119,(('DATOS REFERENCIALES'!$C$9)-(T18-U18-V18-W18-X18-Y18+AB18-(L18-L18*0.235)-(S18-S18*0.235))),(('DATOS REFERENCIALES'!$C$9/1120)*H18)-(K18+N18+O18+P18+Q18+R18-U18-V18-W18-X18-Y18+AB18-(L18-L18*0.235)-(S18*0.235)))) -> 6303.2485 | AD18: =SUM(AA18:AC18) -> 17150 | AE18: ='DATOS REFERENCIALES'!$C$13 -> 1210 | AG18: =IF($H18>1119,'DATOS REFERENCIALES'!C17,'DATOS REFERENCIALES'!C17/1120*$H18) -> 1500 | AH18: ='DATOS REFERENCIALES'!$C$12 -> 210 | AI18: =SUM(AD18:AH18) -> 20070 | AJ18: ='DATOS REFERENCIALES'!$C$16 -> 772 | AK18: =AJ18*$AK$8 -> 181.42 | AL18: =AJ18-AK18 -> 590.58 | AM18: =AI18+AL18 -> 20660.58
A19: 875 | B19: Maestro Bibliotecario (adultos tmb) | C19: 0 | G19: 1120 | H19: =SUM(G19:G19) -> 1120 | K19: =H19*'DATOS REFERENCIALES'!$C$4 -> 7197.12 | N19: =LOOKUP(C19,'TABLA ANTIG.'!$A$4:$A$39,'TABLA ANTIG.'!$B$4:$B$39)*(K19) -> 0 | O19: =K19*0.1 -> 719.712 | P19: ='DATOS REFERENCIALES'!$C$8 -> 4275 | Q19: =LOOKUP(C19,'TABLA ANTIG.'!$A$4:$A$39,'TABLA ANTIG.'!$B$4:$B$39)*(P19) -> 0 | R19: 0 | S19: ='DATOS REFERENCIALES'!$C$14 -> 0 | T19: =K19+N19+O19+P19+Q19+R19+S19 -> 12191.832 | U19: =$T19*11% -> 1341.1015 | V19: =$T19*3% -> 365.75496 | W19: =$T19*3% -> 365.75496 | X19: =$T19*2% -> 243.83664 | Y19: =$T19*4.5% -> 548.63244 | Z19: =SUM(U19:Y19) -> 2865.0805 | AA19: =T19-Z19 -> 9326.7515 | AB19: ='DATOS REFERENCIALES'!$C$10 -> 1520 | AC19: =IF((IF(H19>1119,('DATOS REFERENCIALES'!$C$9-(T19-U19-V19-W19-X19-Y19+AB19-L19-L19*0.235-(S19-S19*0.235))),(('DATOS REFERENCIALES'!$C$9/1120)*H19)-(K19+N19+O19+P19+Q19+R19-U19-V19-W19-X19-Y19+AB19-(L19-L19*0.235)-(S19*0.235))))<0,0,IF(H19>1119,(('DATOS REFERENCIALES'!$C$9)-(T19-U19-V19-W19-X19-Y19+AB19-(L19-L19*0.235)-(S19-S19*0.235))),(('DATOS REFERENCIALES'!$C$9/1120)*H19)-(K19+N19+O19+P19+Q19+R19-U19-V19-W19-X19-Y19+AB19-(L19-L19*0.235)-(S19*0.235)))) -> 6303.2485 | AD19: =SUM(AA19:AC19) -> 17150 | AE19: ='DATOS REFERENCIALES'!$C$13 -> 1210 | AG19: =IF($H19>1119,'DATOS REFERENCIALES'!C17,'DATOS REFERENCIALES'!C17/1120*$H19) -> 1500 | AH19: ='DATOS REFERENCIALES'!$C$12 -> 210 | AI19: =SUM(AD19:AH19) -> 20070 | AJ19: ='DATOS REFERENCIALES'!$C$16 -> 772 | AK19: =AJ19*$AK$8 -> 181.42 | AL19: =AJ19-AK19 -> 590.58 | AM19: =AI19+AL19 -> 20660.58
A20: 845 | B20: Maestro de Grado | C20: 0 | G20: 1120 | H20: =SUM(G20:G20) -> 1120 | K20: =H20*'DATOS REFERENCIALES'!$C$4 -> 7197.12 | N20: =LOOKUP(C20,'TABLA ANTIG.'!$A$4:$A$39,'TABLA ANTIG.'!$B$4:$B$39)*(K20) -> 0 | O20: =K20*0.1 -> 719.712 | P20: ='DATOS REFERENCIALES'!$C$8 -> 4275 | Q20: =LOOKUP(C20,'TABLA ANTIG.'!$A$4:$A$39,'TABLA ANTIG.'!$B$4:$B$39)*(P20) -> 0 | R20: 0 | S20: ='DATOS REFERENCIALES'!$C$14 -> 0 | T20: =K20+N20+O20+P20+Q20+R20+S20 -> 12191.832 | U20: =$T20*11% -> 1341.1015 | V20: =$T20*3% -> 365.75496 | W20: =$T20*3% -> 365.75496 | X20: =$T20*2% -> 243.83664 | Y20: =$T20*4.5% -> 548.63244 | Z20: =SUM(U20:Y20) -> 2865.0805 | AA20: =T20-Z20 -> 9326.7515 | AB20: ='DATOS REFERENCIALES'!$C$10 -> 1520 | AC20: =IF((IF(H20>1119,('DATOS REFERENCIALES'!$C$9-(T20-U20-V20-W20-X20-Y20+AB20-L20-L20*0.235-(S20-S20*0.235))),(('DATOS REFERENCIALES'!$C$9/1120)*H20)-(K20+N20+O20+P20+Q20+R20-U20-V20-W20-X20-Y20+AB20-(L20-L20*0.235)-(S20*0.235))))<0,0,IF(H20>1119,(('DATOS REFERENCIALES'!$C$9)-(T20-U20-V20-W20-X20-Y20+AB20-(L20-L20*0.235)-(S20-S20*0.235))),(('DATOS REFERENCIALES'!$C$9/1120)*H20)-(K20+N20+O20+P20+Q20+R20-U20-V20-W20-X20-Y20+AB20-(L20-L20*0.235)-(S20*0.235)))) -> 6303.2485 | AD20: =SUM(AA20:AC20) -> 17150 | AE20: ='DATOS REFERENCIALES'!$C$13 -> 1210 | AG20: =IF($H20>1119,'DATOS REFERENCIALES'!C17,'DATOS REFERENCIALES'!C17/1120*$H20) -> 1500 | AH20: ='DATOS REFERENCIALES'!$C$12 -> 210 | AI20: =SUM(AD20:AH20) -> 20070 | AJ20: ='DATOS REFERENCIALES'!$C$16 -> 772 | AK20: =AJ20*$AK$8 -> 181.42 | AL20: =AJ20-AK20 -> 590.58 | AM20: =AI20+AL20 -> 20660.58
A21: 5566 | B21: Hora cátedra Maestro Especial | C21: 0 | D21: 1 | G21: 56 | H21: =SUM(G21:G21) -> 56 | K21: =(H21*'DATOS REFERENCIALES'!$C$4)*D21 -> 359.856 | N21: =LOOKUP(C21,'TABLA ANTIG.'!$A$4:$A$39,'TABLA ANTIG.'!$B$4:$B$39)*(K21) -> 0 | O21: =K21*0.1 -> 35.9856 | P21: =IF(D21>48,'DATOS REFERENCIALES'!D8+('DATOS REFERENCIALES'!F8*10),IF(D21<39,'DATOS REFERENCIALES'!$E$8*D21,((D21-'DATOS REFERENCIALES'!$I$8)*'DATOS REFERENCIALES'!$F$8)+'DATOS REFERENCIALES'!D8)) -> 225 | Q21: =LOOKUP(C21,'TABLA ANTIG.'!$A$4:$A$39,'TABLA ANTIG.'!$B$4:$B$39)*(P21) -> 0 | R21: 0 | S21: =IF(D21>29.99,'DATOS REFERENCIALES'!$D$14,'DATOS REFERENCIALES'!$E$14*D21) -> 0 | T21: =K21+N21+O21+P21+Q21+R21+S21 -> 620.8416 | U21: =$T21*11% -> 68.292576 | V21: =$T21*3% -> 18.625248 | W21: =$T21*3% -> 18.625248 | X21: =$T21*2% -> 12.416832 | Y21: =$T21*4.5% -> 27.937872 | Z21: =SUM(U21:Y21) -> 145.89778 | AA21: =T21-Z21 -> 474.94382 | AB21: =IF(D21>38,'DATOS REFERENCIALES'!$D$10,'DATOS REFERENCIALES'!$E$10*D21) -> 80 | AC21: =IF(D21>41,IF((('DATOS REFERENCIALES'!$D$9)-((T21-S21)-(Z21-S21*0.235)+(AB21)))<0,0,((('DATOS REFERENCIALES'!$D$9)-((T21-S21)-(Z21-S21*0.235)+(AB21))))),IF((('DATOS REFERENCIALES'!$E$9*D21)-(((T21-S21)-(Z21-S21*0.235)+(AB21))))<0,0,('DATOS REFERENCIALES'!$E$9*D21)-((T21-S21)-(Z21-S21*0.235)+(AB21)))) -> 302.55618 | AD21: =SUM(AA21:AC21) -> 857.5 | AE21: =IF(D21>30,'DATOS REFERENCIALES'!$D$13,('DATOS REFERENCIALES'!$E$13*D21)) -> 80.66666 | AG21: =IF(D21>'DATOS REFERENCIALES'!$I$17,'DATOS REFERENCIALES'!$D$17,('DATOS REFERENCIALES'!$E$17*D21)) -> 75 | AH21: =IF(D21>'DATOS REFERENCIALES'!$I$12,'DATOS REFERENCIALES'!$D$12,'DATOS REFERENCIALES'!$E$12*D21) -> 14 | AI21: =SUM(AD21:AH21) -> 1027.1667 | AJ21: =IF(D21>'DATOS REFERENCIALES'!$I$16,'DATOS REFERENCIALES'!$D$16,'DATOS REFERENCIALES'!$E$16*D21) -> 51.47 | AK21: =AJ21*$AK$8 -> 12.09545 | AL21: =AJ21-AK21 -> 39.37455 | AM21: =AI21+AL21 -> 1066.5412
A23: Primaria Común - JORNADA COMPLETA | AD23: Primaria Común - JORNADA COMPLETA
A24: Códigos | B24: Denominación del cargo | C24: AÑOS | D24: CANTIDAD DE HORAS | E24: SUBVENCIOANDO | F24: CAJA COMPL. | G24: INDICE del Sueldo básico Unificado | H24: TOTAL DE INDICES | I24: INDICES JERARQUIZACION | J24: PLUS DIFERENCIAL POR ESTABLECIMIENTO | K24: Valor Sueldo Básico Unificado RB | L24: PLUS DIFERENCIAL POR JERARQUIZACIÓN | M24: PLUS DIFERENCIAL POR ESTABLECIMIENTO | N24: Antigüedad Docente | O24: Asig. Estímulo Educ. R/ NB (Presentismo) | P24: DECRETO 243/08 RB | Q24: Antigüedad Decreto 243/08 | R24: Art. 128 Estatuto Docente R/ NB | S24: Adicional Especial Remun no Bonif. | T24: Total Haberes Remunerat. | U24: Retenciones por aportes personales | Z24: Total Aportes | AA24: SUBTOTAL NETO SIN C.M.G. | AB24: MDM | AC24: C.M.G. | AD24: Sub Total Neto a cobrar | AE24: FONID / RESOLUC. Nº 02/04 neto | AF24: Adelanto Cláusula de Seguimiento 2017 | AG24: SUMA FIJA NO REMUN.Y NO BONIF. POR UNICA VEZ | AH24: APORTE NAC. A MAT. DIDÁCTICO 2017 de 08/17 a 12/17 | AI24: TOTAL NETO A COBRAR | AJ24: Adicional Especial Remun no Bonif. | AK24: Total Aportes | AL24: NETO DEL ADICIO-NAL | AM24: NETO A COBRAR
U25: Jubilación 11% | V25: Obra Social 3% | W25: INSSJP - Ley 19032 3% | X25: Ley 24.016 Dec. 137/05 2% | Y25: Caja Compl. 4,5%
A26: 834 | B26: Director | C26: 0 | G26: 3125 | H26: =SUM(G26:G26) -> 3125 | K26: =H26*'DATOS REFERENCIALES'!$C$4 -> 20081.25 | N26: =LOOKUP(C26,'TABLA ANTIG.'!$A$4:$A$39,'TABLA ANTIG.'!$B$4:$B$39)*(K26) -> 0 | O26: =K26*0.1 -> 2008.125 | P26: ='DATOS REFERENCIALES'!$D$8 -> 8550 | Q26: =LOOKUP(C26,'TABLA ANTIG.'!$A$4:$A$39,'TABLA ANTIG.'!$B$4:$B$39)*(P26) -> 0 | R26: 0 | S26: ='DATOS REFERENCIALES'!$D$14 -> 0 | T26: =K26+N26+O26+P26+Q26+R26+S26 -> 30639.375 | U26: =$T26*11% -> 3370.3313 | V26: =$T26*3% -> 919.18125 | W26: =$T26*3% -> 919.18125 | X26: =$T26*2% -> 612.7875 | Y26: =$T26*4.5% -> 1378.7719 | Z26: =SUM(U26:Y26) -> 7200.2531 | AA26: =T26-Z26 -> 23439.122 | AB26: ='DATOS REFERENCIALES'!$D$10 -> 3040 | AC26: =IF((IF(H26>2042,('DATOS REFERENCIALES'!$D$9-(T26-U26-V26-W26-X26-Y26+AB26)+(S26-S26*0.235)),(('DATOS REFERENCIALES'!$D$9/2043)*H26)-(K26+N26+O26+P26+Q26+R26-U26-V26-W26-X26-Y26+AB26)))<0,0,IF(H26>2042,(('DATOS REFERENCIALES'!$D$9)-(T26-U26-V26-W26-X26-Y26+AB26)+(S26-S26*0.235)),(('DATOS REFERENCIALES'!$D$9/2043)*H26)-(K26+N26+O26+P26+Q26+R26-U26-V26-W26-X26-Y26+AB26))) -> 7820.8781 | AD26: =SUM(AA26:AC26) -> 34300 | AE26: ='DATOS REFERENCIALES'!$D$13 -> 2420 | AG26: =IF($H26>2043,'DATOS REFERENCIALES'!D17,'DATOS REFERENCIALES'!D17/2043*$H26) -> 3000 | AH26: ='DATOS REFERENCIALES'!$D$12 -> 420 | AI26: =SUM(AD26:AH26)+SUM(AD27:AH27) -> 42421.307 | AJ26: ='DATOS REFERENCIALES'!$D$16 -> 1544 | AK26: =AJ26*$AK$8 -> 362.84 | AL26: =AJ26-AK26 -> 1181.16 | AM26: =AI26+AL26 -> 43602.467
A27: 834 | B27: Director | C27: =IF(C26>0,C26,0) -> 0 | I27: 234.38 | J27: 1 turno y hasta 14 secciones. | L27: =I27*'DATOS REFERENCIALES'!$C$4 -> 1506.1259 | M27: =IF(J27='DATOS REFERENCIALES'!$C$30,K26*'DATOS REFERENCIALES'!$D$30,IF(J27='DATOS REFERENCIALES'!$C$31,('DATOS REFERENCIALES'!$D$31*K26),IF(J27='DATOS REFERENCIALES'!$C$32,('DATOS REFERENCIALES'!$D$32*K26),IF(J27='DATOS REFERENCIALES'!$C$33,('DATOS REFERENCIALES'!$D$33*K26),IF(J27='DATOS REFERENCIALES'!$C$34,('DATOS REFERENCIALES'!$D$34*K26),IF(J27='DATOS REFERENCIALES'!$C$35,('DATOS REFERENCIALES'!$D$35*K26),IF(J27='DATOS REFERENCIALES'!$C$36,('DATOS REFERENCIALES'!$D$36*K26),IF(J27='DATOS REFERENCIALES'!$C$37,('DATOS REFERENCIALES'!$D$37*K26),0)))))))) -> 1204.875 | N27: =LOOKUP(C27,'TABLA ANTIG.'!$A$4:$A$39,'TABLA ANTIG.'!$B$4:$B$39)*(L27+M27) -> 0 | O27: =(L27+M27)*0.1 -> 271.10009 | T27: =L27+M27+N27+O27+P27+Q27+R27 -> 2982.101 | U27: =$T27*11% -> 328.03111 | V27: =$T27*3% -> 89.463029 | W27: =$T27*3% -> 89.463029 | X27: =$T27*2% -> 59.642019 | Y27: =$T27*4.5% -> 134.19454 | Z27: =SUM(U27:Y27) -> 700.79373 | AA27: =T27-Z27 -> 2281.3072 | AD27: =SUM(AA27:AC27) -> 2281.3072
A28: 870 | B28: Vicedirector | C28: 0 | G28: 2667 | H28: =SUM(G28:G28) -> 2667 | K28: =H28*'DATOS REFERENCIALES'!$C$4 -> 17138.142 | N28: =LOOKUP(C28,'TABLA ANTIG.'!$A$4:$A$39,'TABLA ANTIG.'!$B$4:$B$39)*(K28) -> 0 | O28: =K28*0.1 -> 1713.8142 | P28: ='DATOS REFERENCIALES'!$D$8 -> 8550 | Q28: =LOOKUP(C28,'TABLA ANTIG.'!$A$4:$A$39,'TABLA ANTIG.'!$B$4:$B$39)*(P28) -> 0 | R28: 0 | S28: ='DATOS REFERENCIALES'!$D$14 -> 0 | T28: =K28+N28+O28+P28+Q28+R28+S28 -> 27401.956 | U28: =$T28*11% -> 3014.2152 | V28: =$T28*3% -> 822.05869 | W28: =$T28*3% -> 822.05869 | X28: =$T28*2% -> 548.03912 | Y28: =$T28*4.5% -> 1233.088 | Z28: =SUM(U28:Y28) -> 6439.4597 | AA28: =T28-Z28 -> 20962.496 | AB28: ='DATOS REFERENCIALES'!$D$10 -> 3040 | AC28: =IF((IF(H28>2042,('DATOS REFERENCIALES'!$D$9-(T28-U28-V28-W28-X28-Y28+AB28)+(S28-S28*0.235)),(('DATOS REFERENCIALES'!$D$9/2043)*H28)-(K28+N28+O28+P28+Q28+R28-U28-V28-W28-X28-Y28+AB28)))<0,0,IF(H28>2042,(('DATOS REFERENCIALES'!$D$9)-(T28-U28-V28-W28-X28-Y28+AB28)+(S28-S28*0.235)),(('DATOS REFERENCIALES'!$D$9/2043)*H28)-(K28+N28+O28+P28+Q28+R28-U28-V28-W28-X28-Y28+AB28))) -> 10297.504 | AD28: =SUM(AA28:AC28) -> 34300 | AE28: ='DATOS REFERENCIALES'!$D$13 -> 2420 | AG28: =IF($H28>2043,'DATOS REFERENCIALES'!D17,'DATOS REFERENCIALES'!D17/2043*$H28) -> 3000 | AH28: ='DATOS REFERENCIALES'!$D$12 -> 420 | AI28: =SUM(AD28:AH28)+SUM(AD29:AH29) -> 41221.658 | AJ28: ='DATOS REFERENCIALES'!$D$16 -> 1544 | AK28: =AJ28*$AK$8 -> 362.84 | AL28: =AJ28-AK28 -> 1181.16 | AM28: =AI28+AL28 -> 42402.818
A29: 870 | B29: Vicedirector | C29: =IF(C28>0,C28,0) -> 0 | I29: 200.03 | L29: =I29*'DATOS REFERENCIALES'!$C$4 -> 1285.3928 | N29: =LOOKUP(C29,'TABLA ANTIG.'!$A$4:$A$39,'TABLA ANTIG.'!$B$4:$B$39)*(L29+M29) -> 0 | O29: =(L29+M29)*0.1 -> 128.53928 | T29: =L29+M29+N29+O29+P29+Q29+R29 -> 1413.9321 | U29: =$T29*11% -> 155.53253 | V29: =$T29*3% -> 42.417962 | W29: =$T29*3% -> 42.417962 | X29: =$T29*2% -> 28.278641 | Y29: =$T29*4.5% -> 63.626943 | Z29: =SUM(U29:Y29) -> 332.27403 | AA29: =T29-Z29 -> 1081.658 | AD29: =SUM(AA29:AC29) -> 1081.658
A30: 849 | B30: Maestro Secretario | C30: 0 | G30: 2359 | H30: =SUM(G30:G30) -> 2359 | K30: =H30*'DATOS REFERENCIALES'!$C$4 -> 15158.934 | N30: =LOOKUP(C30,'TABLA ANTIG.'!$A$4:$A$39,'TABLA ANTIG.'!$B$4:$B$39)*(K30) -> 0 | O30: =K30*0.1 -> 1515.8934 | P30: ='DATOS REFERENCIALES'!$D$8 -> 8550 | Q30: =LOOKUP(C30,'TABLA ANTIG.'!$A$4:$A$39,'TABLA ANTIG.'!$B$4:$B$39)*(P30) -> 0 | R30: 0 | S30: ='DATOS REFERENCIALES'!$D$14 -> 0 | T30: =K30+N30+O30+P30+Q30+R30+S30 -> 25224.827 | U30: =$T30*11% -> 2774.731 | V30: =$T30*3% -> 756.74482 | W30: =$T30*3% -> 756.74482 | X30: =$T30*2% -> 504.49655 | Y30: =$T30*4.5% -> 1135.1172 | Z30: =SUM(U30:Y30) -> 5927.8344 | AA30: =T30-Z30 -> 19296.993 | AB30: ='DATOS REFERENCIALES'!$D$10 -> 3040 | AC30: =IF((IF(H30>2042,('DATOS REFERENCIALES'!$D$9-(T30-U30-V30-W30-X30-Y30+AB30)+(S30-S30*0.235)),(('DATOS REFERENCIALES'!$D$9/2043)*H30)-(K30+N30+O30+P30+Q30+R30-U30-V30-W30-X30-Y30+AB30)))<0,0,IF(H30>2042,(('DATOS REFERENCIALES'!$D$9)-(T30-U30-V30-W30-X30-Y30+AB30)+(S30-S30*0.235)),(('DATOS REFERENCIALES'!$D$9/2043)*H30)-(K30+N30+O30+P30+Q30+R30-U30-V30-W30-X30-Y30+AB30))) -> 11963.007 | AD30: =SUM(AA30:AC30) -> 34300 | AE30: ='DATOS REFERENCIALES'!$D$13 -> 2420 | AG30: =IF($H30>2043,'DATOS REFERENCIALES'!D17,'DATOS REFERENCIALES'!D17/2043*$H30) -> 3000 | AH30: ='DATOS REFERENCIALES'!$D$12 -> 420 | AI30: =SUM(AD30:AH30)+SUM(AD31:AH31) -> 41096.745 | AJ30: ='DATOS REFERENCIALES'!$D$16 -> 1544 | AK30: =AJ30*$AK$8 -> 362.84 | AL30: =AJ30-AK30 -> 1181.16 | AM30: =AI30+AL30 -> 42277.905
A31: 849 | B31: Maestro Secretario | C31: =IF(C30>0,C30,0) -> 0 | I31: 176.93 | L31: =I31*'DATOS REFERENCIALES'!$C$4 -> 1136.9522 | N31: =LOOKUP(C31,'TABLA ANTIG.'!$A$4:$A$39,'TABLA ANTIG.'!$B$4:$B$39)*(L31+M31) -> 0 | O31: =(L31+M31)*0.1 -> 113.69522 | T31: =L31+M31+N31+O31+P31+Q31+R31 -> 1250.6474 | U31: =$T31*11% -> 137.57121 | V31: =$T31*3% -> 37.519422 | W31: =$T31*3% -> 37.519422 | X31: =$T31*2% -> 25.012948 | Y31: =$T31*4.5% -> 56.279133 | Z31: =SUM(U31:Y31) -> 293.90214 | AA31: =T31-Z31 -> 956.74526 | AD31: =SUM(AA31:AC31) -> 956.74526
A32: 855 | B32: Maestro de Grado | C32: 0 | G32: 2043 | H32: =SUM(G32:G32) -> 2043 | K32: =H32*'DATOS REFERENCIALES'!$C$4 -> 13128.318 | N32: =LOOKUP(C32,'TABLA ANTIG.'!$A$4:$A$39,'TABLA ANTIG.'!$B$4:$B$39)*(K32) -> 0 | O32: =K32*0.1 -> 1312.8318 | P32: ='DATOS REFERENCIALES'!$D$8 -> 8550 | Q32: =LOOKUP(C32,'TABLA ANTIG.'!$A$4:$A$39,'TABLA ANTIG.'!$B$4:$B$39)*(P32) -> 0 | R32: 0 | S32: ='DATOS REFERENCIALES'!$D$14 -> 0 | T32: =K32+N32+O32+P32+Q32+R32+S32 -> 22991.15 | U32: =$T32*11% -> 2529.0265 | V32: =$T32*3% -> 689.73449 | W32: =$T32*3% -> 689.73449 | X32: =$T32*2% -> 459.823 | Y32: =$T32*4.5% -> 1034.6017 | Z32: =SUM(U32:Y32) -> 5402.9202 | AA32: =T32-Z32 -> 17588.23 | AB32: ='DATOS REFERENCIALES'!$D$10 -> 3040 | AC32: =IF((IF(H32>2042,('DATOS REFERENCIALES'!$D$9-(T32-U32-V32-W32-X32-Y32+AB32)+(S32-S32*0.235)),(('DATOS REFERENCIALES'!$D$9/2043)*H32)-(K32+N32+O32+P32+Q32+R32-U32-V32-W32-X32-Y32+AB32)))<0,0,IF(H32>2042,(('DATOS REFERENCIALES'!$D$9)-(T32-U32-V32-W32-X32-Y32+AB32)+(S32-S32*0.235)),(('DATOS REFERENCIALES'!$D$9/2043)*H32)-(K32+N32+O32+P32+Q32+R32-U32-V32-W32-X32-Y32+AB32))) -> 13671.77 | AD32: =SUM(AA32:AC32) -> 34300 | AE32: ='DATOS REFERENCIALES'!$D$13 -> 2420 | AG32: =IF($H32>2043,'DATOS REFERENCIALES'!D17,'DATOS REFERENCIALES'!D17/2043*$H32) -> 3000 | AH32: ='DATOS REFERENCIALES'!$D$12 -> 420 | AI32: =SUM(AD32:AH32) -> 40140 | AJ32: ='DATOS REFERENCIALES'!D16 -> 1544 | AK32: =AJ32*$AK$8 -> 362.84 | AL32: =AJ32-AK32 -> 1181.16 | AM32: =AI32+AL32 -> 41321.16
A33: 856 | B33: Maestro de Apoyo | C33: 0 | G33: 2043 | H33: =SUM(G33:G33) -> 2043 | K33: =H33*'DATOS REFERENCIALES'!$C$4 -> 13128.318 | N33: =LOOKUP(C33,'TABLA ANTIG.'!$A$4:$A$39,'TABLA ANTIG.'!$B$4:$B$39)*(K33) -> 0 | O33: =K33*0.1 -> 1312.8318 | P33: ='DATOS REFERENCIALES'!$D$8 -> 8550 | Q33: =LOOKUP(C33,'TABLA ANTIG.'!$A$4:$A$39,'TABLA ANTIG.'!$B$4:$B$39)*(P33) -> 0 | R33: 0 | S33: ='DATOS REFERENCIALES'!$D$14 -> 0 | T33: =K33+N33+O33+P33+Q33+R33+S33 -> 22991.15 | U33: =$T33*11% -> 2529.0265 | V33: =$T33*3% -> 689.73449 | W33: =$T33*3% -> 689.73449 | X33: =$T33*2% -> 459.823 | Y33: =$T33*4.5% -> 1034.6017 | Z33: =SUM(U33:Y33) -> 5402.9202 | AA33: =T33-Z33 -> 17588.23 | AB33: ='DATOS REFERENCIALES'!$D$10 -> 3040 | AC33: =IF((IF(H33>2042,('DATOS REFERENCIALES'!$D$9-(T33-U33-V33-W33-X33-Y33+AB33)+(S33-S33*0.235)),(('DATOS REFERENCIALES'!$D$9/2043)*H33)-(K33+N33+O33+P33+Q33+R33-U33-V33-W33-X33-Y33+AB33)))<0,0,IF(H33>2042,(('DATOS REFERENCIALES'!$D$9)-(T33-U33-V33-W33-X33-Y33+AB33)+(S33-S33*0.235)),(('DATOS REFERENCIALES'!$D$9/2043)*H33)-(K33+N33+O33+P33+Q33+R33-U33-V33-W33-X33-Y33+AB33))) -> 13671.77 | AD33: =SUM(AA33:AC33) -> 34300 | AE33: ='DATOS REFERENCIALES'!$D$13 -> 2420 | AG33: =IF($H32>2043,'DATOS REFERENCIALES'!D17,'DATOS REFERENCIALES'!D17/2043*$H32) -> 3000 | AH33: ='DATOS REFERENCIALES'!$D$12 -> 420 | AI33: =SUM(AD33:AH33) -> 40140 | AJ33: ='DATOS REFERENCIALES'!D16 -> 1544 | AK33: =AJ33*$AK$8 -> 362.84 | AL33: =AJ33-AK33 -> 1181.16 | AM33: =AI33+AL33 -> 41321.16
A34: 5566 | B34: Hora cátedra Maestro Especial | C34: 0 | D34: 1 | G34: 56 | H34: =SUM(G34:G34) -> 56 | K34: =(H34*'DATOS REFERENCIALES'!$C$4)*D34 -> 359.856 | N34: =LOOKUP(C34,'TABLA ANTIG.'!$A$4:$A$39,'TABLA ANTIG.'!$B$4:$B$39)*(K34) -> 0 | O34: =K34*0.1 -> 35.9856 | P34: =IF(D34>48,'DATOS REFERENCIALES'!$D$8+('DATOS REFERENCIALES'!$F$8*10),IF(D34<39,'DATOS REFERENCIALES'!$E$8*D34,((D34-'DATOS REFERENCIALES'!$I$8)*'DATOS REFERENCIALES'!$F$8)+'DATOS REFERENCIALES'!$D$8)) -> 225 | Q34: =LOOKUP(C34,'TABLA ANTIG.'!$A$4:$A$39,'TABLA ANTIG.'!$B$4:$B$39)*(P34) -> 0 | R34: 0 | S34: =IF(D34>29.99,'DATOS REFERENCIALES'!$D$14,'DATOS REFERENCIALES'!$E$14*D34) -> 0 | T34: =K34+N34+O34+P34+Q34+R34+S34 -> 620.8416 | U34: =$T34*11% -> 68.292576 | V34: =$T34*3% -> 18.625248 | W34: =$T34*3% -> 18.625248 | X34: =$T34*2% -> 12.416832 | Y34: =$T34*4.5% -> 27.937872 | Z34: =SUM(U34:Y34) -> 145.89778 | AA34: =T34-Z34 -> 474.94382 | AB34: =IF(D34>38,'DATOS REFERENCIALES'!$D$10,'DATOS REFERENCIALES'!$E$10*D34) -> 80 | AC34: =IF(D34>41,IF((('DATOS REFERENCIALES'!$D$9)-((T34-S34)-(Z34-S34*0.235)+(AB34)))<0,0,((('DATOS REFERENCIALES'!$D$9)-((T34-S34)-(Z34-S34*0.235)+(AB34))))),IF((('DATOS REFERENCIALES'!$E$9*D34)-(((T34-S34)-(Z34-S34*0.235)+(AB34))))<0,0,('DATOS REFERENCIALES'!$E$9*D34)-((T34-S34)-(Z34-S34*0.235)+(AB34)))) -> 302.55618 | AD34: =SUM(AA34:AC34) -> 857.5 | AE34: =IF(D34>30,'DATOS REFERENCIALES'!$D$13,('DATOS REFERENCIALES'!$E$13*D34)) -> 80.66666 | AG34: =IF(D21>'DATOS REFERENCIALES'!$I$17,'DATOS REFERENCIALES'!$D$17,('DATOS REFERENCIALES'!$E$17*D21)) -> 75 | AH34: =IF(D34>'DATOS REFERENCIALES'!$I$12,'DATOS REFERENCIALES'!$D$12,'DATOS REFERENCIALES'!$E$12*D34) -> 14 | AI34: =SUM(AD34:AH34) -> 1027.1667 | AJ34: =IF(D34>'DATOS REFERENCIALES'!$I$16,'DATOS REFERENCIALES'!$D$16,'DATOS REFERENCIALES'!$E$16*D34) -> 51.47 | AK34: =AJ34*$AK$8 -> 12.09545 | AL34: =AJ34-AK34 -> 39.37455 | AM34: =AI34+AL34 -> 1066.5412
A37: Primaria de Adultos | AE37: Primaria de Adultos
A38: Códigos | B38: Denominación del cargo | C38: AÑOS | D38: CANTIDAD DE HORAS | E38: SUBVENCIOANDO | F38: CAJA COMPL. | G38: INDICE del Sueldo básico Unificado | H38: TOTAL DE INDICES | I38: INDICES JERARQUIZACION | J38: PLUS DIFERENCIAL POR ESTABLECIMIENTO | K38: Valor Sueldo Básico Unificado RB | L38: PLUS DIFERENCIAL POR JERARQUIZACIÓN | M38: PLUS DIFERENCIAL POR ESTABLECIMIENTO | N38: Antigüedad Docente | O38: Asig. Estímulo Educ. R/ NB (Presentismo) | P38: DECRETO 243/08 RB | Q38: Antigüedad Decreto 243/08 | R38: Art. 128 Estatuto Docente R/ NB | S38: Adicional Especial Remun no Bonif. | T38: Total Haberes Remunerat. | U38: Retenciones por aportes personales | Z38: Total Aportes | AA38: SUBTOTAL NETO SIN C.M.G. | AB38: MDM | AC38: C.M.G. | AD38: Sub Total Neto a cobrar | AE38: FONID / RESOLUC. Nº 02/04 neto | AF38: Adelanto Cláusula de Seguimiento 2017 | AG38: SUMA FIJA NO REMUN.Y NO BONIF. POR UNICA VEZ | AH38: APORTE NAC. A MAT. DIDÁCTICO 2017 de 08/17 a 12/17 | AI38: TOTAL NETO A COBRAR | AJ38: Adicional Especial Remun no Bonif. | AK38: Total Aportes | AL38: NETO DEL ADICIO-NAL | AM38: NETO A COBRAR
U39: Jubilación 11% | V39: Obra Social 3% | W39: INSSJP - Ley 19032 3% | X39: Ley 24.016 Dec. 137/05 2% | Y39: Caja Compl. 4,5%
A40: 578 | B40: Director | C40: 0 | G40: 1187 | H40: =SUM(G40:G40) -> 1187 | K40: =H40*'DATOS REFERENCIALES'!$C$4 -> 7627.662 | N40: =LOOKUP(C40,'TABLA ANTIG.'!$A$4:$A$39,'TABLA ANTIG.'!$B$4:$B$39)*(K40) -> 0 | O40: =K40*0.1 -> 762.7662 | P40: ='DATOS REFERENCIALES'!$C$8 -> 4275 | Q40: =LOOKUP(C40,'TABLA ANTIG.'!$A$4:$A$39,'TABLA ANTIG.'!$B$4:$B$39)*(P40) -> 0 | R40: 0 | S40: ='DATOS REFERENCIALES'!$C$14 -> 0 | T40: =K40+N40+O40+P40+Q40+R40+S40 -> 12665.428 | U40: =$T40*11% -> 1393.1971 | V40: =$T40*3% -> 379.96285 | W40: =$T40*3% -> 379.96285 | X40: =$T40*2% -> 253.30856 | Y40: =$T40*4.5% -> 569.94427 | Z40: =SUM(U40:Y40) -> 2976.3756 | AA40: =T40-Z40 -> 9689.0526 | AB40: ='DATOS REFERENCIALES'!$C$10 -> 1520 | AC40: =IF((IF(H40>1119,('DATOS REFERENCIALES'!$C$9-(T40-U40-V40-W40-X40-Y40+AB40-L40-L40*0.235-(S40-S40*0.235))),(('DATOS REFERENCIALES'!$C$9/1120)*H40)-(K40+N40+O40+P40+Q40+R40-U40-V40-W40-X40-Y40+AB40-(L40-L40*0.235)-(S40*0.235))))<0,0,IF(H40>1119,(('DATOS REFERENCIALES'!$C$9)-(T40-U40-V40-W40-X40-Y40+AB40-(L40-L40*0.235)-(S40-S40*0.235))),(('DATOS REFERENCIALES'!$C$9/1120)*H40)-(K40+N40+O40+P40+Q40+R40-U40-V40-W40-X40-Y40+AB40-(L40-L40*0.235)-(S40*0.235)))) -> 5940.9474 | AD40: =SUM(AA40:AC40) -> 17150 | AE40: ='DATOS REFERENCIALES'!$C$13 -> 1210 | AG40: =IF($H11>1119,'DATOS REFERENCIALES'!C17,'DATOS REFERENCIALES'!C17/1120*$H11) -> 1500 | AH40: ='DATOS REFERENCIALES'!$C$12 -> 210 | AI40: =SUM(AD40:AH40)+SUM(AD41:AH41) -> 20936.549 | AJ40: ='DATOS REFERENCIALES'!C16 -> 772 | AK40: =AJ40*$AK$8 -> 181.42 | AL40: =AJ40-AK40 -> 590.58 | AM40: =AI40+AL40 -> 21527.129
A41: 578 | B41: Director | C41: =IF(C40>0,C40,0) -> 0 | I41: 89.03 | J41: 0.06 | L41: =I41*'DATOS REFERENCIALES'!$C$4 -> 572.10678 | M41: =K40*J41 -> 457.65972 | N41: =LOOKUP(C41,'TABLA ANTIG.'!$A$4:$A$39,'TABLA ANTIG.'!$B$4:$B$39)*(L41+M41) -> 0 | O41: =(L41+M41)*0.1 -> 102.97665 | T41: =L41+M41+N41+O41+P41+Q41+R41 -> 1132.7432 | U41: =$T41*11% -> 124.60175 | V41: =$T41*3% -> 33.982295 | W41: =$T41*3% -> 33.982295 | X41: =$T41*2% -> 22.654863 | Y41: =$T41*4.5% -> 50.973442 | Z41: =SUM(U41:Y41) -> 266.19464 | AA41: =T41-Z41 -> 866.54851 | AD41: =SUM(AA41:AC41) -> 866.54851
A42: 854 | B42: Maestro Secretario | C42: 0 | G42: 960 | H42: =SUM(G42:G42) -> 960 | K42: =H42*'DATOS REFERENCIALES'!$C$4 -> 6168.96 | N42: =LOOKUP(C42,'TABLA ANTIG.'!$A$4:$A$39,'TABLA ANTIG.'!$B$4:$B$39)*(K42) -> 0 | O42: =K42*0.1 -> 616.896 | P42: ='DATOS REFERENCIALES'!$C$8 -> 4275 | Q42: =LOOKUP(C42,'TABLA ANTIG.'!$A$4:$A$39,'TABLA ANTIG.'!$B$4:$B$39)*(P42) -> 0 | R42: 0 | S42: ='DATOS REFERENCIALES'!$C$14 -> 0 | T42: =K42+N42+O42+P42+Q42+R42+S42 -> 11060.856 | U42: =$T42*11% -> 1216.6942 | V42: =$T42*3% -> 331.82568 | W42: =$T42*3% -> 331.82568 | X42: =$T42*2% -> 221.21712 | Y42: =$T42*4.5% -> 497.73852 | Z42: =SUM(U42:Y42) -> 2599.3012 | AA42: =T42-Z42 -> 8461.5548 | AB42: ='DATOS REFERENCIALES'!$C$10 -> 1520 | AC42: =IF((IF(H42>1119,('DATOS REFERENCIALES'!$C$9-(T42-U42-V42-W42-X42-Y42+AB42-L42-L42*0.235-(S42-S42*0.235))),(('DATOS REFERENCIALES'!$C$9/1120)*H42)-(K42+N42+O42+P42+Q42+R42-U42-V42-W42-X42-Y42+AB42-(L42-L42*0.235)-(S42*0.235))))<0,0,IF(H42>1119,(('DATOS REFERENCIALES'!$C$9)-(T42-(U42+V42+W42+X42+Y42)+AB42-(L42-L42*0.235)+(S42-S42*0.235))),(('DATOS REFERENCIALES'!$C$9/1120)*H42)-((K42+N42+O42+P42+Q42+R42)-(U42+V42+W42+X42+Y42)+AB42-(L42-L42*0.235)+(S42*0.235)))) -> 4718.4452 | AD42: =SUM(AA42:AC42) -> 14700 | AE42: ='DATOS REFERENCIALES'!$C$13 -> 1210 | AG42: =IF($H11>1119,'DATOS REFERENCIALES'!C17,'DATOS REFERENCIALES'!C17/1120*$H11) -> 1500 | AH42: ='DATOS REFERENCIALES'!$C$12 -> 210 | AI42: =SUM(AD42:AH42)+SUM(AD43:AH43) -> 18009.338 | AJ42: ='DATOS REFERENCIALES'!C16 -> 772 | AK42: =AJ42*$AK$8 -> 181.42 | AL42: =AJ42-AK42 -> 590.58 | AM42: =AI42+AL42 -> 18599.918
A43: 854 | B43: Maestro Secretario | C43: =IF(C42>0,C42,0) -> 0 | I43: 72 | L43: =I43*'DATOS REFERENCIALES'!$C$4 -> 462.672 | N43: =LOOKUP(C43,'TABLA ANTIG.'!$A$4:$A$39,'TABLA ANTIG.'!$B$4:$B$39)*(L43+M43) -> 0 | O43: =(L43+M43)*0.1 -> 46.2672 | T43: =L43+M43+N43+O43+P43+Q43+R43 -> 508.9392 | U43: =$T43*11% -> 55.983312 | V43: =$T43*3% -> 15.268176 | W43: =$T43*3% -> 15.268176 | X43: =$T43*2% -> 10.178784 | Y43: =$T43*4.5% -> 22.902264 | Z43: =SUM(U43:Y43) -> 119.60071 | AA43: =T43-Z43 -> 389.33849 | AD43: =SUM(AA43:AC43) -> 389.33849
A44: 577 | B44: Maestro de Grado o Ciclo | C44: 0 | G44: 829.75 | H44: =SUM(G44:G44) -> 829.75 | K44: =H44*'DATOS REFERENCIALES'!$C$4 -> 5331.9735 | N44: =LOOKUP(C44,'TABLA ANTIG.'!$A$4:$A$39,'TABLA ANTIG.'!$B$4:$B$39)*(K44) -> 0 | O44: =K44*0.1 -> 533.19735 | P44: ='DATOS REFERENCIALES'!$C$8 -> 4275 | Q44: =LOOKUP(C44,'TABLA ANTIG.'!$A$4:$A$39,'TABLA ANTIG.'!$B$4:$B$39)*(P44) -> 0 | R44: 0 | S44: ='DATOS REFERENCIALES'!$C$14 -> 0 | T44: =K44+N44+O44+P44+Q44+R44+S44 -> 10140.171 | U44: =$T44*11% -> 1115.4188 | V44: =$T44*3% -> 304.20513 | W44: =$T44*3% -> 304.20513 | X44: =$T44*2% -> 202.80342 | Y44: =$T44*4.5% -> 456.30769 | Z44: =SUM(U44:Y44) -> 2382.9401 | AA44: =T44-Z44 -> 7757.2307 | AB44: ='DATOS REFERENCIALES'!$C$10 -> 1520 | AC44: =IF((IF(H44>1119,('DATOS REFERENCIALES'!$C$9-(T44-U44-V44-W44-X44-Y44+AB44-L44-L44*0.235-(S44-S44*0.235))),(('DATOS REFERENCIALES'!$C$9/1120)*H44)-(K44+N44+O44+P44+Q44+R44-U44-V44-W44-X44-Y44+AB44-(L44-L44*0.235)-(S44*0.235))))<0,0,IF(H44>1119,(('DATOS REFERENCIALES'!$C$9)-(T44-(U44+V44+W44+X44+Y44)+AB44-(L44-L44*0.235)+(S44-S44*0.235))),(('DATOS REFERENCIALES'!$C$9/1120)*H44)-((K44+N44+O44+P44+Q44+R44)-(U44+V44+W44+X44+Y44)+AB44-(L44-L44*0.235)+(S44*0.235)))) -> 3428.3162 | AD44: =SUM(AA44:AC44) -> 12705.547 | AE44: ='DATOS REFERENCIALES'!$C$13 -> 1210 | AG44: =IF($H44>1119,'DATOS REFERENCIALES'!C17,'DATOS REFERENCIALES'!C17/1120*$H44) -> 1111.2723 | AH44: ='DATOS REFERENCIALES'!$C$12 -> 210 | AI44: =SUM(AD44:AH44) -> 15236.819 | AJ44: ='DATOS REFERENCIALES'!C16 -> 772 | AK44: =AJ44*$AK$8 -> 181.42 | AL44: =AJ44-AK44 -> 590.58 | AM44: =AI44+AL44 -> 15827.399
A45: 5568 | B45: Hora cátedra Maestro Especial | C45: 0 | D45: 1 | G45: 56 | H45: =SUM(G45:G45) -> 56 | K45: =(H45*'DATOS REFERENCIALES'!$C$4)*D45 -> 359.856 | N45: =LOOKUP(C45,'TABLA ANTIG.'!$A$4:$A$39,'TABLA ANTIG.'!$B$4:$B$39)*(K45) -> 0 | O45: =K45*0.1 -> 35.9856 | P45: =IF(D45>48,'DATOS REFERENCIALES'!$D$8+('DATOS REFERENCIALES'!$F$8*10),IF(D45<39,'DATOS REFERENCIALES'!$E$8*D45,((D45-'DATOS REFERENCIALES'!$I$8)*'DATOS REFERENCIALES'!$F$8)+'DATOS REFERENCIALES'!$D$8)) -> 225 | Q45: =LOOKUP(C45,'TABLA ANTIG.'!$A$4:$A$39,'TABLA ANTIG.'!$B$4:$B$39)*(P45) -> 0 | R45: 0 | S45: =IF(D45>29.99,'DATOS REFERENCIALES'!$D$14,'DATOS REFERENCIALES'!$E$14*D45) -> 0 | T45: =K45+N45+O45+P45+Q45+R45+S45 -> 620.8416 | U45: =$T45*11% -> 68.292576 | V45: =$T45*3% -> 18.625248 | W45: =$T45*3% -> 18.625248 | X45: =$T45*2% -> 12.416832 | Y45: =$T45*4.5% -> 27.937872 | Z45: =SUM(U45:Y45) -> 145.89778 | AA45: =T45-Z45 -> 474.94382 | AB45: =IF(D45>38,'DATOS REFERENCIALES'!$D$10,'DATOS REFERENCIALES'!$E$10*D45) -> 80 | AC45: =IF(D45>41,IF((('DATOS REFERENCIALES'!$D$9)-((T45-S45)-(Z45-S45*0.235)+(AB45)))<0,0,((('DATOS REFERENCIALES'!$D$9)-((T45-S45)-(Z45-S45*0.235)+(AB45))))),IF((('DATOS REFERENCIALES'!$E$9*D45)-(((T45-S45)-(Z45-S45*0.235)+(AB45))))<0,0,('DATOS REFERENCIALES'!$E$9*D45)-((T45-S45)-(Z45-S45*0.235)+(AB45)))) -> 302.55618 | AD45: =SUM(AA45:AC45) -> 857.5 | AE45: =IF(D45>30,'DATOS REFERENCIALES'!$D$13,('DATOS REFERENCIALES'!$E$13*D45)) -> 80.66666 | AG45: =IF(D45>'DATOS REFERENCIALES'!$I$17,'DATOS REFERENCIALES'!$D$17,('DATOS REFERENCIALES'!$E$17*D45)) -> 75 | AH45: =IF(D45>'DATOS REFERENCIALES'!$I$12,'DATOS REFERENCIALES'!$D$12,'DATOS REFERENCIALES'!$E$12*D45) -> 14 | AI45: =SUM(AD45:AH45) -> 1027.1667 | AJ45: =IF(D45>'DATOS REFERENCIALES'!$I$16,'DATOS REFERENCIALES'!$D$16,'DATOS REFERENCIALES'!$E$16*D45) -> 51.47 | AK45: =AJ45*$AK$8 -> 12.09545 | AL45: =AJ45-AK45 -> 39.37455 | AM45: =AI45+AL45 -> 1066.5412

Sheet ESPECIAL
K3: UTILIZAR LA GRILLA A MODO DE EJEMPLO
A6: Grilla Salarial según Resolución Conjunta Nº 1961 MEFGC-18 desde ENERO 2019
A7: Ejemplos de liquidación salarial para cargos sin antigüedad en la docencia. Al incluir antigüedades, disminuye o desaparece el monto del C.M.G.
A8: Enseñanza Especial R.M. 278/92 (Reglamento Enseñanza Especial) | AC8: Enseñanza Especial R.M. 278/92 (Reglamento Enseñanza Especial) | AK8: 0.235
A9: Códigos | B9: Denominación del cargo | C9: AÑOS | D9: CANTIDAD DE HORAS | E9: SUBVENCIONADO | F9: CAJA COMPL. | G9: INDICE del Sueldo básico Unificado | H9: TOTAL DE INDICES | I9: INDICES JERARQUIZACION | J9: PLUS DIFERENCIAL POR ESTABLECIMIENTO | K9: Valor Sueldo Básico Unificado RB | L9: PLUS DIFERENCIAL POR JERARQUIZACIÓN | M9: PLUS DIFERENCIAL POR ESTABLECIMIENTO | N9: Antigüedad Docente | O9: Asig. Estímulo Educ. R/ NB (Presentismo) | P9: DECRETO 243/08 RB | Q9: Antigüedad Decreto 243/08 | R9: Art. 128 Estatuto Docente R/ NB | S9: Adicional Especial Remun no Bonif. | T9: Total Haberes Remunerat. | U9: Retenciones por aportes personales | Z9: Total Aportes | AA9: SUBTOTAL NETO SIN C.M.G. | AB9: MDM | AC9: C.M.G. | AD9: Sub Total Neto a cobrar | AE9: FONID / RESOLUC. Nº 02/04 neto | AF9: Adelanto Cláusula de Seguimiento 2017 | AG9: SUMA FIJA NO REMUN.Y NO BONIF. POR UNICA VEZ | AH9: APORTE NAC. A MAT. DIDÁCTICO 2017 | AI9: TOTAL NETO A COBRAR | AJ9: Adicional Especial Remun no Bonif. | AK9: Total Aportes | AL9: NETO DEL ADICIO-NAL | AM9: NETO A COBRAR
U10: Jubilación 11% | V10: Obra Social 3% | W10: INSSJP - Ley 19032 3% | X10: Ley 24.016 Dec. 137/05 2% | Y10: Caja Compl. 4,5%
A11: 505 | B11: Director Jornada Completa | C11: 0 | G11: 3125 | H11: =SUM(G11:G11) -> 3125 | K11: =H11*'DATOS REFERENCIALES'!$C$4 -> 20081.25 | N11: =LOOKUP(C11,'TABLA ANTIG.'!$A$4:$A$39,'TABLA ANTIG.'!$B$4:$B$39)*(K11) -> 0 | O11: =K11*0.1 -> 2008.125 | P11: ='DATOS REFERENCIALES'!$D$8 -> 8550 | Q11: =LOOKUP(C11,'TABLA ANTIG.'!$A$4:$A$39,'TABLA ANTIG.'!$B$4:$B$39)*(P11) -> 0 | R11: =(K11+P11)*0.15 -> 4294.6875 | S11: ='DATOS REFERENCIALES'!$D$14 -> 0 | T11: =K11+N11+O11+P11+Q11+R11+S11 -> 34934.062 | U11: =$T11*11% -> 3842.7469 | V11: =$T11*3% -> 1048.0219 | W11: =$T11*3% -> 1048.0219 | X11: =$T11*2% -> 698.68125 | Y11: =$T11*4.5% -> 1572.0328 | Z11: =SUM(U11:Y11) -> 8209.5047 | AA11: =T11-Z11 -> 26724.558 | AB11: ='DATOS REFERENCIALES'!$D$10 -> 3040 | AC11: =IF((IF(H11>2042,('DATOS REFERENCIALES'!$D$9-(T11-U11-V11-W11-X11-Y11+AB11)+(S11-S11*0.235)),(('DATOS REFERENCIALES'!$D$9/2043)*H11)-(K11+N11+O11+P11+Q11+R11-U11-V11-W11-X11-Y11+AB11)))<0,0,IF(H11>2042,(('DATOS REFERENCIALES'!$D$9)-(T11-U11-V11-W11-X11-Y11+AB11)+(S11-S11*0.235)),(('DATOS REFERENCIALES'!$D$9/2043)*H11)-(K11+N11+O11+P11+Q11+R11-U11-V11-W11-X11-Y11+AB11))) -> 4535.4422 | AD11: =SUM(AA11:AC11) -> 34300 | AE11: ='DATOS REFERENCIALES'!$D$13 -> 2420 | AG11: =IF($H11>2043,'DATOS REFERENCIALES'!D17,'DATOS REFERENCIALES'!D17/2043*$H11) -> 3000 | AH11: ='DATOS REFERENCIALES'!$D$12 -> 420 | AI11: =SUM(AD11:AH11)+SUM(AD12:AH12) -> 42732.395 | AJ11: ='DATOS REFERENCIALES'!D16 -> 1544 | AK11: =AJ11*$AK$8 -> 362.84 | AL11: =AJ11-AK11 -> 1181.16 | AM11: =AI11+AL11 -> 43913.555
A12: 505 | B12: Director Jornada Completa | C12: =IF(C11>0,C11,0) -> 0 | I12: 234.38 | J12: 1 turno | L12: =I12*'DATOS REFERENCIALES'!$C$4 -> 1506.1259 | M12: =IF(J12='DATOS REFERENCIALES'!$C$38,K11*'DATOS REFERENCIALES'!$D$38,IF(J12='DATOS REFERENCIALES'!$C$39,('DATOS REFERENCIALES'!$D$39*K11),IF(J12='DATOS REFERENCIALES'!$C$40,('DATOS REFERENCIALES'!$D$40*K11),0))) -> 1204.875 | N12: =LOOKUP(C12,'TABLA ANTIG.'!$A$4:$A$39,'TABLA ANTIG.'!$B$4:$B$39)*(L12+M12) -> 0 | O12: =(L12+M12)*0.1 -> 271.10009 | R12: =(L12+M12)*0.15 -> 406.65013 | T12: =L12+M12+N12+O12+P12+Q12+R12 -> 3388.7511 | U12: =$T12*11% -> 372.76262 | V12: =$T12*3% -> 101.66253 | W12: =$T12*3% -> 101.66253 | X12: =$T12*2% -> 67.775022 | Y12: =$T12*4.5% -> 152.4938 | Z12: =SUM(U12:Y12) -> 796.35651 | AA12: =T12-Z12 -> 2592.3946 | AD12: =SUM(AA12:AC12) -> 2592.3946
A13: 551 | B13: Vicedirector Jornada Completa | C13: 0 | G13: 2667 | H13: =SUM(G13:G13) -> 2667 | K13: =H13*'DATOS REFERENCIALES'!$C$4 -> 17138.142 | N13: =LOOKUP(C13,'TABLA ANTIG.'!$A$4:$A$39,'TABLA ANTIG.'!$B$4:$B$39)*(K13) -> 0 | O13: =K13*0.1 -> 1713.8142 | P13: ='DATOS REFERENCIALES'!$D$8 -> 8550 | Q13: =LOOKUP(C13,'TABLA ANTIG.'!$A$4:$A$39,'TABLA ANTIG.'!$B$4:$B$39)*(P13) -> 0 | R13: =(K13+P13)*0.15 -> 3853.2213 | S13: ='DATOS REFERENCIALES'!$D$14 -> 0 | T13: =K13+N13+O13+P13+Q13+R13+S13 -> 31255.178 | U13: =$T13*11% -> 3438.0695 | V13: =$T13*3% -> 937.65533 | W13: =$T13*3% -> 937.65533 | X13: =$T13*2% -> 625.10355 | Y13: =$T13*4.5% -> 1406.483 | Z13: =SUM(U13:Y13) -> 7344.9667 | AA13: =T13-Z13 -> 23910.211 | AB13: ='DATOS REFERENCIALES'!$D$10 -> 3040 | AC13: =IF((IF(H13>2042,('DATOS REFERENCIALES'!$D$9-(T13-U13-V13-W13-X13-Y13+AB13)+(S13-S13*0.235)),(('DATOS REFERENCIALES'!$D$9/2043)*H13)-(K13+N13+O13+P13+Q13+R13-U13-V13-W13-X13-Y13+AB13)))<0,0,IF(H13>2042,(('DATOS REFERENCIALES'!$D$9)-(T13-U13-V13-W13-X13-Y13+AB13)+(S13-S13*0.235)),(('DATOS REFERENCIALES'!$D$9/2043)*H13)-(K13+N13+O13+P13+Q13+R13-U13-V13-W13-X13-Y13+AB13))) -> 7349.7892 | AD13: =SUM(AA13:AC13) -> 34300 | AE13: ='DATOS REFERENCIALES'!$D$13 -> 2420 | AG13: =IF($H13>2043,'DATOS REFERENCIALES'!D17,'DATOS REFERENCIALES'!D17/2043*$H13) -> 3000 | AH13: ='DATOS REFERENCIALES'!$D$12 -> 420 | AI13: =SUM(AD13:AH13)+SUM(AD14:AH14) -> 41369.157 | AJ13: ='DATOS REFERENCIALES'!D16 -> 1544 | AK13: =AJ13*$AK$8 -> 362.84 | AL13: =AJ13-AK13 -> 1181.16 | AM13: =AI13+AL13 -> 42550.317
A14: 551 | B14: Vicedirector Jornada Completa | C14: =IF(C13>0,C13,0) -> 0 | I14: 200.03 | L14: =I14*'DATOS REFERENCIALES'!$C$4 -> 1285.3928 | N14: =LOOKUP(C14,'TABLA ANTIG.'!$A$4:$A$39,'TABLA ANTIG.'!$B$4:$B$39)*(L14+M14) -> 0 | O14: =(L14+M14)*0.1 -> 128.53928 | R14: =(L14+M14)*0.15 -> 192.80892 | T14: =L14+M14+N14+O14+P14+Q14+R14 -> 1606.741 | U14: =$T14*11% -> 176.74151 | V14: =$T14*3% -> 48.202229 | W14: =$T14*3% -> 48.202229 | X14: =$T14*2% -> 32.13482 | Y14: =$T14*4.5% -> 72.303344 | Z14: =SUM(U14:Y14) -> 377.58413 | AA14: =T14-Z14 -> 1229.1568 | AD14: =SUM(AA14:AC14) -> 1229.1568
A15: 849 | B15: Maestro Secretario EE JC | C15: 0 | G15: 2359 | H15: =SUM(G15:G15) -> 2359 | K15: =H15*'DATOS REFERENCIALES'!$C$4 -> 15158.934 | N15: =LOOKUP(C15,'TABLA ANTIG.'!$A$4:$A$39,'TABLA ANTIG.'!$B$4:$B$39)*(K15) -> 0 | O15: =K15*0.1 -> 1515.8934 | P15: ='DATOS REFERENCIALES'!$D$8 -> 8550 | Q15: =LOOKUP(C15,'TABLA ANTIG.'!$A$4:$A$39,'TABLA ANTIG.'!$B$4:$B$39)*(P15) -> 0 | R15: =(K15+P15)*0.15 -> 3556.3401 | S15: ='DATOS REFERENCIALES'!$D$14 -> 0 | T15: =K15+N15+O15+P15+Q15+R15+S15 -> 28781.168 | U15: =$T15*11% -> 3165.9284 | V15: =$T15*3% -> 863.43503 | W15: =$T15*3% -> 863.43503 | X15: =$T15*2% -> 575.62335 | Y15: =$T15*4.5% -> 1295.1525 | Z15: =SUM(U15:Y15) -> 6763.5744 | AA15: =T15-Z15 -> 22017.593 | AB15: ='DATOS REFERENCIALES'!$D$10 -> 3040 | AC15: =IF((IF(H15>2042,('DATOS REFERENCIALES'!$D$9-(T15-U15-V15-W15-X15-Y15+AB15)+(S15-S15*0.235)),(('DATOS REFERENCIALES'!$D$9/2043)*H15)-(K15+N15+O15+P15+Q15+R15-U15-V15-W15-X15-Y15+AB15)))<0,0,IF(H15>2042,(('DATOS REFERENCIALES'!$D$9)-(T15-U15-V15-W15-X15-Y15+AB15)+(S15-S15*0.235)),(('DATOS REFERENCIALES'!$D$9/2043)*H15)-(K15+N15+O15+P15+Q15+R15-U15-V15-W15-X15-Y15+AB15))) -> 9242.4069 | AD15: =SUM(AA15:AC15) -> 34300 | AE15: ='DATOS REFERENCIALES'!$D$13 -> 2420 | AG15: =IF($H15>2043,'DATOS REFERENCIALES'!D17,'DATOS REFERENCIALES'!D17/2043*$H15) -> 3000 | AH15: ='DATOS REFERENCIALES'!$D$12 -> 420 | AI15: =SUM(AD15:AH15)+SUM(AD16:AH16) -> 41227.211 | AJ15: ='DATOS REFERENCIALES'!D16 -> 1544 | AK15: =AJ15*$AK$8 -> 362.84 | AL15: =AJ15-AK15 -> 1181.16 | AM15: =AI15+AL15 -> 42408.371
A16: 849 | B16: Maestro Secretario EE JC | C16: =IF(C15>0,C15,0) -> 0 | I16: 176.93 | L16: =I16*'DATOS REFERENCIALES'!$C$4 -> 1136.9522 | N16: =LOOKUP(C16,'TABLA ANTIG.'!$A$4:$A$39,'TABLA ANTIG.'!$B$4:$B$39)*(L16+M16) -> 0 | O16: =(L16+M16)*0.1 -> 113.69522 | R16: =(L16+M16)*0.15 -> 170.54283 | T16: =L16+M16+N16+O16+P16+Q16+R16 -> 1421.1902 | U16: =$T16*11% -> 156.33092 | V16: =$T16*3% -> 42.635707 | W16: =$T16*3% -> 42.635707 | X16: =$T16*2% -> 28.423805 | Y16: =$T16*4.5% -> 63.95356 | Z16: =SUM(U16:Y16) -> 333.9797 | AA16: =T16-Z16 -> 1087.2105 | AD16: =SUM(AA16:AC16) -> 1087.2105
A17: 516 | B17: Director Jornada Simple | C17: 0 | G17: 1783 | H17: =SUM(G17:G17) -> 1783 | K17: =H17*'DATOS REFERENCIALES'!$C$4 -> 11457.558 | N17: =LOOKUP(C17,'TABLA ANTIG.'!$A$4:$A$39,'TABLA ANTIG.'!$B$4:$B$39)*(K17) -> 0 | O17: =K17*0.1 -> 1145.7558 | P17: ='DATOS REFERENCIALES'!$C$8 -> 4275 | Q17: =LOOKUP(C17,'TABLA ANTIG.'!$A$4:$A$39,'TABLA ANTIG.'!$B$4:$B$39)*(P17) -> 0 | R17: =(K17+P17)*0.15 -> 2359.8837 | S17: ='DATOS REFERENCIALES'!$C$14 -> 0 | T17: =K17+N17+O17+P17+Q17+R17+S17 -> 19238.198 | U17: =$T17*11% -> 2116.2017 | V17: =$T17*3% -> 577.14593 | W17: =$T17*3% -> 577.14593 | X17: =$T17*2% -> 384.76395 | Y17: =$T17*4.5% -> 865.71889 | Z17: =SUM(U17:Y17) -> 4520.9764 | AA17: =T17-Z17 -> 14717.221 | AB17: ='DATOS REFERENCIALES'!$C$10 -> 1520 | AC17: =IF((IF(H17>1119,('DATOS REFERENCIALES'!$C$9-(T17-U17-V17-W17-X17-Y17+AB17-L17-L17*0.235-(S17-S17*0.235))),(('DATOS REFERENCIALES'!$C$9/1120)*H17)-(K17+N17+O17+P17+Q17+R17-U17-V17-W17-X17-Y17+AB17-(L17-L17*0.235)-(S17*0.235))))<0,0,IF(H17>1119,(('DATOS REFERENCIALES'!$C$9)-(T17-U17-V17-W17-X17-Y17+AB17-(L17-L17*0.235)-(S17-S17*0.235))),(('DATOS REFERENCIALES'!$C$9/1120)*H17)-(K17+N17+O17+P17+Q17+R17-U17-V17-W17-X17-Y17+AB17-(L17-L17*0.235)-(S17*0.235)))) -> 912.77891 | AD17: =SUM(AA17:AC17) -> 17150 | AE17: ='DATOS REFERENCIALES'!$C$13 -> 1210 | AG17: =IF($H17>1120,'DATOS REFERENCIALES'!C17,'DATOS REFERENCIALES'!C17/1120*$H17) -> 1500 | AH17: ='DATOS REFERENCIALES'!$C$12 -> 210 | AI17: =SUM(AD17:AH17)+SUM(AD18:AH18) -> 21549.13 | AJ17: ='DATOS REFERENCIALES'!C16 -> 772 | AK17: =AJ17*$AK$8 -> 181.42 | AL17: =AJ17-AK17 -> 590.58 | AM17: =AI17+AL17 -> 22139.71
A18: 516 | B18: Director Jornada Simple | C18: =IF(C17>0,C17,0) -> 0 | I18: 133.73 | J18: 1 turno | L18: =I18*'DATOS REFERENCIALES'!$C$4 -> 859.34898 | M18: =IF(J18='DATOS REFERENCIALES'!$C$38,K17*'DATOS REFERENCIALES'!$D$38,IF(J18='DATOS REFERENCIALES'!$C$39,('DATOS REFERENCIALES'!$D$39*K17),IF(J18='DATOS REFERENCIALES'!$C$40,('DATOS REFERENCIALES'!$D$40*K17),0))) -> 687.45348 | N18: =LOOKUP(C18,'TABLA ANTIG.'!$A$4:$A$39,'TABLA ANTIG.'!$B$4:$B$39)*(L18+M18) -> 0 | O18: =(L18+M18)*0.1 -> 154.68025 | R18: =(L18+M18)*0.15 -> 232.02037 | T18: =L18+M18+N18+O18+P18+Q18+R18 -> 1933.5031 | U18: =$T18*11% -> 212.68534 | V18: =$T18*3% -> 58.005092 | W18: =$T18*3% -> 58.005092 | X18: =$T18*2% -> 38.670061 | Y18: =$T18*4.5% -> 87.007638 | Z18: =SUM(U18:Y18) -> 454.37322 | AA18: =T18-Z18 -> 1479.1299 | AD18: =SUM(AA18:AC18) -> 1479.1299
A19: 576 | B19: Vicedirector Jornada Simple | C19: 0 | G19: 1545 | H19: =SUM(G19:G19) -> 1545 | K19: =H19*'DATOS REFERENCIALES'!$C$4 -> 9928.17 | N19: =LOOKUP(C19,'TABLA ANTIG.'!$A$4:$A$39,'TABLA ANTIG.'!$B$4:$B$39)*(K19) -> 0 | O19: =K19*0.1 -> 992.817 | P19: ='DATOS REFERENCIALES'!$C$8 -> 4275 | Q19: =LOOKUP(C19,'TABLA ANTIG.'!$A$4:$A$39,'TABLA ANTIG.'!$B$4:$B$39)*(P19) -> 0 | R19: =(K19+P19)*0.15 -> 2130.4755 | S19: ='DATOS REFERENCIALES'!$C$14 -> 0 | T19: =K19+N19+O19+P19+Q19+R19+S19 -> 17326.463 | U19: =$T19*11% -> 1905.9109 | V19: =$T19*3% -> 519.79388 | W19: =$T19*3% -> 519.79388 | X19: =$T19*2% -> 346.52925 | Y19: =$T19*4.5% -> 779.69081 | Z19: =SUM(U19:Y19) -> 4071.7187 | AA19: =T19-Z19 -> 13254.744 | AB19: ='DATOS REFERENCIALES'!$C$10 -> 1520 | AC19: =IF((IF(H19>1119,('DATOS REFERENCIALES'!$C$9-(T19-U19-V19-W19-X19-Y19+AB19-L19-L19*0.235-(S19-S19*0.235))),(('DATOS REFERENCIALES'!$C$9/1120)*H19)-(K19+N19+O19+P19+Q19+R19-U19-V19-W19-X19-Y19+AB19-(L19-L19*0.235)-(S19*0.235))))<0,0,IF(H19>1119,(('DATOS REFERENCIALES'!$C$9)-(T19-U19-V19-W19-X19-Y19+AB19-(L19-L19*0.235)-(S19-S19*0.235))),(('DATOS REFERENCIALES'!$C$9/1120)*H19)-(K19+N19+O19+P19+Q19+R19-U19-V19-W19-X19-Y19+AB19-(L19-L19*0.235)-(S19*0.235)))) -> 2375.2562 | AD19: =SUM(AA19:AC19) -> 17150 | AE19: ='DATOS REFERENCIALES'!$C$13 -> 1210 | AG19: =IF($H19>1120,'DATOS REFERENCIALES'!C17,'DATOS REFERENCIALES'!C17/1120*$H19) -> 1500 | AH19: ='DATOS REFERENCIALES'!$C$12 -> 210 | AI19: =SUM(AD19:AH19)+SUM(AD20:AH20) -> 20782.067 | AJ19: ='DATOS REFERENCIALES'!C16 -> 772 | AK19: =AJ19*$AK$8 -> 181.42 | AL19: =AJ19-AK19 -> 590.58 | AM19: =AI19+AL19 -> 21372.647
A20: 576 | B20: Vicedirector Jornada Simple | C20: =IF(C19>0,C19,0) -> 0 | I20: 115.88 | L20: =I20*'DATOS REFERENCIALES'!$C$4 -> 744.64488 | N20: =LOOKUP(C20,'TABLA ANTIG.'!$A$4:$A$39,'TABLA ANTIG.'!$B$4:$B$39)*(L20+M20) -> 0 | O20: =(L20+M20)*0.1 -> 74.464488 | R20: =(L20+M20)*0.15 -> 111.69673 | T20: =L20+M20+N20+O20+P20+Q20+R20 -> 930.8061 | U20: =$T20*11% -> 102.38867 | V20: =$T20*3% -> 27.924183 | W20: =$T20*3% -> 27.924183 | X20: =$T20*2% -> 18.616122 | Y20: =$T20*4.5% -> 41.886274 | Z20: =SUM(U20:Y20) -> 218.73943 | AA20: =T20-Z20 -> 712.06667 | AD20: =SUM(AA20:AC20) -> 712.06667
A21: 539 | B21: Maestro de Grado o Grupo Escolar (*) | C21: 0 | G21: 1120 | H21: =SUM(G21:G21) -> 1120 | K21: =H21*'DATOS REFERENCIALES'!$C$4 -> 7197.12 | N21: =LOOKUP(C21,'TABLA ANTIG.'!$A$4:$A$39,'TABLA ANTIG.'!$B$4:$B$39)*(K21) -> 0 | O21: =K21*0.1 -> 719.712 | P21: ='DATOS REFERENCIALES'!$C$8 -> 4275 | Q21: =LOOKUP(C21,'TABLA ANTIG.'!$A$4:$A$39,'TABLA ANTIG.'!$B$4:$B$39)*(P21) -> 0 | R21: =(K21+P21)*0.15 -> 1720.818 | S21: ='DATOS REFERENCIALES'!$C$14 -> 0 | T21: =K21+N21+O21+P21+Q21+R21+S21 -> 13912.65 | U21: =$T21*11% -> 1530.3915 | V21: =$T21*3% -> 417.3795 | W21: =$T21*3% -> 417.3795 | X21: =$T21*2% -> 278.253 | Y21: =$T21*4.5% -> 626.06925 | Z21: =SUM(U21:Y21) -> 3269.4727 | AA21: =T21-Z21 -> 10643.177 | AB21: ='DATOS REFERENCIALES'!$C$10 -> 1520 | AC21: =IF((IF(H21>1119,('DATOS REFERENCIALES'!$C$9-(T21-U21-V21-W21-X21-Y21+AB21-L21-L21*0.235-(S21-S21*0.235))),(('DATOS REFERENCIALES'!$C$9/1120)*H21)-(K21+N21+O21+P21+Q21+R21-U21-V21-W21-X21-Y21+AB21-(L21-L21*0.235)-(S21*0.235))))<0,0,IF(H21>1119,(('DATOS REFERENCIALES'!$C$9)-(T21-U21-V21-W21-X21-Y21+AB21-(L21-L21*0.235)-(S21-S21*0.235))),(('DATOS REFERENCIALES'!$C$9/1120)*H21)-(K21+N21+O21+P21+Q21+R21-U21-V21-W21-X21-Y21+AB21-(L21-L21*0.235)-(S21*0.235)))) -> 4986.8227 | AD21: =SUM(AA21:AC21) -> 17150 | AE21: ='DATOS REFERENCIALES'!$C$13 -> 1210 | AG21: =IF($H21>1120,'DATOS REFERENCIALES'!C17,'DATOS REFERENCIALES'!C17/1120*$H21) -> 1500 | AH21: ='DATOS REFERENCIALES'!$C$12 -> 210 | AI21: =SUM(AD21:AH21) -> 20070 | AJ21: ='DATOS REFERENCIALES'!C16 -> 772 | AK21: =AJ21*$AK$8 -> 181.42 | AL21: =AJ21-AK21 -> 590.58 | AM21: =AI21+AL21 -> 20660.58
A22: 558 | B22: Maestro Secretario | C22: 0 | G22: 1307 | H22: =SUM(G22:G22) -> 1307 | K22: =H22*'DATOS REFERENCIALES'!$C$4 -> 8398.782 | N22: =LOOKUP(C22,'TABLA ANTIG.'!$A$4:$A$39,'TABLA ANTIG.'!$B$4:$B$39)*(K22) -> 0 | O22: =K22*0.1 -> 839.8782 | P22: ='DATOS REFERENCIALES'!$C$8 -> 4275 | Q22: =LOOKUP(C22,'TABLA ANTIG.'!$A$4:$A$39,'TABLA ANTIG.'!$B$4:$B$39)*(P22) -> 0 | R22: =(K22+P22)*0.15 -> 1901.0673 | S22: ='DATOS REFERENCIALES'!$C$14 -> 0 | T22: =K22+N22+O22+P22+Q22+R22+S22 -> 15414.728 | U22: =$T22*11% -> 1695.62 | V22: =$T22*3% -> 462.44183 | W22: =$T22*3% -> 462.44183 | X22: =$T22*2% -> 308.29455 | Y22: =$T22*4.5% -> 693.66274 | Z22: =SUM(U22:Y22) -> 3622.461 | AA22: =T22-Z22 -> 11792.267 | AB22: ='DATOS REFERENCIALES'!$C$10 -> 1520 | AC22: =IF((IF(H22>1119,('DATOS REFERENCIALES'!$C$9-(T22-U22-V22-W22-X22-Y22+AB22-L22-L22*0.235-(S22-S22*0.235))),(('DATOS REFERENCIALES'!$C$9/1120)*H22)-(K22+N22+O22+P22+Q22+R22-U22-V22-W22-X22-Y22+AB22-(L22-L22*0.235)-(S22*0.235))))<0,0,IF(H22>1119,(('DATOS REFERENCIALES'!$C$9)-(T22-U22-V22-W22-X22-Y22+AB22-(L22-L22*0.235)-(S22-S22*0.235))),(('DATOS REFERENCIALES'!$C$9/1120)*H22)-(K22+N22+O22+P22+Q22+R22-U22-V22-W22-X22-Y22+AB22-(L22-L22*0.235)-(S22*0.235)))) -> 3837.7335 | AD22: =SUM(AA22:AC22) -> 17150 | AE22: ='DATOS REFERENCIALES'!$C$13 -> 1210 | AG22: =IF($H22>1120,'DATOS REFERENCIALES'!C17,'DATOS REFERENCIALES'!C17/1120*$H22) -> 1500 | AH22: ='DATOS REFERENCIALES'!$C$12 -> 210 | AI22: =SUM(AD22:AH22)+SUM(AD23:AH23) -> 20672.381 | AJ22: ='DATOS REFERENCIALES'!C16 -> 772 | AK22: =AJ22*$AK$8 -> 181.42 | AL22: =AJ22-AK22 -> 590.58 | AM22: =AI22+AL22 -> 21262.961
A23: 558 | B23: Maestro Secretario | C23: =IF(C22>0,C22,0) -> 0 | I23: 98.03 | L23: =I23*'DATOS REFERENCIALES'!$C$4 -> 629.94078 | N23: =LOOKUP(C23,'TABLA ANTIG.'!$A$4:$A$39,'TABLA ANTIG.'!$B$4:$B$39)*(L23+M23) -> 0 | O23: =(L23+M23)*0.1 -> 62.994078 | R23: =(L23+M23)*0.15 -> 94.491117 | T23: =L23+M23+N23+O23+P23+Q23+R23 -> 787.42598 | U23: =$T23*11% -> 86.616857 | V23: =$T23*3% -> 23.622779 | W23: =$T23*3% -> 23.622779 | X23: =$T23*2% -> 15.74852 | Y23: =$T23*4.5% -> 35.434169 | Z23: =SUM(U23:Y23) -> 185.0451 | AA23: =T23-Z23 -> 602.38087 | AD23: =SUM(AA23:AC23) -> 602.38087
A24: 540 | B24: Maestro Reeducador Vocal | C24: 0 | G24: 1120 | H24: =SUM(G24:G24) -> 1120 | K24: =H24*'DATOS REFERENCIALES'!$C$4 -> 7197.12 | N24: =LOOKUP(C24,'TABLA ANTIG.'!$A$4:$A$39,'TABLA ANTIG.'!$B$4:$B$39)*(K24) -> 0 | O24: =K24*0.1 -> 719.712 | P24: ='DATOS REFERENCIALES'!$C$8 -> 4275 | Q24: =LOOKUP(C24,'TABLA ANTIG.'!$A$4:$A$39,'TABLA ANTIG.'!$B$4:$B$39)*(P24) -> 0 | R24: =(K24+P24)*0.15 -> 1720.818 | S24: ='DATOS REFERENCIALES'!$C$14 -> 0 | T24: =K24+N24+O24+P24+Q24+R24+S24 -> 13912.65 | U24: =$T24*11% -> 1530.3915 | V24: =$T24*3% -> 417.3795 | W24: =$T24*3% -> 417.3795 | X24: =$T24*2% -> 278.253 | Y24: =$T24*4.5% -> 626.06925 | Z24: =SUM(U24:Y24) -> 3269.4727 | AA24: =T24-Z24 -> 10643.177 | AB24: ='DATOS REFERENCIALES'!$C$10 -> 1520 | AC24: =IF((IF(H24>1119,('DATOS REFERENCIALES'!$C$9-(T24-U24-V24-W24-X24-Y24+AB24-L24-L24*0.235-(S24-S24*0.235))),(('DATOS REFERENCIALES'!$C$9/1120)*H24)-(K24+N24+O24+P24+Q24+R24-U24-V24-W24-X24-Y24+AB24-(L24-L24*0.235)-(S24*0.235))))<0,0,IF(H24>1119,(('DATOS REFERENCIALES'!$C$9)-(T24-U24-V24-W24-X24-Y24+AB24-(L24-L24*0.235)-(S24-S24*0.235))),(('DATOS REFERENCIALES'!$C$9/1120)*H24)-(K24+N24+O24+P24+Q24+R24-U24-V24-W24-X24-Y24+AB24-(L24-L24*0.235)-(S24*0.235)))) -> 4986.8227 | AD24: =SUM(AA24:AC24) -> 17150 | AE24: ='DATOS REFERENCIALES'!$C$13 -> 1210 | AG24: =IF($H24>1120,'DATOS REFERENCIALES'!C17,'DATOS REFERENCIALES'!C17/1120*$H24) -> 1500 | AH24: ='DATOS REFERENCIALES'!$C$12 -> 210 | AI24: =SUM(AD24:AH24) -> 20070 | AJ24: ='DATOS REFERENCIALES'!C16 -> 772 | AK24: =AJ24*$AK$8 -> 181.42 | AL24: =AJ24-AK24 -> 590.58 | AM24: =AI24+AL24 -> 20660.58
A25: 541 | B25: Maestro Reeducador Acústico | C25: 0 | G25: 1120 | H25: =SUM(G25:G25) -> 1120 | K25: =H25*'DATOS REFERENCIALES'!$C$4 -> 7197.12 | N25: =LOOKUP(C25,'TABLA ANTIG.'!$A$4:$A$39,'TABLA ANTIG.'!$B$4:$B$39)*(K25) -> 0 | O25: =K25*0.1 -> 719.712 | P25: ='DATOS REFERENCIALES'!$C$8 -> 4275 | Q25: =LOOKUP(C25,'TABLA ANTIG.'!$A$4:$A$39,'TABLA ANTIG.'!$B$4:$B$39)*(P25) -> 0 | R25: =(K25+P25)*0.15 -> 1720.818 | S25: ='DATOS REFERENCIALES'!$C$14 -> 0 | T25: =K25+N25+O25+P25+Q25+R25+S25 -> 13912.65 | U25: =$T25*11% -> 1530.3915 | V25: =$T25*3% -> 417.3795 | W25: =$T25*3% -> 417.3795 | X25: =$T25*2% -> 278.253 | Y25: =$T25*4.5% -> 626.06925 | Z25: =SUM(U25:Y25) -> 3269.4727 | AA25: =T25-Z25 -> 10643.177 | AB25: ='DATOS REFERENCIALES'!$C$10 -> 1520 | AC25: =IF((IF(H25>1119,('DATOS REFERENCIALES'!$C$9-(T25-U25-V25-W25-X25-Y25+AB25-L25-L25*0.235-(S25-S25*0.235))),(('DATOS REFERENCIALES'!$C$9/1120)*H25)-(K25+N25+O25+P25+Q25+R25-U25-V25-W25-X25-Y25+AB25-(L25-L25*0.235)-(S25*0.235))))<0,0,IF(H25>1119,(('DATOS REFERENCIALES'!$C$9)-(T25-U25-V25-W25-X25-Y25+AB25-(L25-L25*0.235)-(S25-S25*0.235))),(('DATOS REFERENCIALES'!$C$9/1120)*H25)-(K25+N25+O25+P25+Q25+R25-U25-V25-W25-X25-Y25+AB25-(L25-L25*0.235)-(S25*0.235)))) -> 4986.8227 | AD25: =SUM(AA25:AC25) -> 17150 | AE25: ='DATOS REFERENCIALES'!$C$13 -> 1210 | AG25: =IF($H25>1120,'DATOS REFERENCIALES'!C17,'DATOS REFERENCIALES'!C17/1120*$H25) -> 1500 | AH25: ='DATOS REFERENCIALES'!$C$12 -> 210 | AI25: =SUM(AD25:AH25) -> 20070 | AJ25: ='DATOS REFERENCIALES'!$C$16 -> 772 | AK25: =AJ25*$AK$8 -> 181.42 | AL25: =AJ25-AK25 -> 590.58 | AM25: =AI25+AL25 -> 20660.58
A26: 850 | B26: Maestro Asistente Social | C26: 0 | G26: 1120 | H26: =SUM(G26:G26) -> 1120 | K26: =H26*'DATOS REFERENCIALES'!$C$4 -> 7197.12 | N26: =LOOKUP(C26,'TABLA ANTIG.'!$A$4:$A$39,'TABLA ANTIG.'!$B$4:$B$39)*(K26) -> 0 | O26: =K26*0.1 -> 719.712 | P26: ='DATOS REFERENCIALES'!$C$8 -> 4275 | Q26: =LOOKUP(C26,'TABLA ANTIG.'!$A$4:$A$39,'TABLA ANTIG.'!$B$4:$B$39)*(P26) -> 0 | R26: =(K26+P26)*0.15 -> 1720.818 | S26: ='DATOS REFERENCIALES'!$C$14 -> 0 | T26: =K26+N26+O26+P26+Q26+R26+S26 -> 13912.65 | U26: =$T26*11% -> 1530.3915 | V26: =$T26*3% -> 417.3795 | W26: =$T26*3% -> 417.3795 | X26: =$T26*2% -> 278.253 | Y26: =$T26*4.5% -> 626.06925 | Z26: =SUM(U26:Y26) -> 3269.4727 | AA26: =T26-Z26 -> 10643.177 | AB26: ='DATOS REFERENCIALES'!$C$10 -> 1520 | AC26: =IF((IF(H26>1119,('DATOS REFERENCIALES'!$C$9-(T26-U26-V26-W26-X26-Y26+AB26-L26-L26*0.235-(S26-S26*0.235))),(('DATOS REFERENCIALES'!$C$9/1120)*H26)-(K26+N26+O26+P26+Q26+R26-U26-V26-W26-X26-Y26+AB26-(L26-L26*0.235)-(S26*0.235))))<0,0,IF(H26>1119,(('DATOS REFERENCIALES'!$C$9)-(T26-U26-V26-W26-X26-Y26+AB26-(L26-L26*0.235)-(S26-S26*0.235))),(('DATOS REFERENCIALES'!$C$9/1120)*H26)-(K26+N26+O26+P26+Q26+R26-U26-V26-W26-X26-Y26+AB26-(L26-L26*0.235)-(S26*0.235)))) -> 4986.8227 | AD26: =SUM(AA26:AC26) -> 17150 | AE26: ='DATOS REFERENCIALES'!$C$13 -> 1210 | AG26: =IF($H26>1120,'DATOS REFERENCIALES'!C17,'DATOS REFERENCIALES'!C17/1120*$H26) -> 1500 | AH26: ='DATOS REFERENCIALES'!$C$12 -> 210 | AI26: =SUM(AD26:AH26) -> 20070 | AJ26: ='DATOS REFERENCIALES'!$C$16 -> 772 | AK26: =AJ26*$AK$8 -> 181.42 | AL26: =AJ26-AK26 -> 590.58 | AM26: =AI26+AL26 -> 20660.58
A27: 852 | B27: Maestro Terapista Ocupacional | C27: 0 | G27: 1120 | H27: =SUM(G27:G27) -> 1120 | K27: =H27*'DATOS REFERENCIALES'!$C$4 -> 7197.12 | N27: =LOOKUP(C27,'TABLA ANTIG.'!$A$4:$A$39,'TABLA ANTIG.'!$B$4:$B$39)*(K27) -> 0 | O27: =K27*0.1 -> 719.712 | P27: ='DATOS REFERENCIALES'!$C$8 -> 4275 | Q27: =LOOKUP(C27,'TABLA ANTIG.'!$A$4:$A$39,'TABLA ANTIG.'!$B$4:$B$39)*(P27) -> 0 | R27: =(K27+P27)*0.15 -> 1720.818 | S27: ='DATOS REFERENCIALES'!$C$14 -> 0 | T27: =K27+N27+O27+P27+Q27+R27+S27 -> 13912.65 | U27: =$T27*11% -> 1530.3915 | V27: =$T27*3% -> 417.3795 | W27: =$T27*3% -> 417.3795 | X27: =$T27*2% -> 278.253 | Y27: =$T27*4.5% -> 626.06925 | Z27: =SUM(U27:Y27) -> 3269.4727 | AA27: =T27-Z27 -> 10643.177 | AB27: ='DATOS REFERENCIALES'!$C$10 -> 1520 | AC27: =IF((IF(H27>1119,('DATOS REFERENCIALES'!$C$9-(T27-U27-V27-W27-X27-Y27+AB27-L27-L27*0.235-(S27-S27*0.235))),(('DATOS REFERENCIALES'!$C$9/1120)*H27)-(K27+N27+O27+P27+Q27+R27-U27-V27-W27-X27-Y27+AB27-(L27-L27*0.235)-(S27*0.235))))<0,0,IF(H27>1119,(('DATOS REFERENCIALES'!$C$9)-(T27-U27-V27-W27-X27-Y27+AB27-(L27-L27*0.235)-(S27-S27*0.235))),(('DATOS REFERENCIALES'!$C$9/1120)*H27)-(K27+N27+O27+P27+Q27+R27-U27-V27-W27-X27-Y27+AB27-(L27-L27*0.235)-(S27*0.235)))) -> 4986.8227 | AD27: =SUM(AA27:AC27) -> 17150 | AE27: ='DATOS REFERENCIALES'!$C$13 -> 1210 | AG27: =IF($H27>1120,'DATOS REFERENCIALES'!C17,'DATOS REFERENCIALES'!C17/1120*$H27) -> 1500 | AH27: ='DATOS REFERENCIALES'!$C$12 -> 210 | AI27: =SUM(AD27:AH27) -> 20070 | AJ27: ='DATOS REFERENCIALES'!$C$16 -> 772 | AK27: =AJ27*$AK$8 -> 181.42 | AL27: =AJ27-AK27 -> 590.58 | AM27: =AI27+AL27 -> 20660.58
A28: 546 | B28: Maestro Psicólogo | C28: 0 | G28: 1120 | H28: =SUM(G28:G28) -> 1120 | K28: =H28*'DATOS REFERENCIALES'!$C$4 -> 7197.12 | N28: =LOOKUP(C28,'TABLA ANTIG.'!$A$4:$A$39,'TABLA ANTIG.'!$B$4:$B$39)*(K28) -> 0 | O28: =K28*0.1 -> 719.712 | P28: ='DATOS REFERENCIALES'!$C$8 -> 4275 | Q28: =LOOKUP(C28,'TABLA ANTIG.'!$A$4:$A$39,'TABLA ANTIG.'!$B$4:$B$39)*(P28) -> 0 | R28: =(K28+P28)*0.15 -> 1720.818 | S28: ='DATOS REFERENCIALES'!$C$14 -> 0 | T28: =K28+N28+O28+P28+Q28+R28+S28 -> 13912.65 | U28: =$T28*11% -> 1530.3915 | V28: =$T28*3% -> 417.3795 | W28: =$T28*3% -> 417.3795 | X28: =$T28*2% -> 278.253 | Y28: =$T28*4.5% -> 626.06925 | Z28: =SUM(U28:Y28) -> 3269.4727 | AA28: =T28-Z28 -> 10643.177 | AB28: ='DATOS REFERENCIALES'!$C$10 -> 1520 | AC28: =IF((IF(H28>1119,('DATOS REFERENCIALES'!$C$9-(T28-U28-V28-W28-X28-Y28+AB28-L28-L28*0.235-(S28-S28*0.235))),(('DATOS REFERENCIALES'!$C$9/1120)*H28)-(K28+N28+O28+P28+Q28+R28-U28-V28-W28-X28-Y28+AB28-(L28-L28*0.235)-(S28*0.235))))<0,0,IF(H28>1119,(('DATOS REFERENCIALES'!$C$9)-(T28-U28-V28-W28-X28-Y28+AB28-(L28-L28*0.235)-(S28-S28*0.235))),(('DATOS REFERENCIALES'!$C$9/1120)*H28)-(K28+N28+O28+P28+Q28+R28-U28-V28-W28-X28-Y28+AB28-(L28-L28*0.235)-(S28*0.235)))) -> 4986.8227 | AD28: =SUM(AA28:AC28) -> 17150 | AE28: ='DATOS REFERENCIALES'!$C$13 -> 1210 | AG28: =IF($H28>1120,'DATOS REFERENCIALES'!C17,'DATOS REFERENCIALES'!C17/1120*$H28) -> 1500 | AH28: ='DATOS REFERENCIALES'!$C$12 -> 210 | AI28: =SUM(AD28:AH28) -> 20070 | AJ28: ='DATOS REFERENCIALES'!$C$16 -> 772 | AK28: =AJ28*$AK$8 -> 181.42 | AL28: =AJ28-AK28 -> 590.58 | AM28: =AI28+AL28 -> 20660.58
A29: 571 | B29: Maestro de Actividades Prácticas | C29: 0 | G29: 1120 | H29: =SUM(G29:G29) -> 1120 | K29: =H29*'DATOS REFERENCIALES'!$C$4 -> 7197.12 | N29: =LOOKUP(C29,'TABLA ANTIG.'!$A$4:$A$39,'TABLA ANTIG.'!$B$4:$B$39)*(K29) -> 0 | O29: =K29*0.1 -> 719.712 | P29: ='DATOS REFERENCIALES'!$C$8 -> 4275 | Q29: =LOOKUP(C29,'TABLA ANTIG.'!$A$4:$A$39,'TABLA ANTIG.'!$B$4:$B$39)*(P29) -> 0 | R29: =(K29+P29)*0.15 -> 1720.818 | S29: ='DATOS REFERENCIALES'!$C$14 -> 0 | T29: =K29+N29+O29+P29+Q29+R29+S29 -> 13912.65 | U29: =$T29*11% -> 1530.3915 | V29: =$T29*3% -> 417.3795 | W29: =$T29*3% -> 417.3795 | X29: =$T29*2% -> 278.253 | Y29: =$T29*4.5% -> 626.06925 | Z29: =SUM(U29:Y29) -> 3269.4727 | AA29: =T29-Z29 -> 10643.177 | AB29: ='DATOS REFERENCIALES'!$C$10 -> 1520 | AC29: =IF((IF(H29>1119,('DATOS REFERENCIALES'!$C$9-(T29-U29-V29-W29-X29-Y29+AB29-L29-L29*0.235-(S29-S29*0.235))),(('DATOS REFERENCIALES'!$C$9/1120)*H29)-(K29+N29+O29+P29+Q29+R29-U29-V29-W29-X29-Y29+AB29-(L29-L29*0.235)-(S29*0.235))))<0,0,IF(H29>1119,(('DATOS REFERENCIALES'!$C$9)-(T29-U29-V29-W29-X29-Y29+AB29-(L29-L29*0.235)-(S29-S29*0.235))),(('DATOS REFERENCIALES'!$C$9/1120)*H29)-(K29+N29+O29+P29+Q29+R29-U29-V29-W29-X29-Y29+AB29-(L29-L29*0.235)-(S29*0.235)))) -> 4986.8227 | AD29: =SUM(AA29:AC29) -> 17150 | AE29: ='DATOS REFERENCIALES'!$C$13 -> 1210 | AG29: =IF($H29>1120,'DATOS REFERENCIALES'!C17,'DATOS REFERENCIALES'!C17/1120*$H29) -> 1500 | AH29: ='DATOS REFERENCIALES'!$C$12 -> 210 | AI29: =SUM(AD29:AH29) -> 20070 | AJ29: ='DATOS REFERENCIALES'!$C$16 -> 772 | AK29: =AJ29*$AK$8 -> 181.42 | AL29: =AJ29-AK29 -> 590.58 | AM29: =AI29+AL29 -> 20660.58
A30: 582 | B30: Preceptor/Maestro Celador | C30: 0 | G30: 959.5 | H30: =SUM(G30:G30) -> 959.5 | K30: =H30*'DATOS REFERENCIALES'!$C$4 -> 6165.747 | N30: =LOOKUP(C30,'TABLA ANTIG.'!$A$4:$A$39,'TABLA ANTIG.'!$B$4:$B$39)*(K30) -> 0 | O30: =K30*0.1 -> 616.5747 | P30: ='DATOS REFERENCIALES'!$C$8 -> 4275 | Q30: =LOOKUP(C30,'TABLA ANTIG.'!$A$4:$A$39,'TABLA ANTIG.'!$B$4:$B$39)*(P30) -> 0 | R30: =(K30+P30)*0.15 -> 1566.112 | S30: ='DATOS REFERENCIALES'!$C$14 -> 0 | T30: =K30+N30+O30+P30+Q30+R30+S30 -> 12623.434 | U30: =$T30*11% -> 1388.5777 | V30: =$T30*3% -> 378.70301 | W30: =$T30*3% -> 378.70301 | X30: =$T30*2% -> 252.46868 | Y30: =$T30*4.5% -> 568.05452 | Z30: =SUM(U30:Y30) -> 2966.5069 | AA30: =T30-Z30 -> 9656.9268 | AB30: ='DATOS REFERENCIALES'!$C$10 -> 1520 | AC30: =IF((IF(H30>1119,('DATOS REFERENCIALES'!$C$9-(T30-U30-V30-W30-X30-Y30+AB30-L30-L30*0.235-(S30-S30*0.235))),(('DATOS REFERENCIALES'!$C$9/1120)*H30)-(K30+N30+O30+P30+Q30+R30-U30-V30-W30-X30-Y30+AB30-(L30-L30*0.235)-(S30*0.235))))<0,0,IF(H30>1119,(('DATOS REFERENCIALES'!$C$9)-(T30-(U30+V30+W30+X30+Y30)+AB30-(L30-L30*0.235)+(S30-S30*0.235))),(('DATOS REFERENCIALES'!$C$9/1120)*H30)-((K30+N30+O30+P30+Q30+R30)-(U30+V30+W30+X30+Y30)+AB30-(L30-L30*0.235)+(S30*0.235)))) -> 3515.4169 | AD30: =SUM(AA30:AC30) -> 14692.344 | AE30: ='DATOS REFERENCIALES'!$C$13 -> 1210 | AG30: =IF($H30>1120,'DATOS REFERENCIALES'!C17,'DATOS REFERENCIALES'!C17/1120*$H30) -> 1285.0446 | AH30: ='DATOS REFERENCIALES'!$C$12 -> 210 | AI30: =SUM(AD30:AH30) -> 17397.388 | AJ30: ='DATOS REFERENCIALES'!$C$16 -> 772 | AK30: =AJ30*$AK$8 -> 181.42 | AL30: =AJ30-AK30 -> 590.58 | AM30: =AI30+AL30 -> 17987.968
A31: 583 | B31: Maestro de Grupo Escolar Auxiliar | C31: 0 | G31: 982 | H31: =SUM(G31:G31) -> 982 | K31: =H31*'DATOS REFERENCIALES'!$C$4 -> 6310.332 | N31: =LOOKUP(C31,'TABLA ANTIG.'!$A$4:$A$39,'TABLA ANTIG.'!$B$4:$B$39)*(K31) -> 0 | O31: =K31*0.1 -> 631.0332 | P31: ='DATOS REFERENCIALES'!$C$8 -> 4275 | Q31: =LOOKUP(C31,'TABLA ANTIG.'!$A$4:$A$39,'TABLA ANTIG.'!$B$4:$B$39)*(P31) -> 0 | R31: =(K31+P31)*0.15 -> 1587.7998 | S31: ='DATOS REFERENCIALES'!$C$14 -> 0 | T31: =K31+N31+O31+P31+Q31+R31+S31 -> 12804.165 | U31: =$T31*11% -> 1408.4582 | V31: =$T31*3% -> 384.12495 | W31: =$T31*3% -> 384.12495 | X31: =$T31*2% -> 256.0833 | Y31: =$T31*4.5% -> 576.18742 | Z31: =SUM(U31:Y31) -> 3008.9788 | AA31: =T31-Z31 -> 9795.1862 | AB31: ='DATOS REFERENCIALES'!$C$10 -> 1520 | AC31: =IF((IF(H31>1119,('DATOS REFERENCIALES'!$C$9-(T31-U31-V31-W31-X31-Y31+AB31-L31-L31*0.235-(S31-S31*0.235))),(('DATOS REFERENCIALES'!$C$9/1120)*H31)-(K31+N31+O31+P31+Q31+R31-U31-V31-W31-X31-Y31+AB31-(L31-L31*0.235)-(S31*0.235))))<0,0,IF(H31>1119,(('DATOS REFERENCIALES'!$C$9)-(T31-(U31+V31+W31+X31+Y31)+AB31-(L31-L31*0.235)+(S31-S31*0.235))),(('DATOS REFERENCIALES'!$C$9/1120)*H31)-((K31+N31+O31+P31+Q31+R31)-(U31+V31+W31+X31+Y31)+AB31-(L31-L31*0.235)+(S31*0.235)))) -> 3721.6888 | AD31: =SUM(AA31:AC31) -> 15036.875 | AE31: ='DATOS REFERENCIALES'!$C$13 -> 1210 | AG31: =IF($H31>1120,'DATOS REFERENCIALES'!C17,'DATOS REFERENCIALES'!C17/1120*$H31) -> 1315.1786 | AH31: ='DATOS REFERENCIALES'!$C$12 -> 210 | AI31: =SUM(AD31:AH31) -> 17772.054 | AJ31: ='DATOS REFERENCIALES'!$C$16 -> 772 | AK31: =AJ31*$AK$8 -> 181.42 | AL31: =AJ31-AK31 -> 590.58 | AM31: =AI31+AL31 -> 18362.634
A32: 554 | B32: Ayudante Clases/Trabajos Prácticos | C32: 0 | G32: 810 | H32: =SUM(G32:G32) -> 810 | K32: =H32*'DATOS REFERENCIALES'!$C$4 -> 5205.06 | N32: =LOOKUP(C32,'TABLA ANTIG.'!$A$4:$A$39,'TABLA ANTIG.'!$B$4:$B$39)*(K32) -> 0 | O32: =K32*0.1 -> 520.506 | P32: ='DATOS REFERENCIALES'!$C$8 -> 4275 | Q32: =LOOKUP(C32,'TABLA ANTIG.'!$A$4:$A$39,'TABLA ANTIG.'!$B$4:$B$39)*(P32) -> 0 | R32: =(K32+P32)*0.15 -> 1422.009 | S32: ='DATOS REFERENCIALES'!$C$14 -> 0 | T32: =K32+N32+O32+P32+Q32+R32+S32 -> 11422.575 | U32: =$T32*11% -> 1256.4832 | V32: =$T32*3% -> 342.67725 | W32: =$T32*3% -> 342.67725 | X32: =$T32*2% -> 228.4515 | Y32: =$T32*4.5% -> 514.01588 | Z32: =SUM(U32:Y32) -> 2684.3051 | AA32: =T32-Z32 -> 8738.2699 | AB32: ='DATOS REFERENCIALES'!$C$10 -> 1520 | AC32: =IF((IF(H32>1119,('DATOS REFERENCIALES'!$C$9-(T32-U32-V32-W32-X32-Y32+AB32-L32-L32*0.235-(S32-S32*0.235))),(('DATOS REFERENCIALES'!$C$9/1120)*H32)-(K32+N32+O32+P32+Q32+R32-U32-V32-W32-X32-Y32+AB32-(L32-L32*0.235)-(S32*0.235))))<0,0,IF(H32>1119,(('DATOS REFERENCIALES'!$C$9)-(T32-(U32+V32+W32+X32+Y32)+AB32-(L32-L32*0.235)+(S32-S32*0.235))),(('DATOS REFERENCIALES'!$C$9/1120)*H32)-((K32+N32+O32+P32+Q32+R32)-(U32+V32+W32+X32+Y32)+AB32-(L32-L32*0.235)+(S32*0.235)))) -> 2144.8551 | AD32: =SUM(AA32:AC32) -> 12403.125 | AE32: ='DATOS REFERENCIALES'!$C$13 -> 1210 | AG32: =IF($H32>1120,'DATOS REFERENCIALES'!C17,'DATOS REFERENCIALES'!C17/1120*$H32) -> 1084.8214 | AH32: ='DATOS REFERENCIALES'!$C$12 -> 210 | AI32: =SUM(AD32:AH32) -> 14907.946 | AJ32: ='DATOS REFERENCIALES'!$C$16 -> 772 | AK32: =AJ32*$AK$8 -> 181.42 | AL32: =AJ32-AK32 -> 590.58 | AM32: =AI32+AL32 -> 15498.526
A33: 536 | B33: Maestro Gabinetista Psicotécnico | C33: 0 | G33: 1120 | H33: =SUM(G33:G33) -> 1120 | K33: =H33*'DATOS REFERENCIALES'!$C$4 -> 7197.12 | N33: =LOOKUP(C33,'TABLA ANTIG.'!$A$4:$A$39,'TABLA ANTIG.'!$B$4:$B$39)*(K33) -> 0 | O33: =K33*0.1 -> 719.712 | P33: ='DATOS REFERENCIALES'!$C$8 -> 4275 | Q33: =LOOKUP(C33,'TABLA ANTIG.'!$A$4:$A$39,'TABLA ANTIG.'!$B$4:$B$39)*(P33) -> 0 | R33: =(K33+P33)*0.15 -> 1720.818 | S33: ='DATOS REFERENCIALES'!$C$14 -> 0 | T33: =K33+N33+O33+P33+Q33+R33+S33 -> 13912.65 | U33: =$T33*11% -> 1530.3915 | V33: =$T33*3% -> 417.3795 | W33: =$T33*3% -> 417.3795 | X33: =$T33*2% -> 278.253 | Y33: =$T33*4.5% -> 626.06925 | Z33: =SUM(U33:Y33) -> 3269.4727 | AA33: =T33-Z33 -> 10643.177 | AB33: ='DATOS REFERENCIALES'!$C$10 -> 1520 | AC33: =IF((IF(H33>1119,('DATOS REFERENCIALES'!$C$9-(T33-U33-V33-W33-X33-Y33+AB33-L33-L33*0.235-(S33-S33*0.235))),(('DATOS REFERENCIALES'!$C$9/1120)*H33)-(K33+N33+O33+P33+Q33+R33-U33-V33-W33-X33-Y33+AB33-(L33-L33*0.235)-(S33*0.235))))<0,0,IF(H33>1119,(('DATOS REFERENCIALES'!$C$9)-(T33-U33-V33-W33-X33-Y33+AB33-(L33-L33*0.235)-(S33-S33*0.235))),(('DATOS REFERENCIALES'!$C$9/1120)*H33)-(K33+N33+O33+P33+Q33+R33-U33-V33-W33-X33-Y33+AB33-(L33-L33*0.235)-(S33*0.235)))) -> 4986.8227 | AD33: =SUM(AA33:AC33) -> 17150 | AE33: ='DATOS REFERENCIALES'!$C$13 -> 1210 | AG33: =IF($H33>1120,'DATOS REFERENCIALES'!C17,'DATOS REFERENCIALES'!C17/1120*$H33) -> 1500 | AH33: ='DATOS REFERENCIALES'!$C$12 -> 210 | AI33: =SUM(AD33:AH33) -> 20070 | AJ33: ='DATOS REFERENCIALES'!$C$16 -> 772 | AK33: =AJ33*$AK$8 -> 181.42 | AL33: =AJ33-AK33 -> 590.58 | AM33: =AI33+AL33 -> 20660.58
A34: 580 | B34: Maestro Bibliotecario | C34: 0 | G34: 1120 | H34: =SUM(G34:G34) -> 1120 | K34: =H34*'DATOS REFERENCIALES'!$C$4 -> 7197.12 | N34: =LOOKUP(C34,'TABLA ANTIG.'!$A$4:$A$39,'TABLA ANTIG.'!$B$4:$B$39)*(K34) -> 0 | O34: =K34*0.1 -> 719.712 | P34: ='DATOS REFERENCIALES'!$C$8 -> 4275 | Q34: =LOOKUP(C34,'TABLA ANTIG.'!$A$4:$A$39,'TABLA ANTIG.'!$B$4:$B$39)*(P34) -> 0 | R34: =(K34+P34)*0.15 -> 1720.818 | S34: ='DATOS REFERENCIALES'!$C$14 -> 0 | T34: =K34+N34+O34+P34+Q34+R34+S34 -> 13912.65 | U34: =$T34*11% -> 1530.3915 | V34: =$T34*3% -> 417.3795 | W34: =$T34*3% -> 417.3795 | X34: =$T34*2% -> 278.253 | Y34: =$T34*4.5% -> 626.06925 | Z34: =SUM(U34:Y34) -> 3269.4727 | AA34: =T34-Z34 -> 10643.177 | AB34: ='DATOS REFERENCIALES'!$C$10 -> 1520 | AC34: =IF((IF(H34>1119,('DATOS REFERENCIALES'!$C$9-(T34-U34-V34-W34-X34-Y34+AB34-L34-L34*0.235-(S34-S34*0.235))),(('DATOS REFERENCIALES'!$C$9/1120)*H34)-(K34+N34+O34+P34+Q34+R34-U34-V34-W34-X34-Y34+AB34-(L34-L34*0.235)-(S34*0.235))))<0,0,IF(H34>1119,(('DATOS REFERENCIALES'!$C$9)-(T34-U34-V34-W34-X34-Y34+AB34-(L34-L34*0.235)-(S34-S34*0.235))),(('DATOS REFERENCIALES'!$C$9/1120)*H34)-(K34+N34+O34+P34+Q34+R34-U34-V34-W34-X34-Y34+AB34-(L34-L34*0.235)-(S34*0.235)))) -> 4986.8227 | AD34: =SUM(AA34:AC34) -> 17150 | AE34: ='DATOS REFERENCIALES'!$C$13 -> 1210 | AG34: =IF($H34>1120,'DATOS REFERENCIALES'!C17,'DATOS REFERENCIALES'!C17/1120*$H34) -> 1500 | AH34: ='DATOS REFERENCIALES'!$C$12 -> 210 | AI34: =SUM(AD34:AH34) -> 20070 | AJ34: ='DATOS REFERENCIALES'!$C$16 -> 772 | AK34: =AJ34*$AK$8 -> 181.42 | AL34: =AJ34-AK34 -> 590.58 | AM34: =AI34+AL34 -> 20660.58
A35: 6539 | B35: Hora Maestro de Grado o Grupo | C35: 0 | D35: 1 | G35: 56 | H35: =SUM(G35:G35) -> 56 | K35: =(H35*'DATOS REFERENCIALES'!$C$4)*D35 -> 359.856 | N35: =LOOKUP(C35,'TABLA ANTIG.'!$A$4:$A$39,'TABLA ANTIG.'!$B$4:$B$39)*(K35) -> 0 | O35: =K35*0.1 -> 35.9856 | P35: =IF(D35>48,'DATOS REFERENCIALES'!$D$8+('DATOS REFERENCIALES'!$F$8*10),IF(D35<39,'DATOS REFERENCIALES'!$E$8*D35,((D35-'DATOS REFERENCIALES'!$I$8)*'DATOS REFERENCIALES'!$F$8)+'DATOS REFERENCIALES'!$D$8)) -> 225 | Q35: =LOOKUP(C35,'TABLA ANTIG.'!$A$4:$A$39,'TABLA ANTIG.'!$B$4:$B$39)*(P35) -> 0 | R35: =(K35+P35)*0.15 -> 87.7284 | S35: =IF(D35>29.99,'DATOS REFERENCIALES'!$D$14,'DATOS REFERENCIALES'!$E$14*D35) -> 0 | T35: =K35+N35+O35+P35+Q35+R35+S35 -> 708.57 | U35: =$T35*11% -> 77.9427 | V35: =$T35*3% -> 21.2571 | W35: =$T35*3% -> 21.2571 | X35: =$T35*2% -> 14.1714 | Y35: =$T35*4.5% -> 31.88565 | Z35: =SUM(U35:Y35) -> 166.51395 | AA35: =T35-Z35 -> 542.05605 | AB35: =IF(D35>38,'DATOS REFERENCIALES'!$D$10,'DATOS REFERENCIALES'!$E$10*D35) -> 80 | AC35: =IF(D35>41,IF((('DATOS REFERENCIALES'!$D$9)-((T35-S35)-(Z35-S35*0.235)+(AB35)))<0,0,((('DATOS REFERENCIALES'!$D$9)-((T35-S35)-(Z35-S35*0.235)+(AB35))))),IF((('DATOS REFERENCIALES'!$E$9*D35)-(((T35-S35)-(Z35-S35*0.235)+(AB35))))<0,0,('DATOS REFERENCIALES'!$E$9*D35)-((T35-S35)-(Z35-S35*0.235)+(AB35)))) -> 235.44395 | AD35: =SUM(AA35:AC35) -> 857.5 | AE35: =IF(D35>30,'DATOS REFERENCIALES'!$D$13,('DATOS REFERENCIALES'!$E$13*D35)) -> 80.66666 | AG35: =IF(D35>'DATOS REFERENCIALES'!$I$17,'DATOS REFERENCIALES'!$D$17,('DATOS REFERENCIALES'!$E$17*D35)) -> 75 | AH35: =IF(D35>'DATOS REFERENCIALES'!$I$12,'DATOS REFERENCIALES'!$D$12,'DATOS REFERENCIALES'!$E$12*D35) -> 14 | AI35: =SUM(AD35:AH35) -> 1027.1667 | AJ35: =IF(D35>'DATOS REFERENCIALES'!$I$16,'DATOS REFERENCIALES'!$D$16,'DATOS REFERENCIALES'!$E$16*D35) -> 51.47 | AK35: =AJ35*$AK$8 -> 12.09545 | AL35: =AJ35-AK35 -> 39.37455 | AM35: =AI35+AL35 -> 1066.5412
A36: 6540 | B36: Hora Maestro Reeducador Vocal | C36: 0 | D36: 1 | G36: 56 | H36: =SUM(G36:G36) -> 56 | K36: =(H36*'DATOS REFERENCIALES'!$C$4)*D36 -> 359.856 | N36: =LOOKUP(C36,'TABLA ANTIG.'!$A$4:$A$39,'TABLA ANTIG.'!$B$4:$B$39)*(K36) -> 0 | O36: =K36*0.1 -> 35.9856 | P36: =IF(D36>48,'DATOS REFERENCIALES'!D22+('DATOS REFERENCIALES'!F22*10),IF(D36<39,'DATOS REFERENCIALES'!$E$8*D36,((D36-'DATOS REFERENCIALES'!$I$8)*'DATOS REFERENCIALES'!$F$8)+'DATOS REFERENCIALES'!D22)) -> 225 | Q36: =LOOKUP(C36,'TABLA ANTIG.'!$A$4:$A$39,'TABLA ANTIG.'!$B$4:$B$39)*(P36) -> 0 | R36: =(K36+P36)*0.15 -> 87.7284 | S36: =IF(D36>29.99,'DATOS REFERENCIALES'!$D$14,'DATOS REFERENCIALES'!$E$14*D36) -> 0 | T36: =K36+N36+O36+P36+Q36+R36+S36 -> 708.57 | U36: =$T36*11% -> 77.9427 | V36: =$T36*3% -> 21.2571 | W36: =$T36*3% -> 21.2571 | X36: =$T36*2% -> 14.1714 | Y36: =$T36*4.5% -> 31.88565 | Z36: =SUM(U36:Y36) -> 166.51395 | AA36: =T36-Z36 -> 542.05605 | AB36: =IF(D36>38,'DATOS REFERENCIALES'!$D$10,'DATOS REFERENCIALES'!$E$10*D36) -> 80 | AC36: =IF(D36>41,IF((('DATOS REFERENCIALES'!$D$9)-((T36-S36)-(Z36-S36*0.235)+(AB36)))<0,0,((('DATOS REFERENCIALES'!$D$9)-((T36-S36)-(Z36-S36*0.235)+(AB36))))),IF((('DATOS REFERENCIALES'!$E$9*D36)-(((T36-S36)-(Z36-S36*0.235)+(AB36))))<0,0,('DATOS REFERENCIALES'!$E$9*D36)-((T36-S36)-(Z36-S36*0.235)+(AB36)))) -> 235.44395 | AD36: =SUM(AA36:AC36) -> 857.5 | AE36: =IF(D36>30,'DATOS REFERENCIALES'!$D$13,('DATOS REFERENCIALES'!$E$13*D36)) -> 80.66666 | AG36: =IF(D36>'DATOS REFERENCIALES'!$I$17,'DATOS REFERENCIALES'!$D$17,('DATOS REFERENCIALES'!$E$17*D36)) -> 75 | AH36: =IF(D36>'DATOS REFERENCIALES'!$I$12,'DATOS REFERENCIALES'!$D$12,'DATOS REFERENCIALES'!$E$12*D36) -> 14 | AI36: =SUM(AD36:AH36) -> 1027.1667 | AJ36: =IF(D36>'DATOS REFERENCIALES'!$I$16,'DATOS REFERENCIALES'!$D$16,'DATOS REFERENCIALES'!$E$16*D36) -> 51.47 | AK36: =AJ36*$AK$8 -> 12.09545 | AL36: =AJ36-AK36 -> 39.37455 | AM36: =AI36+AL36 -> 1066.5412
A37: 6541 | B37: Hora Maestro Reeducador Acústico | C37: 0 | D37: 1 | G37: 56 | H37: =SUM(G37:G37) -> 56 | K37: =(H37*'DATOS REFERENCIALES'!$C$4)*D37 -> 359.856 | N37: =LOOKUP(C37,'TABLA ANTIG.'!$A$4:$A$39,'TABLA ANTIG.'!$B$4:$B$39)*(K37) -> 0 | O37: =K37*0.1 -> 35.9856 | P37: =IF(D37>48,'DATOS REFERENCIALES'!$D$8+('DATOS REFERENCIALES'!$F$8*10),IF(D37<39,'DATOS REFERENCIALES'!$E$8*D37,((D37-'DATOS REFERENCIALES'!$I$8)*'DATOS REFERENCIALES'!$F$8)+'DATOS REFERENCIALES'!$D$8)) -> 225 | Q37: =LOOKUP(C37,'TABLA ANTIG.'!$A$4:$A$39,'TABLA ANTIG.'!$B$4:$B$39)*(P37) -> 0 | R37: =(K37+P37)*0.15 -> 87.7284 | S37: =IF(D37>29.99,'DATOS REFERENCIALES'!$D$14,'DATOS REFERENCIALES'!$E$14*D37) -> 0 | T37: =K37+N37+O37+P37+Q37+R37+S37 -> 708.57 | U37: =$T37*11% -> 77.9427 | V37: =$T37*3% -> 21.2571 | W37: =$T37*3% -> 21.2571 | X37: =$T37*2% -> 14.1714 | Y37: =$T37*4.5% -> 31.88565 | Z37: =SUM(U37:Y37) -> 166.51395 | AA37: =T37-Z37 -> 542.05605 | AB37: =IF(D37>38,'DATOS REFERENCIALES'!$D$10,'DATOS REFERENCIALES'!$E$10*D37) -> 80 | AC37: =IF(D37>41,IF((('DATOS REFERENCIALES'!$D$9)-((T37-S37)-(Z37-S37*0.235)+(AB37)))<0,0,((('DATOS REFERENCIALES'!$D$9)-((T37-S37)-(Z37-S37*0.235)+(AB37))))),IF((('DATOS REFERENCIALES'!$E$9*D37)-(((T37-S37)-(Z37-S37*0.235)+(AB37))))<0,0,('DATOS REFERENCIALES'!$E$9*D37)-((T37-S37)-(Z37-S37*0.235)+(AB37)))) -> 235.44395 | AD37: =SUM(AA37:AC37) -> 857.5 | AE37: =IF(D37>30,'DATOS REFERENCIALES'!$D$13,('DATOS REFERENCIALES'!$E$13*D37)) -> 80.66666 | AG37: =IF(D37>'DATOS REFERENCIALES'!$I$17,'DATOS REFERENCIALES'!$D$17,('DATOS REFERENCIALES'!$E$17*D37)) -> 75 | AH37: =IF(D37>'DATOS REFERENCIALES'!$I$12,'DATOS REFERENCIALES'!$D$12,'DATOS REFERENCIALES'!$E$12*D37) -> 14 | AI37: =SUM(AD37:AH37) -> 1027.1667 | AJ37: =IF(D37>'DATOS REFERENCIALES'!$I$16,'DATOS REFERENCIALES'!$D$16,'DATOS REFERENCIALES'!$E$16*D37) -> 51.47 | AK37: =AJ37*$AK$8 -> 12.09545 | AL37: =AJ37-AK37 -> 39.37455 | AM37: =AI37+AL37 -> 1066.5412
A38: 6850 | B38: Hora Maestro Asistente Social | C38: 0 | D38: 1 | G38: 56 | H38: =SUM(G38:G38) -> 56 | K38: =(H38*'DATOS REFERENCIALES'!$C$4)*D38 -> 359.856 | N38: =LOOKUP(C38,'TABLA ANTIG.'!$A$4:$A$39,'TABLA ANTIG.'!$B$4:$B$39)*(K38) -> 0 | O38: =K38*0.1 -> 35.9856 | P38: =IF(D38>48,'DATOS REFERENCIALES'!$D$8+('DATOS REFERENCIALES'!$F$8*10),IF(D38<39,'DATOS REFERENCIALES'!$E$8*D38,((D38-'DATOS REFERENCIALES'!$I$8)*'DATOS REFERENCIALES'!$F$8)+'DATOS REFERENCIALES'!$D$8)) -> 225 | Q38: =LOOKUP(C38,'TABLA ANTIG.'!$A$4:$A$39,'TABLA ANTIG.'!$B$4:$B$39)*(P38) -> 0 | R38: =(K38+P38)*0.15 -> 87.7284 | S38: =IF(D38>29.99,'DATOS REFERENCIALES'!$D$14,'DATOS REFERENCIALES'!$E$14*D38) -> 0 | T38: =K38+N38+O38+P38+Q38+R38+S38 -> 708.57 | U38: =$T38*11% -> 77.9427 | V38: =$T38*3% -> 21.2571 | W38: =$T38*3% -> 21.2571 | X38: =$T38*2% -> 14.1714 | Y38: =$T38*4.5% -> 31.88565 | Z38: =SUM(U38:Y38) -> 166.51395 | AA38: =T38-Z38 -> 542.05605 | AB38: =IF(D38>38,'DATOS REFERENCIALES'!$D$10,'DATOS REFERENCIALES'!$E$10*D38) -> 80 | AC38: =IF(D38>41,IF((('DATOS REFERENCIALES'!$D$9)-((T38-S38)-(Z38-S38*0.235)+(AB38)))<0,0,((('DATOS REFERENCIALES'!$D$9)-((T38-S38)-(Z38-S38*0.235)+(AB38))))),IF((('DATOS REFERENCIALES'!$E$9*D38)-(((T38-S38)-(Z38-S38*0.235)+(AB38))))<0,0,('DATOS REFERENCIALES'!$E$9*D38)-((T38-S38)-(Z38-S38*0.235)+(AB38)))) -> 235.44395 | AD38: =SUM(AA38:AC38) -> 857.5 | AE38: =IF(D38>30,'DATOS REFERENCIALES'!$D$13,('DATOS REFERENCIALES'!$E$13*D38)) -> 80.66666 | AG38: =IF(D38>'DATOS REFERENCIALES'!$I$17,'DATOS REFERENCIALES'!$D$17,('DATOS REFERENCIALES'!$E$17*D38)) -> 75 | AH38: =IF(D38>'DATOS REFERENCIALES'!$I$12,'DATOS REFERENCIALES'!$D$12,'DATOS REFERENCIALES'!$E$12*D38) -> 14 | AI38: =SUM(AD38:AH38) -> 1027.1667 | AJ38: =IF(D38>'DATOS REFERENCIALES'!$I$16,'DATOS REFERENCIALES'!$D$16,'DATOS REFERENCIALES'!$E$16*D38) -> 51.47 | AK38: =AJ38*$AK$8 -> 12.09545 | AL38: =AJ38-AK38 -> 39.37455 | AM38: =AI38+AL38 -> 1066.5412
A39: 6546 | B39: Hora Maestro Psicólogo | C39: 0 | D39: 1 | G39: 74.67 | H39: =SUM(G39:G39) -> 74.67 | K39: =(H39*'DATOS REFERENCIALES'!$C$4)*D39 -> 479.82942 | N39: =LOOKUP(C39,'TABLA ANTIG.'!$A$4:$A$39,'TABLA ANTIG.'!$B$4:$B$39)*(K39) -> 0 | O39: =K39*0.1 -> 47.982942 | P39: =IF(D39>48,'DATOS REFERENCIALES'!$D$8+('DATOS REFERENCIALES'!$F$8*10),IF(D39<39,'DATOS REFERENCIALES'!$E$8*D39,((D39-'DATOS REFERENCIALES'!$I$8)*'DATOS REFERENCIALES'!$F$8)+'DATOS REFERENCIALES'!$D$8)) -> 225 | Q39: =LOOKUP(C39,'TABLA ANTIG.'!$A$4:$A$39,'TABLA ANTIG.'!$B$4:$B$39)*(P39) -> 0 | R39: =(K39+P39)*0.15 -> 105.72441 | S39: =IF(D39>29.99,'DATOS REFERENCIALES'!$D$14,'DATOS REFERENCIALES'!$E$14*D39) -> 0 | T39: =K39+N39+O39+P39+Q39+R39+S39 -> 858.53678 | U39: =$T39*11% -> 94.439045 | V39: =$T39*3% -> 25.756103 | W39: =$T39*3% -> 25.756103 | X39: =$T39*2% -> 17.170736 | Y39: =$T39*4.5% -> 38.634155 | Z39: =SUM(U39:Y39) -> 201.75614 | AA39: =T39-Z39 -> 656.78063 | AB39: =IF(D39>38,'DATOS REFERENCIALES'!$D$10,'DATOS REFERENCIALES'!$E$10*D39) -> 80 | AC39: =IF(D39>41,IF((('DATOS REFERENCIALES'!$D$9)-((T39-S39)-(Z39-S39*0.235)+(AB39)))<0,0,((('DATOS REFERENCIALES'!$D$9)-((T39-S39)-(Z39-S39*0.235)+(AB39))))),IF((('DATOS REFERENCIALES'!$E$9*D39)-(((T39-S39)-(Z39-S39*0.235)+(AB39))))<0,0,('DATOS REFERENCIALES'!$E$9*D39)-((T39-S39)-(Z39-S39*0.235)+(AB39)))) -> 120.71937 | AD39: =SUM(AA39:AC39) -> 857.5 | AE39: =IF(D39>30,'DATOS REFERENCIALES'!$D$13,('DATOS REFERENCIALES'!$E$13*D39)) -> 80.66666 | AG39: =IF(D39>'DATOS REFERENCIALES'!$I$17,'DATOS REFERENCIALES'!$D$17,('DATOS REFERENCIALES'!$E$17*D39)) -> 75 | AH39: =IF(D39>'DATOS REFERENCIALES'!$I$12,'DATOS REFERENCIALES'!$D$12,'DATOS REFERENCIALES'!$E$12*D39) -> 14 | AI39: =AD39+AE39+AG39+AH39 -> 1027.1667 | AJ39: =IF(D39>'DATOS REFERENCIALES'!$I$16,'DATOS REFERENCIALES'!$D$16,'DATOS REFERENCIALES'!$E$16*D39) -> 51.47 | AK39: =AJ39*$AK$8 -> 12.09545 | AL39: =AJ39-AK39 -> 39.37455 | AM39: =AI39+AL39 -> 1066.5412
A40: 6571 | B40: Hora Maestro Actividades Prácticas | C40: 0 | D40: 1 | G40: 56 | H40: =SUM(G40:G40) -> 56 | K40: =(H40*'DATOS REFERENCIALES'!$C$4)*D40 -> 359.856 | N40: =LOOKUP(C40,'TABLA ANTIG.'!$A$4:$A$39,'TABLA ANTIG.'!$B$4:$B$39)*(K40) -> 0 | O40: =K40*0.1 -> 35.9856 | P40: =IF(D40>48,'DATOS REFERENCIALES'!$D$8+('DATOS REFERENCIALES'!$F$8*10),IF(D40<39,'DATOS REFERENCIALES'!$E$8*D40,((D40-'DATOS REFERENCIALES'!$I$8)*'DATOS REFERENCIALES'!$F$8)+'DATOS REFERENCIALES'!$D$8)) -> 225 | Q40: =LOOKUP(C40,'TABLA ANTIG.'!$A$4:$A$39,'TABLA ANTIG.'!$B$4:$B$39)*(P40) -> 0 | R40: =(K40+P40)*0.15 -> 87.7284 | S40: =IF(D40>29.99,'DATOS REFERENCIALES'!$D$14,'DATOS REFERENCIALES'!$E$14*D40) -> 0 | T40: =K40+N40+O40+P40+Q40+R40+S40 -> 708.57 | U40: =$T40*11% -> 77.9427 | V40: =$T40*3% -> 21.2571 | W40: =$T40*3% -> 21.2571 | X40: =$T40*2% -> 14.1714 | Y40: =$T40*4.5% -> 31.88565 | Z40: =SUM(U40:Y40) -> 166.51395 | AA40: =T40-Z40 -> 542.05605 | AB40: =IF(D40>38,'DATOS REFERENCIALES'!$D$10,'DATOS REFERENCIALES'!$E$10*D40) -> 80 | AC40: =IF(D40>41,IF((('DATOS REFERENCIALES'!$D$9)-((T40-S40)-(Z40-S40*0.235)+(AB40)))<0,0,((('DATOS REFERENCIALES'!$D$9)-((T40-S40)-(Z40-S40*0.235)+(AB40))))),IF((('DATOS REFERENCIALES'!$E$9*D40)-(((T40-S40)-(Z40-S40*0.235)+(AB40))))<0,0,('DATOS REFERENCIALES'!$E$9*D40)-((T40-S40)-(Z40-S40*0.235)+(AB40)))) -> 235.44395 | AD40: =SUM(AA40:AC40) -> 857.5 | AE40: =IF(D40>30,'DATOS REFERENCIALES'!$D$13,('DATOS REFERENCIALES'!$E$13*D40)) -> 80.66666 | AG40: =IF(D40>'DATOS REFERENCIALES'!$I$17,'DATOS REFERENCIALES'!$D$17,('DATOS REFERENCIALES'!$E$17*D40)) -> 75 | AH40: =IF(D40>'DATOS REFERENCIALES'!$I$12,'DATOS REFERENCIALES'!$D$12,'DATOS REFERENCIALES'!$E$12*D40) -> 14 | AI40: =SUM(AD40:AH40) -> 1027.1667 | AJ40: =IF(D40>'DATOS REFERENCIALES'!$I$16,'DATOS REFERENCIALES'!$D$16,'DATOS REFERENCIALES'!$E$16*D40) -> 51.47 | AK40: =AJ40*$AK$8 -> 12.09545 | AL40: =AJ40-AK40 -> 39.37455 | AM40: =AI40+AL40 -> 1066.5412
A41: 6508 | B41: Hora Maestro de Materias Especiales (hora cátedra) | C41: 0 | D41: 1 | G41: 56 | H41: =SUM(G41:G41) -> 56 | K41: =(H41*'DATOS REFERENCIALES'!$C$4)*D41 -> 359.856 | N41: =LOOKUP(C41,'TABLA ANTIG.'!$A$4:$A$39,'TABLA ANTIG.'!$B$4:$B$39)*(K41) -> 0 | O41: =K41*0.1 -> 35.9856 | P41: =IF(D41>48,'DATOS REFERENCIALES'!$D$8+('DATOS REFERENCIALES'!$F$8*10),IF(D41<39,'DATOS REFERENCIALES'!$E$8*D41,((D41-'DATOS REFERENCIALES'!$I$8)*'DATOS REFERENCIALES'!$F$8)+'DATOS REFERENCIALES'!$D$8)) -> 225 | Q41: =LOOKUP(C41,'TABLA ANTIG.'!$A$4:$A$39,'TABLA ANTIG.'!$B$4:$B$39)*(P41) -> 0 | R41: =(K41+P41)*0.15 -> 87.7284 | S41: =IF(D41>29.99,'DATOS REFERENCIALES'!$D$14,'DATOS REFERENCIALES'!$E$14*D41) -> 0 | T41: =K41+N41+O41+P41+Q41+R41+S41 -> 708.57 | U41: =$T41*11% -> 77.9427 | V41: =$T41*3% -> 21.2571 | W41: =$T41*3% -> 21.2571 | X41: =$T41*2% -> 14.1714 | Y41: =$T41*4.5% -> 31.88565 | Z41: =SUM(U41:Y41) -> 166.51395 | AA41: =T41-Z41 -> 542.05605 | AB41: =IF(D41>38,'DATOS REFERENCIALES'!$D$10,'DATOS REFERENCIALES'!$E$10*D41) -> 80 | AC41: =IF(D41>41,IF((('DATOS REFERENCIALES'!$D$9)-((T41-S41)-(Z41-S41*0.235)+(AB41)))<0,0,((('DATOS REFERENCIALES'!$D$9)-((T41-S41)-(Z41-S41*0.235)+(AB41))))),IF((('DATOS REFERENCIALES'!$E$9*D41)-(((T41-S41)-(Z41-S41*0.235)+(AB41))))<0,0,('DATOS REFERENCIALES'!$E$9*D41)-((T41-S41)-(Z41-S41*0.235)+(AB41)))) -> 235.44395 | AD41: =SUM(AA41:AC41) -> 857.5 | AE41: =IF(D41>30,'DATOS REFERENCIALES'!$D$13,('DATOS REFERENCIALES'!$E$13*D41)) -> 80.66666 | AG41: =IF(D41>'DATOS REFERENCIALES'!$I$17,'DATOS REFERENCIALES'!$D$17,('DATOS REFERENCIALES'!$E$17*D41)) -> 75 | AH41: =IF(D41>'DATOS REFERENCIALES'!$I$12,'DATOS REFERENCIALES'!$D$12,'DATOS REFERENCIALES'!$E$12*D41) -> 14 | AI41: =SUM(AD41:AH41) -> 1027.1667 | AJ41: =IF(D41>'DATOS REFERENCIALES'!$I$16,'DATOS REFERENCIALES'!$D$16,'DATOS REFERENCIALES'!$E$16*D41) -> 51.47 | AK41: =AJ41*$AK$8 -> 12.09545 | AL41: =AJ41-AK41 -> 39.37455 | AM41: =AI41+AL41 -> 1066.5412
A42: 6536 | B42: Hora Maestro Gabinetista (M.Gdo. /20 hs) | C42: 0 | D42: 1 | G42: 56 | H42: =SUM(G42:G42) -> 56 | K42: =(H42*'DATOS REFERENCIALES'!$C$4)*D42 -> 359.856 | N42: =LOOKUP(C42,'TABLA ANTIG.'!$A$4:$A$39,'TABLA ANTIG.'!$B$4:$B$39)*(K42) -> 0 | O42: =K42*0.1 -> 35.9856 | P42: =IF(D42>48,'DATOS REFERENCIALES'!$D$8+('DATOS REFERENCIALES'!$F$8*10),IF(D42<39,'DATOS REFERENCIALES'!$E$8*D42,((D42-'DATOS REFERENCIALES'!$I$8)*'DATOS REFERENCIALES'!$F$8)+'DATOS REFERENCIALES'!$D$8)) -> 225 | Q42: =LOOKUP(C42,'TABLA ANTIG.'!$A$4:$A$39,'TABLA ANTIG.'!$B$4:$B$39)*(P42) -> 0 | R42: =(K42+P42)*0.15 -> 87.7284 | S42: =IF(D42>29.99,'DATOS REFERENCIALES'!$D$14,'DATOS REFERENCIALES'!$E$14*D42) -> 0 | T42: =K42+N42+O42+P42+Q42+R42+S42 -> 708.57 | U42: =$T42*11% -> 77.9427 | V42: =$T42*3% -> 21.2571 | W42: =$T42*3% -> 21.2571 | X42: =$T42*2% -> 14.1714 | Y42: =$T42*4.5% -> 31.88565 | Z42: =SUM(U42:Y42) -> 166.51395 | AA42: =T42-Z42 -> 542.05605 | AB42: =IF(D42>38,'DATOS REFERENCIALES'!$D$10,'DATOS REFERENCIALES'!$E$10*D42) -> 80 | AC42: =IF(D42>41,IF((('DATOS REFERENCIALES'!$D$9)-((T42-S42)-(Z42-S42*0.235)+(AB42)))<0,0,((('DATOS REFERENCIALES'!$D$9)-((T42-S42)-(Z42-S42*0.235)+(AB42))))),IF((('DATOS REFERENCIALES'!$E$9*D42)-(((T42-S42)-(Z42-S42*0.235)+(AB42))))<0,0,('DATOS REFERENCIALES'!$E$9*D42)-((T42-S42)-(Z42-S42*0.235)+(AB42)))) -> 235.44395 | AD42: =SUM(AA42:AC42) -> 857.5 | AE42: =IF(D42>30,'DATOS REFERENCIALES'!$D$13,('DATOS REFERENCIALES'!$E$13*D42)) -> 80.66666 | AG42: =IF(D42>'DATOS REFERENCIALES'!$I$17,'DATOS REFERENCIALES'!$D$17,('DATOS REFERENCIALES'!$E$17*D42)) -> 75 | AH42: =IF(D42>'DATOS REFERENCIALES'!$I$12,'DATOS REFERENCIALES'!$D$12,'DATOS REFERENCIALES'!$E$12*D42) -> 14 | AI42: =SUM(AD42:AH42) -> 1027.1667 | AJ42: =IF(D42>'DATOS REFERENCIALES'!$I$16,'DATOS REFERENCIALES'!$D$16,'DATOS REFERENCIALES'!$E$16*D42) -> 51.47 | AK42: =AJ42*$AK$8 -> 12.09545 | AL42: =AJ42-AK42 -> 39.37455 | AM42: =AI42+AL42 -> 1066.5412
A43: (*) | B43: Incluye Maestro Integrador (R.M. Nº 278/92)

Sheet SECUNDARIA
K3: UTILIZAR LA GRILLA A MODO DE EJEMPLO
A6: Grilla Salarial según Resolución Conjunta Nº 1961 MEFGC-18 desde ENERO 2019
A7: Ejemplos de liquidación salarial para cargos sin antigüedad en la docencia. Al incluir antigüedades, disminuye o desaparece el monto del C.M.G.
A8: Nivel Medio Común | AK8: 0.235
A9: Códigos | B9: Denominación del cargo | C9: AÑOS | D9: CANTIDAD DE HORAS | E9: SUBVENCIONADO | F9: CAJA COMPL. | G9: INDICE del Sueldo básico Unificado | H9: TOTAL DE INDICES | I9: INDICES JERARQUIZACION | J9: PLUS DIFERENCIAL POR ESTABLECIMIENTO | K9: Valor Sueldo Básico Unificado RB | L9: PLUS DIFERENCIAL POR JERARQUIZACIÓN | M9: PLUS DIFERENCIAL POR ESTABLECIMIENTO | N9: Antigüedad Docente | O9: Asig. Estímulo Educ. R/ NB (Presentismo) | P9: DECRETO 243/08 RB | Q9: Antigüedad Decreto 243/08 | R9: Art. 128 Estatuto Docente R/ NB | S9: Adicional Especial Remun no Bonif. | T9: Total Haberes Remunerat. | U9: Retenciones por aportes personales | Z9: Total Aportes | AA9: SUBTOTAL NETO SIN C.M.G. | AB9: MDM | AC9: C.M.G. | AD9: Sub Total Neto a cobrar | AE9: FONID / RESOLUC. Nº 02/04 neto | AF9: Adelanto Cláusula de Seguimiento 2017 | AG9: SUMA FIJA NO REMUN.Y NO BONIF. POR UNICA VEZ | AH9: APORTE NAC. A MAT. DIDÁCTICO 2017 | AI9: TOTAL NETO A COBRAR | AJ9: Adicional Especial Remun no Bonif. | AK9: Total Aportes | AL9: NETO DEL ADICIO-NAL | AM9: NETO A COBRAR
U10: Jubilación 11% | V10: Obra Social 3% | W10: INSSJP - Ley 19032 3% | X10: Ley 24.016 Dec. 137/05 2% | Y10: Caja Compl. 4,5%
A11: 572 | B11: Interprete de Lengua de Señas | C11: 0 | G11: 810 | H11: =SUM(G11:G11) -> 810 | K11: =H11*'DATOS REFERENCIALES'!$C$4 -> 5205.06 | N11: =LOOKUP(C11,'TABLA ANTIG.'!$A$4:$A$39,'TABLA ANTIG.'!$B$4:$B$39)*(K11) -> 0 | O11: =K11*0.1 -> 520.506 | P11: ='DATOS REFERENCIALES'!$C$8 -> 4275 | Q11: =LOOKUP(C11,'TABLA ANTIG.'!$A$4:$A$39,'TABLA ANTIG.'!$B$4:$B$39)*(P11) -> 0 | R11: 0 | S11: ='DATOS REFERENCIALES'!$C$14 -> 0 | T11: =K11+N11+O11+P11+Q11+R11+S11 -> 10000.566 | U11: =$T11*11% -> 1100.0623 | V11: =$T11*3% -> 300.01698 | W11: =$T11*3% -> 300.01698 | X11: =$T11*2% -> 200.01132 | Y11: =$T11*4.5% -> 450.02547 | Z11: =SUM(U11:Y11) -> 2350.133 | AA11: =T11-Z11 -> 7650.433 | AB11: ='DATOS REFERENCIALES'!$C$10 -> 1520 | AC11: =IF((IF(H11>1119,('DATOS REFERENCIALES'!$C$9-(T11-U11-V11-W11-X11-Y11+AB11-L11-L11*0.235-(S11-S11*0.235))),(('DATOS REFERENCIALES'!$C$9/1120)*H11)-(K11+N11+O11+P11+Q11+R11-U11-V11-W11-X11-Y11+AB11-(L11-L11*0.235)-(S11*0.235))))<0,0,IF(H11>1119,(('DATOS REFERENCIALES'!$C$9)-(T11-U11-V11-W11-X11-Y11+AB11-(L11-L11*0.235)-(S11-S11*0.235))),(('DATOS REFERENCIALES'!$C$9/1120)*H11)-(K11+N11+O11+P11+Q11+R11-U11-V11-W11-X11-Y11+AB11))) -> 3232.692 | AD11: =SUM(AA11:AC11) -> 12403.125 | AE11: ='DATOS REFERENCIALES'!$C$13 -> 1210 | AG11: =IF($H11>1119,'DATOS REFERENCIALES'!C17,'DATOS REFERENCIALES'!C17/1120*$H11) -> 1084.8214 | AH11: ='DATOS REFERENCIALES'!$C$12 -> 210 | AI11: =SUM(AD11:AH11) -> 14907.946 | AJ11: ='DATOS REFERENCIALES'!C16 -> 772 | AK11: =AJ11*$AK$8 -> 181.42 | AL11: =AJ11-AK11 -> 590.58 | AM11: =AI11+AL11 -> 15498.526
A12: 603 | B12: Rector | C12: 0 | G12: 3128 | H12: =SUM(G12:G12) -> 3128 | K12: =H12*'DATOS REFERENCIALES'!$C$4 -> 20100.528 | N12: =LOOKUP(C12,'TABLA ANTIG.'!$A$4:$A$39,'TABLA ANTIG.'!$B$4:$B$39)*(K12) -> 0 | O12: =K12*0.1 -> 2010.0528 | P12: ='DATOS REFERENCIALES'!$C$8 -> 4275 | Q12: =LOOKUP(C12,'TABLA ANTIG.'!$A$4:$A$39,'TABLA ANTIG.'!$B$4:$B$39)*(P12) -> 0 | R12: 0 | S12: ='DATOS REFERENCIALES'!$C$14 -> 0 | T12: =K12+N12+O12+P12+Q12+R12+S12 -> 26385.581 | U12: =$T12*11% -> 2902.4139 | V12: =$T12*3% -> 791.56742 | W12: =$T12*3% -> 791.56742 | X12: =$T12*2% -> 527.71162 | Y12: =$T12*4.5% -> 1187.3511 | Z12: =SUM(U12:Y12) -> 6200.6115 | AA12: =T12-Z12 -> 20184.969 | AB12: ='DATOS REFERENCIALES'!$C$10 -> 1520 | AC12: =IF((IF(H12>1119,('DATOS REFERENCIALES'!$C$9-(T12-U12-V12-W12-X12-Y12+AB12-L12-L12*0.235-(S12-S12*0.235))),(('DATOS REFERENCIALES'!$C$9/1120)*H12)-(K12+N12+O12+P12+Q12+R12-U12-V12-W12-X12-Y12+AB12-(L12-L12*0.235)-(S12*0.235))))<0,0,IF(H12>1119,(('DATOS REFERENCIALES'!$C$9)-(T12-U12-V12-W12-X12-Y12+AB12-(L12-L12*0.235)-(S12-S12*0.235))),(('DATOS REFERENCIALES'!$C$9/1120)*H12)-(K12+N12+O12+P12+Q12+R12-U12-V12-W12-X12-Y12+AB12-(L12-L12*0.235)-(S12*0.235)))) -> 0 | AD12: =SUM(AA12:AC12) -> 21704.969 | AE12: ='DATOS REFERENCIALES'!$C$13 -> 1210 | AG12: =IF($H12>1119,'DATOS REFERENCIALES'!C17,'DATOS REFERENCIALES'!C17/1120*$H12) -> 1500 | AH12: ='DATOS REFERENCIALES'!$C$12 -> 210 | AI12: =SUM(AD12:AH12)+SUM(AD13:AH13) -> 26908.44 | AJ12: ='DATOS REFERENCIALES'!C16 -> 772 | AK12: =AJ12*$AK$8 -> 181.42 | AL12: =AJ12-AK12 -> 590.58 | AM12: =AI12+AL12 -> 27499.02
A13: 603 | B13: Rector | C13: =IF(C12>0,C12,0) -> 0 | I13: 234.6 | J13: 1 turno y hasta 14 secciones. | L13: =I13*'DATOS REFERENCIALES'!$C$4 -> 1507.5396 | M13: =IF(J13='DATOS REFERENCIALES'!$C$30,K12*'DATOS REFERENCIALES'!$D$30,IF(J13='DATOS REFERENCIALES'!$C$31,('DATOS REFERENCIALES'!$D$31*K12),IF(J13='DATOS REFERENCIALES'!$C$32,('DATOS REFERENCIALES'!$D$32*K12),IF(J13='DATOS REFERENCIALES'!$C$33,('DATOS REFERENCIALES'!$D$33*K12),IF(J13='DATOS REFERENCIALES'!$C$34,('DATOS REFERENCIALES'!$D$34*K12),IF(J13='DATOS REFERENCIALES'!$C$35,('DATOS REFERENCIALES'!$D$35*K12),IF(J13='DATOS REFERENCIALES'!$C$36,('DATOS REFERENCIALES'!$D$36*K12),IF(J13='DATOS REFERENCIALES'!$C$37,('DATOS REFERENCIALES'!$D$37*K12),0)))))))) -> 1206.0317 | N13: =LOOKUP(C13,'TABLA ANTIG.'!$A$4:$A$39,'TABLA ANTIG.'!$B$4:$B$39)*(L13+M13) -> 0 | O13: =(L13+M13)*0.1 -> 271.35713 | T13: =L13+M13+N13+O13+P13+Q13+R13 -> 2984.9284 | U13: =$T13*11% -> 328.34212 | V13: =$T13*3% -> 89.547852 | W13: =$T13*3% -> 89.547852 | X13: =$T13*2% -> 59.698568 | Y13: =$T13*4.5% -> 134.32178 | Z13: =SUM(U13:Y13) -> 701.45818 | AA13: =T13-Z13 -> 2283.4702 | AD13: =SUM(AA13:AC13) -> 2283.4702
A14: 1515 | B14: Director de Estudios | C14: 0 | G14: 2669 | H14: =SUM(G14:G14) -> 2669 | K14: =H14*'DATOS REFERENCIALES'!$C$4 -> 17150.994 | N14: =LOOKUP(C14,'TABLA ANTIG.'!$A$4:$A$39,'TABLA ANTIG.'!$B$4:$B$39)*(K14) -> 0 | O14: =K14*0.1 -> 1715.0994 | P14: ='DATOS REFERENCIALES'!$C$8 -> 4275 | Q14: =LOOKUP(C14,'TABLA ANTIG.'!$A$4:$A$39,'TABLA ANTIG.'!$B$4:$B$39)*(P14) -> 0 | R14: 0 | S14: ='DATOS REFERENCIALES'!$C$14 -> 0 | T14: =K14+N14+O14+P14+Q14+R14+S14 -> 23141.093 | U14: =$T14*11% -> 2545.5203 | V14: =$T14*3% -> 694.2328 | W14: =$T14*3% -> 694.2328 | X14: =$T14*2% -> 462.82187 | Y14: =$T14*4.5% -> 1041.3492 | Z14: =SUM(U14:Y14) -> 5438.1569 | AA14: =T14-Z14 -> 17702.936 | AB14: ='DATOS REFERENCIALES'!$C$10 -> 1520 | AC14: =IF((IF(H14>1119,('DATOS REFERENCIALES'!$C$9-(T14-U14-V14-W14-X14-Y14+AB14)),(('DATOS REFERENCIALES'!$C$9/1120)*H14)-(K14+N14+O14+P14+Q14+R14-U14-V14-W14-X14-Y14+AB14)))<0,0,IF(H14>1119,(('DATOS REFERENCIALES'!$C$9)-(T14-U14-V14-W14-X14-Y14+AB14)),(('DATOS REFERENCIALES'!$C$9/1120)*H14)-(K14+N14+O14+P14+Q14+R14-U14-V14-W14-X14-Y14+AB14))) -> 0 | AD14: =SUM(AA14:AC14) -> 19222.936 | AE14: ='DATOS REFERENCIALES'!$C$13 -> 1210 | AG14: =IF($H14>1119,'DATOS REFERENCIALES'!C17,'DATOS REFERENCIALES'!C17/1120*$H14) -> 1500 | AH14: ='DATOS REFERENCIALES'!$C$12 -> 210 | AI14: =SUM(AD14:AH14)+SUM(AD15:AH15) -> 23225.406 | AJ14: ='DATOS REFERENCIALES'!C16 -> 772 | AK14: =AJ14*$AK$8 -> 181.42 | AL14: =AJ14-AK14 -> 590.58 | AM14: =AI14+AL14 -> 23815.986
A15: 1515 | B15: Director de Estudios | C15: =IF(C14>0,C14,0) -> 0 | I15: 200.18 | L15: =I15*'DATOS REFERENCIALES'!$C$4 -> 1286.3567 | N15: =LOOKUP(C15,'TABLA ANTIG.'!$A$4:$A$39,'TABLA ANTIG.'!$B$4:$B$39)*(L15+M15) -> 0 | O15: =(L15+M15)*0.1 -> 128.63567 | T15: =L15+M15+N15+O15+P15+Q15+R15 -> 1414.9923 | U15: =$T15*11% -> 155.64916 | V15: =$T15*3% -> 42.44977 | W15: =$T15*3% -> 42.44977 | X15: =$T15*2% -> 28.299847 | Y15: =$T15*4.5% -> 63.674656 | Z15: =SUM(U15:Y15) -> 332.5232 | AA15: =T15-Z15 -> 1082.4691 | AD15: =SUM(AA15:AC15) -> 1082.4691
A16: 1532 | B16: Secretario | C16: 0 | G16: 1924 | H16: 2070 | K16: =H16*'DATOS REFERENCIALES'!$C$4 -> 13301.82 | N16: =LOOKUP(C16,'TABLA ANTIG.'!$A$4:$A$39,'TABLA ANTIG.'!$B$4:$B$39)*(K16) -> 0 | O16: =K16*0.1 -> 1330.182 | P16: ='DATOS REFERENCIALES'!$C$8 -> 4275 | Q16: =LOOKUP(C16,'TABLA ANTIG.'!$A$4:$A$39,'TABLA ANTIG.'!$B$4:$B$39)*(P16) -> 0 | R16: 0 | S16: ='DATOS REFERENCIALES'!$C$14 -> 0 | T16: =K16+N16+O16+P16+Q16+R16+S16 -> 18907.002 | U16: =$T16*11% -> 2079.7702 | V16: =$T16*3% -> 567.21006 | W16: =$T16*3% -> 567.21006 | X16: =$T16*2% -> 378.14004 | Y16: =$T16*4.5% -> 850.81509 | Z16: =SUM(U16:Y16) -> 4443.1455 | AA16: =T16-Z16 -> 14463.857 | AB16: ='DATOS REFERENCIALES'!$C$10 -> 1520 | AC16: =IF((IF(H16>1119,('DATOS REFERENCIALES'!$C$9-(T16-U16-V16-W16-X16-Y16+AB16-L16-L16*0.235-(S16-S16*0.235))),(('DATOS REFERENCIALES'!$C$9/1120)*H16)-(K16+N16+O16+P16+Q16+R16-U16-V16-W16-X16-Y16+AB16-(L16-L16*0.235)-(S16*0.235))))<0,0,IF(H16>1119,(('DATOS REFERENCIALES'!$C$9)-(T16-U16-V16-W16-X16-Y16+AB16-(L16-L16*0.235)-(S16-S16*0.235))),(('DATOS REFERENCIALES'!$C$9/1120)*H16)-(K16+N16+O16+P16+Q16+R16-U16-V16-W16-X16-Y16+AB16))) -> 1166.1435 | AD16: =SUM(AA16:AC16) -> 17150 | AE16: ='DATOS REFERENCIALES'!$C$13 -> 1210 | AG16: =IF($H16>1119,'DATOS REFERENCIALES'!C17,'DATOS REFERENCIALES'!C17/1120*$H16) -> 1500 | AH16: ='DATOS REFERENCIALES'!$C$12 -> 210 | AI16: =SUM(AD16:AH16) -> 20070 | AJ16: ='DATOS REFERENCIALES'!C16 -> 772 | AK16: =AJ16*$AK$8 -> 181.42 | AL16: =AJ16-AK16 -> 590.58 | AM16: =AI16+AL16 -> 20660.58
A17: 1534 | B17: Prosecretario | C17: 0 | G17: 1451 | H17: =SUM(G17:G17) -> 1451 | K17: =H17*'DATOS REFERENCIALES'!$C$4 -> 9324.126 | N17: =LOOKUP(C17,'TABLA ANTIG.'!$A$4:$A$39,'TABLA ANTIG.'!$B$4:$B$39)*(K17) -> 0 | O17: =K17*0.1 -> 932.4126 | P17: ='DATOS REFERENCIALES'!$C$8 -> 4275 | Q17: =LOOKUP(C17,'TABLA ANTIG.'!$A$4:$A$39,'TABLA ANTIG.'!$B$4:$B$39)*(P17) -> 0 | R17: 0 | S17: ='DATOS REFERENCIALES'!$C$14 -> 0 | T17: =K17+N17+O17+P17+Q17+R17+S17 -> 14531.539 | U17: =$T17*11% -> 1598.4692 | V17: =$T17*3% -> 435.94616 | W17: =$T17*3% -> 435.94616 | X17: =$T17*2% -> 290.63077 | Y17: =$T17*4.5% -> 653.91924 | Z17: =SUM(U17:Y17) -> 3414.9116 | AA17: =T17-Z17 -> 11116.627 | AB17: ='DATOS REFERENCIALES'!$C$10 -> 1520 | AC17: =IF((IF(H17>1119,('DATOS REFERENCIALES'!$C$9-(T17-U17-V17-W17-X17-Y17+AB17-L17-L17*0.235-(S17-S17*0.235))),(('DATOS REFERENCIALES'!$C$9/1120)*H17)-(K17+N17+O17+P17+Q17+R17-U17-V17-W17-X17-Y17+AB17-(L17-L17*0.235)-(S17*0.235))))<0,0,IF(H17>1119,(('DATOS REFERENCIALES'!$C$9)-(T17-U17-V17-W17-X17-Y17+AB17-(L17-L17*0.235)-(S17-S17*0.235))),(('DATOS REFERENCIALES'!$C$9/1120)*H17)-(K17+N17+O17+P17+Q17+R17-U17-V17-W17-X17-Y17+AB17))) -> 4513.373 | AD17: =SUM(AA17:AC17) -> 17150 | AE17: ='DATOS REFERENCIALES'!$C$13 -> 1210 | AG17: =IF($H17>1119,'DATOS REFERENCIALES'!C17,'DATOS REFERENCIALES'!C17/1120*$H17) -> 1500 | AH17: ='DATOS REFERENCIALES'!$C$12 -> 210 | AI17: =SUM(AD17:AH17) -> 20070 | AJ17: ='DATOS REFERENCIALES'!$C$16 -> 772 | AK17: =AJ17*$AK$8 -> 181.42 | AL17: =AJ17-AK17 -> 590.58 | AM17: =AI17+AL17 -> 20660.58
A18: 1556 | B18: Bibliotecario | C18: 0 | G18: 1120 | H18: =SUM(G18:G18) -> 1120 | K18: =H18*'DATOS REFERENCIALES'!$C$4 -> 7197.12 | N18: =LOOKUP(C18,'TABLA ANTIG.'!$A$4:$A$39,'TABLA ANTIG.'!$B$4:$B$39)*(K18) -> 0 | O18: =K18*0.1 -> 719.712 | P18: ='DATOS REFERENCIALES'!$C$8 -> 4275 | Q18: =LOOKUP(C18,'TABLA ANTIG.'!$A$4:$A$39,'TABLA ANTIG.'!$B$4:$B$39)*(P18) -> 0 | R18: 0 | S18: ='DATOS REFERENCIALES'!$C$14 -> 0 | T18: =K18+N18+O18+P18+Q18+R18+S18 -> 12191.832 | U18: =$T18*11% -> 1341.1015 | V18: =$T18*3% -> 365.75496 | W18: =$T18*3% -> 365.75496 | X18: =$T18*2% -> 243.83664 | Y18: =$T18*4.5% -> 548.63244 | Z18: =SUM(U18:Y18) -> 2865.0805 | AA18: =T18-Z18 -> 9326.7515 | AB18: ='DATOS REFERENCIALES'!$C$10 -> 1520 | AC18: =IF((IF(H18>1119,('DATOS REFERENCIALES'!$C$9-(T18-U18-V18-W18-X18-Y18+AB18-L18-L18*0.235-(S18-S18*0.235))),(('DATOS REFERENCIALES'!$C$9/1120)*H18)-(K18+N18+O18+P18+Q18+R18-U18-V18-W18-X18-Y18+AB18-(L18-L18*0.235)-(S18*0.235))))<0,0,IF(H18>1119,(('DATOS REFERENCIALES'!$C$9)-(T18-U18-V18-W18-X18-Y18+AB18-(L18-L18*0.235)-(S18-S18*0.235))),(('DATOS REFERENCIALES'!$C$9/1120)*H18)-(K18+N18+O18+P18+Q18+R18-U18-V18-W18-X18-Y18+AB18))) -> 6303.2485 | AD18: =SUM(AA18:AC18) -> 17150 | AE18: ='DATOS REFERENCIALES'!$C$13 -> 1210 | AG18: =IF($H18>1119,'DATOS REFERENCIALES'!C17,'DATOS REFERENCIALES'!C17/1120*$H18) -> 1500 | AH18: ='DATOS REFERENCIALES'!$C$12 -> 210 | AI18: =SUM(AD18:AH18) -> 20070 | AJ18: ='DATOS REFERENCIALES'!$C$16 -> 772 | AK18: =AJ18*$AK$8 -> 181.42 | AL18: =AJ18-AK18 -> 590.58 | AM18: =AI18+AL18 -> 20660.58
A19: 1557 | B19: Ayudante de Depto. de Orientación | C19: 0 | G19: 823 | H19: =SUM(G19:G19) -> 823 | K19: =H19*'DATOS REFERENCIALES'!$C$4 -> 5288.598 | N19: =LOOKUP(C19,'TABLA ANTIG.'!$A$4:$A$39,'TABLA ANTIG.'!$B$4:$B$39)*(K19) -> 0 | O19: =K19*0.1 -> 528.8598 | P19: ='DATOS REFERENCIALES'!$C$8 -> 4275 | Q19: =LOOKUP(C19,'TABLA ANTIG.'!$A$4:$A$39,'TABLA ANTIG.'!$B$4:$B$39)*(P19) -> 0 | R19: 0 | S19: ='DATOS REFERENCIALES'!$C$14 -> 0 | T19: =K19+N19+O19+P19+Q19+R19+S19 -> 10092.458 | U19: =$T19*11% -> 1110.1704 | V19: =$T19*3% -> 302.77373 | W19: =$T19*3% -> 302.77373 | X19: =$T19*2% -> 201.84916 | Y19: =$T19*4.5% -> 454.1606 | Z19: =SUM(U19:Y19) -> 2371.7276 | AA19: =T19-Z19 -> 7720.7302 | AB19: ='DATOS REFERENCIALES'!$C$10 -> 1520 | AC19: =IF((IF(H19>1119,('DATOS REFERENCIALES'!$C$9-(T19-U19-V19-W19-X19-Y19+AB19-L19-L19*0.235-(S19-S19*0.235))),(('DATOS REFERENCIALES'!$C$9/1120)*H19)-(K19+N19+O19+P19+Q19+R19-U19-V19-W19-X19-Y19+AB19-(L19-L19*0.235)-(S19*0.235))))<0,0,IF(H19>1119,(('DATOS REFERENCIALES'!$C$9)-(T19-U19-V19-W19-X19-Y19+AB19-(L19-L19*0.235)-(S19-S19*0.235))),(('DATOS REFERENCIALES'!$C$9/1120)*H19)-(K19+N19+O19+P19+Q19+R19-U19-V19-W19-X19-Y19+AB19))) -> 3361.4573 | AD19: =SUM(AA19:AC19) -> 12602.188 | AE19: ='DATOS REFERENCIALES'!$C$13 -> 1210 | AG19: =IF($H19>1119,'DATOS REFERENCIALES'!C17,'DATOS REFERENCIALES'!C17/1120*$H19) -> 1102.2321 | AH19: ='DATOS REFERENCIALES'!$C$12 -> 210 | AI19: =SUM(AD19:AH19) -> 15124.42 | AJ19: ='DATOS REFERENCIALES'!$C$16 -> 772 | AK19: =AJ19*$AK$8 -> 181.42 | AL19: =AJ19-AK19 -> 590.58 | AM19: =AI19+AL19 -> 15715
A20: 1559 | B20: Jefe de Preceptores | C20: 0 | G20: 1120 | H20: =SUM(G20:G20) -> 1120 | K20: =H20*'DATOS REFERENCIALES'!$C$4 -> 7197.12 | N20: =LOOKUP(C20,'TABLA ANTIG.'!$A$4:$A$39,'TABLA ANTIG.'!$B$4:$B$39)*(K20) -> 0 | O20: =K20*0.1 -> 719.712 | P20: ='DATOS REFERENCIALES'!$C$8 -> 4275 | Q20: =LOOKUP(C20,'TABLA ANTIG.'!$A$4:$A$39,'TABLA ANTIG.'!$B$4:$B$39)*(P20) -> 0 | R20: 0 | S20: ='DATOS REFERENCIALES'!$C$14 -> 0 | T20: =K20+N20+O20+P20+Q20+R20+S20 -> 12191.832 | U20: =$T20*11% -> 1341.1015 | V20: =$T20*3% -> 365.75496 | W20: =$T20*3% -> 365.75496 | X20: =$T20*2% -> 243.83664 | Y20: =$T20*4.5% -> 548.63244 | Z20: =SUM(U20:Y20) -> 2865.0805 | AA20: =T20-Z20 -> 9326.7515 | AB20: ='DATOS REFERENCIALES'!$C$10 -> 1520 | AC20: =IF((IF(H20>1119,('DATOS REFERENCIALES'!$C$9-(T20-U20-V20-W20-X20-Y20+AB20-L20-L20*0.235-(S20-S20*0.235))),(('DATOS REFERENCIALES'!$C$9/1120)*H20)-(K20+N20+O20+P20+Q20+R20-U20-V20-W20-X20-Y20+AB20-(L20-L20*0.235)-(S20*0.235))))<0,0,IF(H20>1119,(('DATOS REFERENCIALES'!$C$9)-(T20-U20-V20-W20-X20-Y20+AB20-(L20-L20*0.235)-(S20-S20*0.235))),(('DATOS REFERENCIALES'!$C$9/1120)*H20)-(K20+N20+O20+P20+Q20+R20-U20-V20-W20-X20-Y20+AB20))) -> 6303.2485 | AD20: =SUM(AA20:AC20) -> 17150 | AE20: ='DATOS REFERENCIALES'!$C$13 -> 1210 | AG20: =IF($H20>1119,'DATOS REFERENCIALES'!C17,'DATOS REFERENCIALES'!C17/1120*$H20) -> 1500 | AH20: ='DATOS REFERENCIALES'!$C$12 -> 210 | AI20: =SUM(AD20:AH20) -> 20070 | AJ20: ='DATOS REFERENCIALES'!$C$16 -> 772 | AK20: =AJ20*$AK$8 -> 181.42 | AL20: =AJ20-AK20 -> 590.58 | AM20: =AI20+AL20 -> 20660.58
A21: 1566 | B21: Sub-Jefe de Preceptores | C21: 0 | G21: 1008 | H21: =SUM(G21:G21) -> 1008 | K21: =H21*'DATOS REFERENCIALES'!$C$4 -> 6477.408 | N21: =LOOKUP(C21,'TABLA ANTIG.'!$A$4:$A$39,'TABLA ANTIG.'!$B$4:$B$39)*(K21) -> 0 | O21: =K21*0.1 -> 647.7408 | P21: ='DATOS REFERENCIALES'!$C$8 -> 4275 | Q21: =LOOKUP(C21,'TABLA ANTIG.'!$A$4:$A$39,'TABLA ANTIG.'!$B$4:$B$39)*(P21) -> 0 | R21: 0 | S21: ='DATOS REFERENCIALES'!$C$14 -> 0 | T21: =K21+N21+O21+P21+Q21+R21+S21 -> 11400.149 | U21: =$T21*11% -> 1254.0164 | V21: =$T21*3% -> 342.00446 | W21: =$T21*3% -> 342.00446 | X21: =$T21*2% -> 228.00298 | Y21: =$T21*4.5% -> 513.0067 | Z21: =SUM(U21:Y21) -> 2679.035 | AA21: =T21-Z21 -> 8721.1138 | AB21: ='DATOS REFERENCIALES'!$C$10 -> 1520 | AC21: =IF((IF(H21>1119,('DATOS REFERENCIALES'!$C$9-(T21-U21-V21-W21-X21-Y21+AB21-L21-L21*0.235-(S21-S21*0.235))),(('DATOS REFERENCIALES'!$C$9/1120)*H21)-(K21+N21+O21+P21+Q21+R21-U21-V21-W21-X21-Y21+AB21-(L21-L21*0.235)-(S21*0.235))))<0,0,IF(H21>1119,(('DATOS REFERENCIALES'!$C$9)-(T21-U21-V21-W21-X21-Y21+AB21-(L21-L21*0.235)-(S21-S21*0.235))),(('DATOS REFERENCIALES'!$C$9/1120)*H21)-(K21+N21+O21+P21+Q21+R21-U21-V21-W21-X21-Y21+AB21))) -> 5193.8862 | AD21: =SUM(AA21:AC21) -> 15435 | AE21: ='DATOS REFERENCIALES'!$C$13 -> 1210 | AG21: =IF($H21>1119,'DATOS REFERENCIALES'!C17,'DATOS REFERENCIALES'!C17/1120*$H21) -> 1350 | AH21: ='DATOS REFERENCIALES'!$C$12 -> 210 | AI21: =SUM(AD21:AH21) -> 18205 | AJ21: ='DATOS REFERENCIALES'!$C$16 -> 772 | AK21: =AJ21*$AK$8 -> 181.42 | AL21: =AJ21-AK21 -> 590.58 | AM21: =AI21+AL21 -> 18795.58
A22: 1567 | B22: Ayudante de Clases Prácticas | C22: 0 | G22: 825 | H22: =SUM(G22:G22) -> 825 | K22: =H22*'DATOS REFERENCIALES'!$C$4 -> 5301.45 | N22: =LOOKUP(C22,'TABLA ANTIG.'!$A$4:$A$39,'TABLA ANTIG.'!$B$4:$B$39)*(K22) -> 0 | O22: =K22*0.1 -> 530.145 | P22: ='DATOS REFERENCIALES'!$C$8 -> 4275 | Q22: =LOOKUP(C22,'TABLA ANTIG.'!$A$4:$A$39,'TABLA ANTIG.'!$B$4:$B$39)*(P22) -> 0 | R22: 0 | S22: ='DATOS REFERENCIALES'!$C$14 -> 0 | T22: =K22+N22+O22+P22+Q22+R22+S22 -> 10106.595 | U22: =$T22*11% -> 1111.7254 | V22: =$T22*3% -> 303.19785 | W22: =$T22*3% -> 303.19785 | X22: =$T22*2% -> 202.1319 | Y22: =$T22*4.5% -> 454.79677 | Z22: =SUM(U22:Y22) -> 2375.0498 | AA22: =T22-Z22 -> 7731.5452 | AB22: ='DATOS REFERENCIALES'!$C$10 -> 1520 | AC22: =IF((IF(H22>1119,('DATOS REFERENCIALES'!$C$9-(T22-U22-V22-W22-X22-Y22+AB22-L22-L22*0.235-(S22-S22*0.235))),(('DATOS REFERENCIALES'!$C$9/1120)*H22)-(K22+N22+O22+P22+Q22+R22-U22-V22-W22-X22-Y22+AB22-(L22-L22*0.235)-(S22*0.235))))<0,0,IF(H22>1119,(('DATOS REFERENCIALES'!$C$9)-(T22-U22-V22-W22-X22-Y22+AB22-(L22-L22*0.235)-(S22-S22*0.235))),(('DATOS REFERENCIALES'!$C$9/1120)*H22)-(K22+N22+O22+P22+Q22+R22-U22-V22-W22-X22-Y22+AB22))) -> 3381.2673 | AD22: =SUM(AA22:AC22) -> 12632.812 | AE22: ='DATOS REFERENCIALES'!$C$13 -> 1210 | AG22: =IF($H22>1119,'DATOS REFERENCIALES'!C17,'DATOS REFERENCIALES'!C17/1120*$H22) -> 1104.9107 | AH22: ='DATOS REFERENCIALES'!$C$12 -> 210 | AI22: =SUM(AD22:AH22) -> 15157.723 | AJ22: ='DATOS REFERENCIALES'!$C$16 -> 772 | AK22: =AJ22*$AK$8 -> 181.42 | AL22: =AJ22-AK22 -> 590.58 | AM22: =AI22+AL22 -> 15748.303
A23: 1568 | B23: Psicopedagogo | C23: 0 | G23: 1008 | H23: =SUM(G23:G23) -> 1008 | K23: =H23*'DATOS REFERENCIALES'!$C$4 -> 6477.408 | N23: =LOOKUP(C23,'TABLA ANTIG.'!$A$4:$A$39,'TABLA ANTIG.'!$B$4:$B$39)*(K23) -> 0 | O23: =K23*0.1 -> 647.7408 | P23: ='DATOS REFERENCIALES'!$C$8 -> 4275 | Q23: =LOOKUP(C23,'TABLA ANTIG.'!$A$4:$A$39,'TABLA ANTIG.'!$B$4:$B$39)*(P23) -> 0 | R23: 0 | S23: ='DATOS REFERENCIALES'!$C$14 -> 0 | T23: =K23+N23+O23+P23+Q23+R23+S23 -> 11400.149 | U23: =$T23*11% -> 1254.0164 | V23: =$T23*3% -> 342.00446 | W23: =$T23*3% -> 342.00446 | X23: =$T23*2% -> 228.00298 | Y23: =$T23*4.5% -> 513.0067 | Z23: =SUM(U23:Y23) -> 2679.035 | AA23: =T23-Z23 -> 8721.1138 | AB23: ='DATOS REFERENCIALES'!$C$10 -> 1520 | AC23: =IF((IF(H23>1119,('DATOS REFERENCIALES'!$C$9-(T23-U23-V23-W23-X23-Y23+AB23-L23-L23*0.235-(S23-S23*0.235))),(('DATOS REFERENCIALES'!$C$9/1120)*H23)-(K23+N23+O23+P23+Q23+R23-U23-V23-W23-X23-Y23+AB23-(L23-L23*0.235)-(S23*0.235))))<0,0,IF(H23>1119,(('DATOS REFERENCIALES'!$C$9)-(T23-U23-V23-W23-X23-Y23+AB23-(L23-L23*0.235)-(S23-S23*0.235))),(('DATOS REFERENCIALES'!$C$9/1120)*H23)-(K23+N23+O23+P23+Q23+R23-U23-V23-W23-X23-Y23+AB23))) -> 5193.8862 | AD23: =SUM(AA23:AC23) -> 15435 | AE23: ='DATOS REFERENCIALES'!$C$13 -> 1210 | AG23: =IF($H23>1119,'DATOS REFERENCIALES'!C17,'DATOS REFERENCIALES'!C17/1120*$H23) -> 1350 | AH23: ='DATOS REFERENCIALES'!$C$12 -> 210 | AI23: =SUM(AD23:AH23) -> 18205 | AJ23: ='DATOS REFERENCIALES'!$C$16 -> 772 | AK23: =AJ23*$AK$8 -> 181.42 | AL23: =AJ23-AK23 -> 590.58 | AM23: =AI23+AL23 -> 18795.58
A24: 1582 | B24: Preceptor | C24: 0 | G24: 952 | H24: =SUM(G24:G24) -> 952 | K24: =H24*'DATOS REFERENCIALES'!$C$4 -> 6117.552 | N24: =LOOKUP(C24,'TABLA ANTIG.'!$A$4:$A$39,'TABLA ANTIG.'!$B$4:$B$39)*(K24) -> 0 | O24: =K24*0.1 -> 611.7552 | P24: ='DATOS REFERENCIALES'!$C$8 -> 4275 | Q24: =LOOKUP(C24,'TABLA ANTIG.'!$A$4:$A$39,'TABLA ANTIG.'!$B$4:$B$39)*(P24) -> 0 | R24: 0 | S24: ='DATOS REFERENCIALES'!$C$14 -> 0 | T24: =K24+N24+O24+P24+Q24+R24+S24 -> 11004.307 | U24: =$T24*11% -> 1210.4738 | V24: =$T24*3% -> 330.12922 | W24: =$T24*3% -> 330.12922 | X24: =$T24*2% -> 220.08614 | Y24: =$T24*4.5% -> 495.19382 | Z24: =SUM(U24:Y24) -> 2586.0122 | AA24: =T24-Z24 -> 8418.295 | AB24: ='DATOS REFERENCIALES'!$C$10 -> 1520 | AC24: =IF((IF(H24>1119,('DATOS REFERENCIALES'!$C$9-(T24-U24-V24-W24-X24-Y24+AB24-L24-L24*0.235-(S24-S24*0.235))),(('DATOS REFERENCIALES'!$C$9/1120)*H24)-(K24+N24+O24+P24+Q24+R24-U24-V24-W24-X24-Y24+AB24-(L24-L24*0.235)-(S24*0.235))))<0,0,IF(H24>1119,(('DATOS REFERENCIALES'!$C$9)-(T24-U24-V24-W24-X24-Y24+AB24-(L24-L24*0.235)-(S24-S24*0.235))),(('DATOS REFERENCIALES'!$C$9/1120)*H24)-(K24+N24+O24+P24+Q24+R24-U24-V24-W24-X24-Y24+AB24))) -> 4639.205 | AD24: =SUM(AA24:AC24) -> 14577.5 | AE24: ='DATOS REFERENCIALES'!$C$13 -> 1210 | AG24: =IF($H24>1119,'DATOS REFERENCIALES'!C17,'DATOS REFERENCIALES'!C17/1120*$H24) -> 1275 | AH24: ='DATOS REFERENCIALES'!$C$12 -> 210 | AI24: =SUM(AD24:AH24) -> 17272.5 | AJ24: ='DATOS REFERENCIALES'!$C$16 -> 772 | AK24: =AJ24*$AK$8 -> 181.42 | AL24: =AJ24-AK24 -> 590.58 | AM24: =AI24+AL24 -> 17863.08
A25: 1599 | B25: Hora cátedra | C25: 0 | D25: 1 | G25: 56 | H25: =SUM(G25:G25) -> 56 | K25: =(H25*'DATOS REFERENCIALES'!$C$4)*D25 -> 359.856 | N25: =LOOKUP(C25,'TABLA ANTIG.'!$A$4:$A$39,'TABLA ANTIG.'!$B$4:$B$39)*(K25) -> 0 | O25: =K25*0.1 -> 35.9856 | P25: =IF(D25>48,'DATOS REFERENCIALES'!$D$8+('DATOS REFERENCIALES'!$F$8*10),IF(D25<39,'DATOS REFERENCIALES'!$E$8*D25,((D25-'DATOS REFERENCIALES'!$I$8)*'DATOS REFERENCIALES'!$F$8)+'DATOS REFERENCIALES'!$D$8)) -> 225 | Q25: =LOOKUP(C25,'TABLA ANTIG.'!$A$4:$A$39,'TABLA ANTIG.'!$B$4:$B$39)*(P25) -> 0 | R25: 0 | S25: =IF(D25>29.99,'DATOS REFERENCIALES'!$D$14,'DATOS REFERENCIALES'!$E$14*D25) -> 0 | T25: =K25+N25+O25+P25+Q25+R25+S25 -> 620.8416 | U25: =$T25*11% -> 68.292576 | V25: =$T25*3% -> 18.625248 | W25: =$T25*3% -> 18.625248 | X25: =$T25*2% -> 12.416832 | Y25: =$T25*4.5% -> 27.937872 | Z25: =SUM(U25:Y25) -> 145.89778 | AA25: =T25-Z25 -> 474.94382 | AB25: =IF(D25>38,'DATOS REFERENCIALES'!$D$10,'DATOS REFERENCIALES'!$E$10*D25) -> 80 | AC25: =IF(D25>41,IF((('DATOS REFERENCIALES'!$D$9)-((T25-S25)-(Z25-S25*0.235)+(AB25)))<0,0,((('DATOS REFERENCIALES'!$D$9)-((T25-S25)-(Z25-S25*0.235)+(AB25))))),IF((('DATOS REFERENCIALES'!$E$9*D25)-(((T25-S25)-(Z25-S25*0.235)+(AB25))))<0,0,('DATOS REFERENCIALES'!$E$9*D25)-((T25-S25)-(Z25-S25*0.235)+(AB25)))) -> 302.55618 | AD25: =SUM(AA25:AC25) -> 857.5 | AE25: =IF(D25>30,'DATOS REFERENCIALES'!$D$13,('DATOS REFERENCIALES'!$E$13*D25)) -> 80.66666 | AG25: =IF(D25>'DATOS REFERENCIALES'!$I$17,'DATOS REFERENCIALES'!$D$17,('DATOS REFERENCIALES'!$E$17*D25)) -> 75 | AH25: =IF(D25>'DATOS REFERENCIALES'!$I$12,'DATOS REFERENCIALES'!$D$12,'DATOS REFERENCIALES'!$E$12*D25) -> 14 | AI25: =SUM(AD25:AH25) -> 1027.1667 | AJ25: =IF(D25>'DATOS REFERENCIALES'!$I$16,'DATOS REFERENCIALES'!$D$16,'DATOS REFERENCIALES'!$E$16*D25) -> 51.47 | AK25: =AJ25*$AK$8 -> 12.09545 | AL25: =AJ25-AK25 -> 39.37455 | AM25: =AI25+AL25 -> 1066.5412
A26: 1599 | B26: Hora desdoblamiento educ. fisica | C26: 0 | D26: 1 | G26: 56 | H26: =SUM(G26:G26) -> 56 | K26: =(H26*'DATOS REFERENCIALES'!$C$4)*D26 -> 359.856 | N26: =LOOKUP(C26,'TABLA ANTIG.'!$A$4:$A$39,'TABLA ANTIG.'!$B$4:$B$39)*(K26) -> 0 | O26: =K26*0.1 -> 35.9856 | P26: =IF(D26>48,'DATOS REFERENCIALES'!$D$8+('DATOS REFERENCIALES'!$F$8*10),IF(D26<39,'DATOS REFERENCIALES'!$E$8*D26,((D26-'DATOS REFERENCIALES'!$I$8)*'DATOS REFERENCIALES'!$F$8)+'DATOS REFERENCIALES'!$D$8)) -> 225 | Q26: =LOOKUP(C26,'TABLA ANTIG.'!$A$4:$A$39,'TABLA ANTIG.'!$B$4:$B$39)*(P26) -> 0 | R26: 0 | S26: =IF(D26>29.99,'DATOS REFERENCIALES'!$D$14,'DATOS REFERENCIALES'!$E$14*D26) -> 0 | T26: =K26+N26+O26+P26+Q26+R26+S26 -> 620.8416 | U26: =$T26*11% -> 68.292576 | V26: =$T26*3% -> 18.625248 | W26: =$T26*3% -> 18.625248 | X26: =$T26*2% -> 12.416832 | Y26: =$T26*4.5% -> 27.937872 | Z26: =SUM(U26:Y26) -> 145.89778 | AA26: =T26-Z26 -> 474.94382 | AB26: =IF(D26>38,'DATOS REFERENCIALES'!$D$10,'DATOS REFERENCIALES'!$E$10*D26) -> 80 | AC26: =IF(D26>41,IF((('DATOS REFERENCIALES'!$D$9)-((T26-S26)-(Z26-S26*0.235)+(AB26)))<0,0,((('DATOS REFERENCIALES'!$D$9)-((T26-S26)-(Z26-S26*0.235)+(AB26))))),IF((('DATOS REFERENCIALES'!$E$9*D26)-(((T26-S26)-(Z26-S26*0.235)+(AB26))))<0,0,('DATOS REFERENCIALES'!$E$9*D26)-((T26-S26)-(Z26-S26*0.235)+(AB26)))) -> 302.55618 | AD26: =SUM(AA26:AC26) -> 857.5 | AE26: =IF(D26>30,'DATOS REFERENCIALES'!$D$13,('DATOS REFERENCIALES'!$E$13*D26)) -> 80.66666 | AG26: =IF(D26>'DATOS REFERENCIALES'!$I$17,'DATOS REFERENCIALES'!$D$17,('DATOS REFERENCIALES'!$E$17*D26)) -> 75 | AH26: =IF(D26>'DATOS REFERENCIALES'!$I$12,'DATOS REFERENCIALES'!$D$12,'DATOS REFERENCIALES'!$E$12*D26) -> 14 | AI26: =SUM(AD26:AH26) -> 1027.1667 | AJ26: =IF(D26>'DATOS REFERENCIALES'!$I$16,'DATOS REFERENCIALES'!$D$16,'DATOS REFERENCIALES'!$E$16*D26) -> 51.47 | AK26: =AJ26*$AK$8 -> 12.09545 | AL26: =AJ26-AK26 -> 39.37455 | AM26: =AI26+AL26 -> 1066.5412
A27: 1599 | B27: Hora nivelación idioma extranjero | C27: 0 | D27: 1 | G27: 56 | H27: =SUM(G27:G27) -> 56 | K27: =(H27*'DATOS REFERENCIALES'!$C$4)*D27 -> 359.856 | N27: =LOOKUP(C27,'TABLA ANTIG.'!$A$4:$A$39,'TABLA ANTIG.'!$B$4:$B$39)*(K27) -> 0 | O27: =K27*0.1 -> 35.9856 | P27: =IF(D27>48,'DATOS REFERENCIALES'!$D$8+('DATOS REFERENCIALES'!$F$8*10),IF(D27<39,'DATOS REFERENCIALES'!$E$8*D27,((D27-'DATOS REFERENCIALES'!$I$8)*'DATOS REFERENCIALES'!$F$8)+'DATOS REFERENCIALES'!$D$8)) -> 225 | Q27: =LOOKUP(C27,'TABLA ANTIG.'!$A$4:$A$39,'TABLA ANTIG.'!$B$4:$B$39)*(P27) -> 0 | R27: 0 | S27: =IF(D27>29.99,'DATOS REFERENCIALES'!$D$14,'DATOS REFERENCIALES'!$E$14*D27) -> 0 | T27: =K27+N27+O27+P27+Q27+R27+S27 -> 620.8416 | U27: =$T27*11% -> 68.292576 | V27: =$T27*3% -> 18.625248 | W27: =$T27*3% -> 18.625248 | X27: =$T27*2% -> 12.416832 | Y27: =$T27*4.5% -> 27.937872 | Z27: =SUM(U27:Y27) -> 145.89778 | AA27: =T27-Z27 -> 474.94382 | AB27: =IF(D27>38,'DATOS REFERENCIALES'!$D$10,'DATOS REFERENCIALES'!$E$10*D27) -> 80 | AC27: =IF(D27>41,IF((('DATOS REFERENCIALES'!$D$9)-((T27-S27)-(Z27-S27*0.235)+(AB27)))<0,0,((('DATOS REFERENCIALES'!$D$9)-((T27-S27)-(Z27-S27*0.235)+(AB27))))),IF((('DATOS REFERENCIALES'!$E$9*D27)-(((T27-S27)-(Z27-S27*0.235)+(AB27))))<0,0,('DATOS REFERENCIALES'!$E$9*D27)-((T27-S27)-(Z27-S27*0.235)+(AB27)))) -> 302.55618 | AD27: =SUM(AA27:AC27) -> 857.5 | AE27: =IF(D27>30,'DATOS REFERENCIALES'!$D$13,('DATOS REFERENCIALES'!$E$13*D27)) -> 80.66666 | AG27: =IF(D27>'DATOS REFERENCIALES'!$I$17,'DATOS REFERENCIALES'!$D$17,('DATOS REFERENCIALES'!$E$17*D27)) -> 75 | AH27: =IF(D27>'DATOS REFERENCIALES'!$I$12,'DATOS REFERENCIALES'!$D$12,'DATOS REFERENCIALES'!$E$12*D27) -> 14 | AI27: =SUM(AD27:AH27) -> 1027.1667 | AJ27: =IF(D27>'DATOS REFERENCIALES'!$I$16,'DATOS REFERENCIALES'!$D$16,'DATOS REFERENCIALES'!$E$16*D27) -> 51.47 | AK27: =AJ27*$AK$8 -> 12.09545 | AL27: =AJ27-AK27 -> 39.37455 | AM27: =AI27+AL27 -> 1066.5412
A28: 1599 | B28: Hora de tutoría | C28: 0 | D28: 1 | G28: 56 | H28: =SUM(G28:G28) -> 56 | K28: =(H28*'DATOS REFERENCIALES'!$C$4)*D28 -> 359.856 | N28: =LOOKUP(C28,'TABLA ANTIG.'!$A$4:$A$39,'TABLA ANTIG.'!$B$4:$B$39)*(K28) -> 0 | O28: =K28*0.1 -> 35.9856 | P28: =IF(D28>48,'DATOS REFERENCIALES'!$D$8+('DATOS REFERENCIALES'!$F$8*10),IF(D28<39,'DATOS REFERENCIALES'!$E$8*D28,((D28-'DATOS REFERENCIALES'!$I$8)*'DATOS REFERENCIALES'!$F$8)+'DATOS REFERENCIALES'!$D$8)) -> 225 | Q28: =LOOKUP(C28,'TABLA ANTIG.'!$A$4:$A$39,'TABLA ANTIG.'!$B$4:$B$39)*(P28) -> 0 | R28: 0 | S28: =IF(D28>29.99,'DATOS REFERENCIALES'!$D$14,'DATOS REFERENCIALES'!$E$14*D28) -> 0 | T28: =K28+N28+O28+P28+Q28+R28+S28 -> 620.8416 | U28: =$T28*11% -> 68.292576 | V28: =$T28*3% -> 18.625248 | W28: =$T28*3% -> 18.625248 | X28: =$T28*2% -> 12.416832 | Y28: =$T28*4.5% -> 27.937872 | Z28: =SUM(U28:Y28) -> 145.89778 | AA28: =T28-Z28 -> 474.94382 | AB28: =IF(D28>38,'DATOS REFERENCIALES'!$D$10,'DATOS REFERENCIALES'!$E$10*D28) -> 80 | AC28: =IF(D28>41,IF((('DATOS REFERENCIALES'!$D$9)-((T28-S28)-(Z28-S28*0.235)+(AB28)))<0,0,((('DATOS REFERENCIALES'!$D$9)-((T28-S28)-(Z28-S28*0.235)+(AB28))))),IF((('DATOS REFERENCIALES'!$E$9*D28)-(((T28-S28)-(Z28-S28*0.235)+(AB28))))<0,0,('DATOS REFERENCIALES'!$E$9*D28)-((T28-S28)-(Z28-S28*0.235)+(AB28)))) -> 302.55618 | AD28: =SUM(AA28:AC28) -> 857.5 | AE28: =IF(D28>30,'DATOS REFERENCIALES'!$D$13,('DATOS REFERENCIALES'!$E$13*D28)) -> 80.66666 | AG28: =IF(D28>'DATOS REFERENCIALES'!$I$17,'DATOS REFERENCIALES'!$D$17,('DATOS REFERENCIALES'!$E$17*D28)) -> 75 | AH28: =IF(D28>'DATOS REFERENCIALES'!$I$12,'DATOS REFERENCIALES'!$D$12,'DATOS REFERENCIALES'!$E$12*D28) -> 14 | AI28: =SUM(AD28:AH28) -> 1027.1667 | AJ28: =IF(D28>'DATOS REFERENCIALES'!$I$16,'DATOS REFERENCIALES'!$D$16,'DATOS REFERENCIALES'!$E$16*D28) -> 51.47 | AK28: =AJ28*$AK$8 -> 12.09545 | AL28: =AJ28-AK28 -> 39.37455 | AM28: =AI28+AL28 -> 1066.5412
A29: 1599 | B29: Hora de Jefatura de departameto | C29: 0 | D29: 1 | G29: 56 | H29: =SUM(G29:G29) -> 56 | K29: =(H29*'DATOS REFERENCIALES'!$C$4)*D29 -> 359.856 | N29: =LOOKUP(C29,'TABLA ANTIG.'!$A$4:$A$39,'TABLA ANTIG.'!$B$4:$B$39)*(K29) -> 0 | O29: =K29*0.1 -> 35.9856 | P29: =IF(D29>48,'DATOS REFERENCIALES'!$D$8+('DATOS REFERENCIALES'!$F$8*10),IF(D29<39,'DATOS REFERENCIALES'!$E$8*D29,((D29-'DATOS REFERENCIALES'!$I$8)*'DATOS REFERENCIALES'!$F$8)+'DATOS REFERENCIALES'!$D$8)) -> 225 | Q29: =LOOKUP(C29,'TABLA ANTIG.'!$A$4:$A$39,'TABLA ANTIG.'!$B$4:$B$39)*(P29) -> 0 | R29: 0 | S29: =IF(D29>29.99,'DATOS REFERENCIALES'!$D$14,'DATOS REFERENCIALES'!$E$14*D29) -> 0 | T29: =K29+N29+O29+P29+Q29+R29+S29 -> 620.8416 | U29: =$T29*11% -> 68.292576 | V29: =$T29*3% -> 18.625248 | W29: =$T29*3% -> 18.625248 | X29: =$T29*2% -> 12.416832 | Y29: =$T29*4.5% -> 27.937872 | Z29: =SUM(U29:Y29) -> 145.89778 | AA29: =T29-Z29 -> 474.94382 | AB29: =IF(D29>38,'DATOS REFERENCIALES'!$D$10,'DATOS REFERENCIALES'!$E$10*D29) -> 80 | AC29: =IF(D29>41,IF((('DATOS REFERENCIALES'!$D$9)-((T29-S29)-(Z29-S29*0.235)+(AB29)))<0,0,((('DATOS REFERENCIALES'!$D$9)-((T29-S29)-(Z29-S29*0.235)+(AB29))))),IF((('DATOS REFERENCIALES'!$E$9*D29)-(((T29-S29)-(Z29-S29*0.235)+(AB29))))<0,0,('DATOS REFERENCIALES'!$E$9*D29)-((T29-S29)-(Z29-S29*0.235)+(AB29)))) -> 302.55618 | AD29: =SUM(AA29:AC29) -> 857.5 | AE29: =IF(D29>30,'DATOS REFERENCIALES'!$D$13,('DATOS REFERENCIALES'!$E$13*D29)) -> 80.66666 | AG29: =IF(D29>'DATOS REFERENCIALES'!$I$17,'DATOS REFERENCIALES'!$D$17,('DATOS REFERENCIALES'!$E$17*D29)) -> 75 | AH29: =IF(D29>'DATOS REFERENCIALES'!$I$12,'DATOS REFERENCIALES'!$D$12,'DATOS REFERENCIALES'!$E$12*D29) -> 14 | AI29: =SUM(AD29:AH29) -> 1027.1667 | AJ29: =IF(D29>'DATOS REFERENCIALES'!$I$16,'DATOS REFERENCIALES'!$D$16,'DATOS REFERENCIALES'!$E$16*D29) -> 51.47 | AK29: =AJ29*$AK$8 -> 12.09545 | AL29: =AJ29-AK29 -> 39.37455 | AM29: =AI29+AL29 -> 1066.5412
A31: Nivel Medio Técnico | AD31: Nivel Medio Técnico | AK31: 0.235
A32: Códigos | B32: Denominación del cargo | C32: AÑOS | D32: CANTIDAD DE HORAS | E32: SUBVENCIONADO | F32: CAJA COMPL. | G32: INDICE del Sueldo básico Unificado | H32: TOTAL DE INDICES | I32: INDICES JERARQUIZACION | J32: PLUS DIFERENCIAL POR ESTABLECIMIENTO | K32: Valor Sueldo Básico Unificado RB | L32: PLUS DIFERENCIAL POR JERARQUIZACIÓN | M32: PLUS DIFERENCIAL POR ESTABLECIMIENTO | N32: Antigüedad Docente | O32: Asig. Estímulo Educ. R/ NB (Presentismo) | P32: DECRETO 243/08 RB | Q32: Antigüedad Decreto 243/08 | R32: Art. 128 Estatuto Docente R/ NB | S32: Adicional Especial Remun no Bonif. | T32: Total Haberes Remunerat. | U32: Retenciones por aportes personales | Z32: Total Aportes | AA32: SUBTOTAL NETO SIN C.M.G. | AB32: MDM | AC32: C.M.G. | AD32: Sub Total Neto a cobrar | AE32: FONID / RESOLUC. Nº 02/04 neto | AF32: Adelanto Cláusula de Seguimiento 2017 | AG32: SUMA FIJA NO REMUN.Y NO BONIF. POR UNICA VEZ | AH32: APORTE NAC. A MAT. DIDÁCTICO 2017 | AI32: TOTAL NETO A COBRAR | AJ32: Adicional Especial Remun no Bonif. | AK32: Total Aportes | AL32: NETO DEL ADICIO-NAL | AM32: NETO A COBRAR
U33: Jubilación 11% | V33: Obra Social 3% | W33: INSSJP - Ley 19032 3% | X33: Ley 24.016 Dec. 137/05 2% | Y33: Caja Compl. 4,5%
A34: 5080 | B34: Rector | C34: 0 | G34: 3128 | H34: =SUM(G34:G34) -> 3128 | K34: =H34*'DATOS REFERENCIALES'!$C$4 -> 20100.528 | N34: =LOOKUP(C34,'TABLA ANTIG.'!$A$4:$A$39,'TABLA ANTIG.'!$B$4:$B$39)*(K34) -> 0 | O34: =K34*0.1 -> 2010.0528 | P34: ='DATOS REFERENCIALES'!$D$8 -> 8550 | Q34: =LOOKUP(C34,'TABLA ANTIG.'!$A$4:$A$39,'TABLA ANTIG.'!$B$4:$B$39)*(P34) -> 0 | R34: 0 | S34: ='DATOS REFERENCIALES'!$D$14 -> 0 | T34: =K34+N34+O34+P34+Q34+R34+S34 -> 30660.581 | U34: =$T34*11% -> 3372.6639 | V34: =$T34*3% -> 919.81742 | W34: =$T34*3% -> 919.81742 | X34: =$T34*2% -> 613.21162 | Y34: =$T34*4.5% -> 1379.7261 | Z34: =SUM(U34:Y34) -> 7205.2365 | AA34: =T34-Z34 -> 23455.344 | AB34: ='DATOS REFERENCIALES'!$D$10 -> 3040 | AC34: =IF((IF(H34>2042,('DATOS REFERENCIALES'!$D$9-(T34-U34-V34-W34-X34-Y34+AB34)+(S34-S34*0.235)),(('DATOS REFERENCIALES'!$D$9/2043)*H34)-(K34+N34+O34+P34+Q34+R34-U34-V34-W34-X34-Y34+AB34)))<0,0,IF(H34>2042,(('DATOS REFERENCIALES'!$D$9)-(T34-U34-V34-W34-X34-Y34+AB34)+(S34-S34*0.235)),(('DATOS REFERENCIALES'!$D$9/2043)*H34)-(K34+N34+O34+P34+Q34+R34-U34-V34-W34-X34-Y34+AB34))) -> 7804.6557 | AD34: =SUM(AA34:AC34) -> 34300 | AE34: ='DATOS REFERENCIALES'!$D$13 -> 2420 | AG34: =IF($H34>2043,'DATOS REFERENCIALES'!D17,'DATOS REFERENCIALES'!D17/2043*$H34) -> 3000 | AH34: ='DATOS REFERENCIALES'!$D$12 -> 420 | AI34: =SUM(AD34:AH34)+SUM(AD35:AH35) -> 42423.47 | AJ34: ='DATOS REFERENCIALES'!D16 -> 1544 | AK34: =AJ34*$AK$31 -> 362.84 | AL34: =AJ34-AK34 -> 1181.16 | AM34: =AI34+AL34 -> 43604.63
A35: 5080 | B35: Rector | C35: =IF(C34>0,C34,0) -> 0 | I35: 234.6 | J35: 1 turno y hasta 14 secciones. | L35: =I35*'DATOS REFERENCIALES'!$C$4 -> 1507.5396 | M35: =IF(J35='DATOS REFERENCIALES'!$C$30,K34*'DATOS REFERENCIALES'!$D$30,IF(J35='DATOS REFERENCIALES'!$C$31,('DATOS REFERENCIALES'!$D$31*K34),IF(J35='DATOS REFERENCIALES'!$C$32,('DATOS REFERENCIALES'!$D$32*K34),IF(J35='DATOS REFERENCIALES'!$C$33,('DATOS REFERENCIALES'!$D$33*K34),IF(J35='DATOS REFERENCIALES'!$C$34,('DATOS REFERENCIALES'!$D$34*K34),IF(J35='DATOS REFERENCIALES'!$C$35,('DATOS REFERENCIALES'!$D$35*K34),IF(J35='DATOS REFERENCIALES'!$C$36,('DATOS REFERENCIALES'!$D$36*K34),IF(J35='DATOS REFERENCIALES'!$C$37,('DATOS REFERENCIALES'!$D$37*K34),0)))))))) -> 1206.0317 | N35: =LOOKUP(C35,'TABLA ANTIG.'!$A$4:$A$39,'TABLA ANTIG.'!$B$4:$B$39)*(L35+M35) -> 0 | O35: =(L35+M35)*0.1 -> 271.35713 | T35: =L35+M35+N35+O35+P35+Q35+R35 -> 2984.9284 | U35: =$T35*11% -> 328.34212 | V35: =$T35*3% -> 89.547852 | W35: =$T35*3% -> 89.547852 | X35: =$T35*2% -> 59.698568 | Y35: =$T35*4.5% -> 134.32178 | Z35: =SUM(U35:Y35) -> 701.45818 | AA35: =T35-Z35 -> 2283.4702 | AD35: =SUM(AA35:AC35) -> 2283.4702
A36: 5014 | B36: Regente | C36: 0 | G36: 2415 | H36: =SUM(G36:G36) -> 2415 | K36: =H36*'DATOS REFERENCIALES'!$C$4 -> 15518.79 | N36: =LOOKUP(C36,'TABLA ANTIG.'!$A$4:$A$39,'TABLA ANTIG.'!$B$4:$B$39)*(K36) -> 0 | O36: =K36*0.1 -> 1551.879 | P36: ='DATOS REFERENCIALES'!$C$8 -> 4275 | Q36: =LOOKUP(C36,'TABLA ANTIG.'!$A$4:$A$39,'TABLA ANTIG.'!$B$4:$B$39)*(P36) -> 0 | R36: 0 | S36: ='DATOS REFERENCIALES'!$C$14 -> 0 | T36: =K36+N36+O36+P36+Q36+R36+S36 -> 21345.669 | U36: =$T36*11% -> 2348.0236 | V36: =$T36*3% -> 640.37007 | W36: =$T36*3% -> 640.37007 | X36: =$T36*2% -> 426.91338 | Y36: =$T36*4.5% -> 960.55511 | Z36: =SUM(U36:Y36) -> 5016.2322 | AA36: =T36-Z36 -> 16329.437 | AB36: ='DATOS REFERENCIALES'!$C$10 -> 1520 | AC36: =IF((IF(H36>1119,('DATOS REFERENCIALES'!$C$9-(T36-U36-V36-W36-X36-Y36+AB36-L36-L36*0.235-(S36-S36*0.235))),(('DATOS REFERENCIALES'!$C$9/1120)*H36)-(K36+N36+O36+P36+Q36+R36-U36-V36-W36-X36-Y36+AB36-(L36-L36*0.235)-(S36*0.235))))<0,0,IF(H36>1119,(('DATOS REFERENCIALES'!$C$9)-(T36-U36-V36-W36-X36-Y36+AB36-(L36-L36*0.235)-(S36-S36*0.235))),(('DATOS REFERENCIALES'!$C$9/1120)*H36)-(K36+N36+O36+P36+Q36+R36-U36-V36-W36-X36-Y36+AB36))) -> 0 | AD36: =SUM(AA36:AC36) -> 17849.437 | AE36: ='DATOS REFERENCIALES'!$C$13 -> 1210 | AG36: =IF($H36>1119,'DATOS REFERENCIALES'!C17,'DATOS REFERENCIALES'!C17/1120*$H36) -> 1500 | AH36: ='DATOS REFERENCIALES'!$C$12 -> 210 | AI36: =SUM(AD36:AH36)+SUM(AD37:AH37) -> 21748.893 | AJ36: ='DATOS REFERENCIALES'!C16 -> 772 | AK36: =AJ36*$AK$31 -> 181.42 | AL36: =AJ36-AK36 -> 590.58 | AM36: =AI36+AL36 -> 22339.473
A37: 5014 | B37: Regente | C37: =IF(C36>0,C36,0) -> 0 | I37: 181.13 | L37: =I37*'DATOS REFERENCIALES'!$C$4 -> 1163.9414 | M37: =IF(J37='DATOS REFERENCIALES'!$C$30,K36*'DATOS REFERENCIALES'!$D$30,IF(J37='DATOS REFERENCIALES'!$C$31,('DATOS REFERENCIALES'!$D$31*K36),IF(J37='DATOS REFERENCIALES'!$C$32,('DATOS REFERENCIALES'!$D$32*K36),IF(J37='DATOS REFERENCIALES'!$C$33,('DATOS REFERENCIALES'!$D$33*K36),IF(J37='DATOS REFERENCIALES'!$C$34,('DATOS REFERENCIALES'!$D$34*K36),IF(J37='DATOS REFERENCIALES'!$C$35,('DATOS REFERENCIALES'!$D$35*K36),IF(J37='DATOS REFERENCIALES'!$C$36,('DATOS REFERENCIALES'!$D$36*K36),IF(J37='DATOS REFERENCIALES'!$C$37,('DATOS REFERENCIALES'!$D$37*K36),0)))))))) -> 0 | N37: =LOOKUP(C37,'TABLA ANTIG.'!$A$4:$A$39,'TABLA ANTIG.'!$B$4:$B$39)*(L37+M37) -> 0 | O37: =(L37+M37)*0.1 -> 116.39414 | T37: =L37+M37+N37+O37+P37+Q37+R37 -> 1280.3355 | U37: =$T37*11% -> 140.83691 | V37: =$T37*3% -> 38.410066 | W37: =$T37*3% -> 38.410066 | X37: =$T37*2% -> 25.60671 | Y37: =$T37*4.5% -> 57.615098 | Z37: =SUM(U37:Y37) -> 300.87885 | AA37: =T37-Z37 -> 979.45667 | AD37: =SUM(AA37:AC37) -> 979.45667
A38: 5013 | B38: Jefe General Enseñanza Práctica | C38: 0 | G38: 2421 | H38: =SUM(G38:G38) -> 2421 | K38: =H38*'DATOS REFERENCIALES'!$C$4 -> 15557.346 | N38: =LOOKUP(C38,'TABLA ANTIG.'!$A$4:$A$39,'TABLA ANTIG.'!$B$4:$B$39)*(K38) -> 0 | O38: =K38*0.1 -> 1555.7346 | P38: ='DATOS REFERENCIALES'!$C$8 -> 4275 | Q38: =LOOKUP(C38,'TABLA ANTIG.'!$A$4:$A$39,'TABLA ANTIG.'!$B$4:$B$39)*(P38) -> 0 | R38: 0 | S38: ='DATOS REFERENCIALES'!$C$14 -> 0 | T38: =K38+N38+O38+P38+Q38+R38+S38 -> 21388.081 | U38: =$T38*11% -> 2352.6889 | V38: =$T38*3% -> 641.64242 | W38: =$T38*3% -> 641.64242 | X38: =$T38*2% -> 427.76161 | Y38: =$T38*4.5% -> 962.46363 | Z38: =SUM(U38:Y38) -> 5026.1989 | AA38: =T38-Z38 -> 16361.882 | AB38: ='DATOS REFERENCIALES'!$C$10 -> 1520 | AC38: =IF((IF(H38>1119,('DATOS REFERENCIALES'!$C$9-(T38-U38-V38-W38-X38-Y38+AB38-L38-L38*0.235-(S38-S38*0.235))),(('DATOS REFERENCIALES'!$C$9/1120)*H38)-(K38+N38+O38+P38+Q38+R38-U38-V38-W38-X38-Y38+AB38-(L38-L38*0.235)-(S38*0.235))))<0,0,IF(H38>1119,(('DATOS REFERENCIALES'!$C$9)-(T38-U38-V38-W38-X38-Y38+AB38-(L38-L38*0.235)-(S38-S38*0.235))),(('DATOS REFERENCIALES'!$C$9/1120)*H38)-(K38+N38+O38+P38+Q38+R38-U38-V38-W38-X38-Y38+AB38))) -> 0 | AD38: =SUM(AA38:AC38) -> 17881.882 | AE38: ='DATOS REFERENCIALES'!$C$13 -> 1210 | AG38: =IF($H38>1119,'DATOS REFERENCIALES'!C17,'DATOS REFERENCIALES'!C17/1120*$H38) -> 1500 | AH38: ='DATOS REFERENCIALES'!$C$12 -> 210 | AI38: =SUM(AD38:AH38)+SUM(AD39:AH39) -> 21783.772 | AJ38: ='DATOS REFERENCIALES'!C16 -> 772 | AK38: =AJ38*$AK$31 -> 181.42 | AL38: =AJ38-AK38 -> 590.58 | AM38: =AI38+AL38 -> 22374.352
A39: 5013 | B39: Jefe General Enseñanza Práctica | C39: =IF(C38>0,C38,0) -> 0 | I39: 181.58 | L39: =I39*'DATOS REFERENCIALES'!$C$4 -> 1166.8331 | M39: =IF(J39='DATOS REFERENCIALES'!$C$30,K38*'DATOS REFERENCIALES'!$D$30,IF(J39='DATOS REFERENCIALES'!$C$31,('DATOS REFERENCIALES'!$D$31*K38),IF(J39='DATOS REFERENCIALES'!$C$32,('DATOS REFERENCIALES'!$D$32*K38),IF(J39='DATOS REFERENCIALES'!$C$33,('DATOS REFERENCIALES'!$D$33*K38),IF(J39='DATOS REFERENCIALES'!$C$34,('DATOS REFERENCIALES'!$D$34*K38),IF(J39='DATOS REFERENCIALES'!$C$35,('DATOS REFERENCIALES'!$D$35*K38),IF(J39='DATOS REFERENCIALES'!$C$36,('DATOS REFERENCIALES'!$D$36*K38),IF(J39='DATOS REFERENCIALES'!$C$37,('DATOS REFERENCIALES'!$D$37*K38),0)))))))) -> 0 | N39: =LOOKUP(C39,'TABLA ANTIG.'!$A$4:$A$39,'TABLA ANTIG.'!$B$4:$B$39)*(L39+M39) -> 0 | O39: =(L39+M39)*0.1 -> 116.68331 | T39: =L39+M39+N39+O39+P39+Q39+R39 -> 1283.5164 | U39: =$T39*11% -> 141.1868 | V39: =$T39*3% -> 38.505492 | W39: =$T39*3% -> 38.505492 | X39: =$T39*2% -> 25.670328 | Y39: =$T39*4.5% -> 57.758237 | Z39: =SUM(U39:Y39) -> 301.62635 | AA39: =T39-Z39 -> 981.89004 | AD39: =SUM(AA39:AC39) -> 981.89004
A40: 5033 | B40: Jefe de Laboratorio | C40: 0 | G40: 1222 | H40: =SUM(G40:G40) -> 1222 | K40: =H40*'DATOS REFERENCIALES'!$C$4 -> 7852.572 | N40: =LOOKUP(C40,'TABLA ANTIG.'!$A$4:$A$39,'TABLA ANTIG.'!$B$4:$B$39)*(K40) -> 0 | O40: =K40*0.1 -> 785.2572 | P40: ='DATOS REFERENCIALES'!$C$8 -> 4275 | Q40: =LOOKUP(C40,'TABLA ANTIG.'!$A$4:$A$39,'TABLA ANTIG.'!$B$4:$B$39)*(P40) -> 0 | R40: 0 | S40: ='DATOS REFERENCIALES'!$C$14 -> 0 | T40: =K40+N40+O40+P40+Q40+R40+S40 -> 12912.829 | U40: =$T40*11% -> 1420.4112 | V40: =$T40*3% -> 387.38488 | W40: =$T40*3% -> 387.38488 | X40: =$T40*2% -> 258.25658 | Y40: =$T40*4.5% -> 581.07731 | Z40: =SUM(U40:Y40) -> 3034.5149 | AA40: =T40-Z40 -> 9878.3143 | AB40: ='DATOS REFERENCIALES'!$C$10 -> 1520 | AC40: =IF((IF(H40>1119,('DATOS REFERENCIALES'!$C$9-(T40-U40-V40-W40-X40-Y40+AB40-L40-L40*0.235-(S40-S40*0.235))),(('DATOS REFERENCIALES'!$C$9/1120)*H40)-(K40+N40+O40+P40+Q40+R40-U40-V40-W40-X40-Y40+AB40-(L40-L40*0.235)-(S40*0.235))))<0,0,IF(H40>1119,(('DATOS REFERENCIALES'!$C$9)-(T40-U40-V40-W40-X40-Y40+AB40-(L40-L40*0.235)-(S40-S40*0.235))),(('DATOS REFERENCIALES'!$C$9/1120)*H40)-(K40+N40+O40+P40+Q40+R40-U40-V40-W40-X40-Y40+AB40))) -> 5751.6857 | AD40: =SUM(AA40:AC40) -> 17150 | AE40: ='DATOS REFERENCIALES'!$C$13 -> 1210 | AG40: =IF($H40>1119,'DATOS REFERENCIALES'!C17,'DATOS REFERENCIALES'!C17/1120*$H40) -> 1500 | AH40: ='DATOS REFERENCIALES'!$C$12 -> 210 | AI40: =SUM(AD40:AH40) -> 20070 | AJ40: ='DATOS REFERENCIALES'!C16 -> 772 | AK40: =AJ40*$AK$31 -> 181.42 | AL40: =AJ40-AK40 -> 590.58 | AM40: =AI40+AL40 -> 20660.58
A41: 5029 | B41: Maestro de Enseñanza Práctica | C41: 0 | G41: 1120 | H41: =SUM(G41:G41) -> 1120 | K41: =H41*'DATOS REFERENCIALES'!$C$4 -> 7197.12 | N41: =LOOKUP(C41,'TABLA ANTIG.'!$A$4:$A$39,'TABLA ANTIG.'!$B$4:$B$39)*(K41) -> 0 | O41: =K41*0.1 -> 719.712 | P41: ='DATOS REFERENCIALES'!$C$8 -> 4275 | Q41: =LOOKUP(C41,'TABLA ANTIG.'!$A$4:$A$39,'TABLA ANTIG.'!$B$4:$B$39)*(P41) -> 0 | R41: 0 | S41: ='DATOS REFERENCIALES'!$C$14 -> 0 | T41: =K41+N41+O41+P41+Q41+R41+S41 -> 12191.832 | U41: =$T41*11% -> 1341.1015 | V41: =$T41*3% -> 365.75496 | W41: =$T41*3% -> 365.75496 | X41: =$T41*2% -> 243.83664 | Y41: =$T41*4.5% -> 548.63244 | Z41: =SUM(U41:Y41) -> 2865.0805 | AA41: =T41-Z41 -> 9326.7515 | AB41: ='DATOS REFERENCIALES'!$C$10 -> 1520 | AC41: =IF((IF(H41>1119,('DATOS REFERENCIALES'!$C$9-(T41-U41-V41-W41-X41-Y41+AB41-L41-L41*0.235-(S41-S41*0.235))),(('DATOS REFERENCIALES'!$C$9/1120)*H41)-(K41+N41+O41+P41+Q41+R41-U41-V41-W41-X41-Y41+AB41-(L41-L41*0.235)-(S41*0.235))))<0,0,IF(H41>1119,(('DATOS REFERENCIALES'!$C$9)-(T41-U41-V41-W41-X41-Y41+AB41-(L41-L41*0.235)-(S41-S41*0.235))),(('DATOS REFERENCIALES'!$C$9/1120)*H41)-(K41+N41+O41+P41+Q41+R41-U41-V41-W41-X41-Y41+AB41))) -> 6303.2485 | AD41: =SUM(AA41:AC41) -> 17150 | AE41: ='DATOS REFERENCIALES'!$C$13 -> 1210 | AG41: =IF($H41>1119,'DATOS REFERENCIALES'!C17,'DATOS REFERENCIALES'!C17/1120*$H41) -> 1500 | AH41: ='DATOS REFERENCIALES'!$C$12 -> 210 | AI41: =SUM(AD41:AH41) -> 20070 | AJ41: ='DATOS REFERENCIALES'!$C$16 -> 772 | AK41: =AJ41*$AK$31 -> 181.42 | AL41: =AJ41-AK41 -> 590.58 | AM41: =AI41+AL41 -> 20660.58
A42: 5028 | B42: Maestro de Enseñanza Práctica Jefe de Sección | C42: 0 | G42: 1222 | H42: =SUM(G42:G42) -> 1222 | K42: =H42*'DATOS REFERENCIALES'!$C$4 -> 7852.572 | N42: =LOOKUP(C42,'TABLA ANTIG.'!$A$4:$A$39,'TABLA ANTIG.'!$B$4:$B$39)*(K42) -> 0 | O42: =K42*0.1 -> 785.2572 | P42: ='DATOS REFERENCIALES'!$C$8 -> 4275 | Q42: =LOOKUP(C42,'TABLA ANTIG.'!$A$4:$A$39,'TABLA ANTIG.'!$B$4:$B$39)*(P42) -> 0 | R42: 0 | S42: ='DATOS REFERENCIALES'!$C$14 -> 0 | T42: =K42+N42+O42+P42+Q42+R42+S42 -> 12912.829 | U42: =$T42*11% -> 1420.4112 | V42: =$T42*3% -> 387.38488 | W42: =$T42*3% -> 387.38488 | X42: =$T42*2% -> 258.25658 | Y42: =$T42*4.5% -> 581.07731 | Z42: =SUM(U42:Y42) -> 3034.5149 | AA42: =T42-Z42 -> 9878.3143 | AB42: ='DATOS REFERENCIALES'!$C$10 -> 1520 | AC42: =IF((IF(H42>1119,('DATOS REFERENCIALES'!$C$9-(T42-U42-V42-W42-X42-Y42+AB42-L42-L42*0.235-(S42-S42*0.235))),(('DATOS REFERENCIALES'!$C$9/1120)*H42)-(K42+N42+O42+P42+Q42+R42-U42-V42-W42-X42-Y42+AB42-(L42-L42*0.235)-(S42*0.235))))<0,0,IF(H42>1119,(('DATOS REFERENCIALES'!$C$9)-(T42-U42-V42-W42-X42-Y42+AB42-(L42-L42*0.235)-(S42-S42*0.235))),(('DATOS REFERENCIALES'!$C$9/1120)*H42)-(K42+N42+O42+P42+Q42+R42-U42-V42-W42-X42-Y42+AB42))) -> 5751.6857 | AD42: =SUM(AA42:AC42) -> 17150 | AE42: ='DATOS REFERENCIALES'!$C$13 -> 1210 | AG42: =IF($H42>1119,'DATOS REFERENCIALES'!C17,'DATOS REFERENCIALES'!C17/1120*$H42) -> 1500 | AH42: ='DATOS REFERENCIALES'!$C$12 -> 210 | AI42: =SUM(AD42:AH42) -> 20070 | AJ42: ='DATOS REFERENCIALES'!$C$16 -> 772 | AK42: =AJ42*$AK$31 -> 181.42 | AL42: =AJ42-AK42 -> 590.58 | AM42: =AI42+AL42 -> 20660.58
A43: 5035 | B43: Maestro Ayudante de Enseñanza Práctica | C43: 0 | G43: 1032 | H43: =SUM(G43:G43) -> 1032 | K43: =H43*'DATOS REFERENCIALES'!$C$4 -> 6631.632 | N43: =LOOKUP(C43,'TABLA ANTIG.'!$A$4:$A$39,'TABLA ANTIG.'!$B$4:$B$39)*(K43) -> 0 | O43: =K43*0.1 -> 663.1632 | P43: ='DATOS REFERENCIALES'!$C$8 -> 4275 | Q43: =LOOKUP(C43,'TABLA ANTIG.'!$A$4:$A$39,'TABLA ANTIG.'!$B$4:$B$39)*(P43) -> 0 | R43: 0 | S43: ='DATOS REFERENCIALES'!$C$14 -> 0 | T43: =K43+N43+O43+P43+Q43+R43+S43 -> 11569.795 | U43: =$T43*11% -> 1272.6775 | V43: =$T43*3% -> 347.09386 | W43: =$T43*3% -> 347.09386 | X43: =$T43*2% -> 231.3959 | Y43: =$T43*4.5% -> 520.64078 | Z43: =SUM(U43:Y43) -> 2718.9019 | AA43: =T43-Z43 -> 8850.8933 | AB43: ='DATOS REFERENCIALES'!$C$10 -> 1520 | AC43: =IF((IF(H43>1119,('DATOS REFERENCIALES'!$C$9-(T43-U43-V43-W43-X43-Y43+AB43-L43-L43*0.235-(S43-S43*0.235))),(('DATOS REFERENCIALES'!$C$9/1120)*H43)-(K43+N43+O43+P43+Q43+R43-U43-V43-W43-X43-Y43+AB43-(L43-L43*0.235)-(S43*0.235))))<0,0,IF(H43>1119,(('DATOS REFERENCIALES'!$C$9)-(T43-U43-V43-W43-X43-Y43+AB43-(L43-L43*0.235)-(S43-S43*0.235))),(('DATOS REFERENCIALES'!$C$9/1120)*H43)-(K43+N43+O43+P43+Q43+R43-U43-V43-W43-X43-Y43+AB43))) -> 5431.6067 | AD43: =SUM(AA43:AC43) -> 15802.5 | AE43: ='DATOS REFERENCIALES'!$C$13 -> 1210 | AG43: =IF($H43>1119,'DATOS REFERENCIALES'!C17,'DATOS REFERENCIALES'!C17/1120*$H43) -> 1382.1429 | AH43: ='DATOS REFERENCIALES'!$C$12 -> 210 | AI43: =SUM(AD43:AH43) -> 18604.643 | AJ43: ='DATOS REFERENCIALES'!$C$16 -> 772 | AK43: =AJ43*$AK$31 -> 181.42 | AL43: =AJ43-AK43 -> 590.58 | AM43: =AI43+AL43 -> 19195.223
A44: 5051 | B44: Ayudante Técnico de Trabajos Prácticos | C44: 0 | G44: 929 | H44: =SUM(G44:G44) -> 929 | K44: =H44*'DATOS REFERENCIALES'!$C$4 -> 5969.754 | N44: =LOOKUP(C44,'TABLA ANTIG.'!$A$4:$A$39,'TABLA ANTIG.'!$B$4:$B$39)*(K44) -> 0 | O44: =K44*0.1 -> 596.9754 | P44: ='DATOS REFERENCIALES'!$C$8 -> 4275 | Q44: =LOOKUP(C44,'TABLA ANTIG.'!$A$4:$A$39,'TABLA ANTIG.'!$B$4:$B$39)*(P44) -> 0 | R44: 0 | S44: ='DATOS REFERENCIALES'!$C$14 -> 0 | T44: =K44+N44+O44+P44+Q44+R44+S44 -> 10841.729 | U44: =$T44*11% -> 1192.5902 | V44: =$T44*3% -> 325.25188 | W44: =$T44*3% -> 325.25188 | X44: =$T44*2% -> 216.83459 | Y44: =$T44*4.5% -> 487.87782 | Z44: =SUM(U44:Y44) -> 2547.8064 | AA44: =T44-Z44 -> 8293.923 | AB44: ='DATOS REFERENCIALES'!$C$10 -> 1520 | AC44: =IF((IF(H44>1119,('DATOS REFERENCIALES'!$C$9-(T44-U44-V44-W44-X44-Y44+AB44-L44-L44*0.235-(S44-S44*0.235))),(('DATOS REFERENCIALES'!$C$9/1120)*H44)-(K44+N44+O44+P44+Q44+R44-U44-V44-W44-X44-Y44+AB44-(L44-L44*0.235)-(S44*0.235))))<0,0,IF(H44>1119,(('DATOS REFERENCIALES'!$C$9)-(T44-U44-V44-W44-X44-Y44+AB44-(L44-L44*0.235)-(S44-S44*0.235))),(('DATOS REFERENCIALES'!$C$9/1120)*H44)-(K44+N44+O44+P44+Q44+R44-U44-V44-W44-X44-Y44+AB44))) -> 4411.3895 | AD44: =SUM(AA44:AC44) -> 14225.312 | AE44: ='DATOS REFERENCIALES'!$C$13 -> 1210 | AG44: =IF($H44>1119,'DATOS REFERENCIALES'!C17,'DATOS REFERENCIALES'!C17/1120*$H44) -> 1244.1964 | AH44: ='DATOS REFERENCIALES'!$C$12 -> 210 | AI44: =SUM(AD44:AH44) -> 16889.509 | AJ44: ='DATOS REFERENCIALES'!$C$16 -> 772 | AK44: =AJ44*$AK$31 -> 181.42 | AL44: =AJ44-AK44 -> 590.58 | AM44: =AI44+AL44 -> 17480.089
A45: 1557 | B45: Ayudante de Depto. de Orientación | C45: 0 | G45: 823 | H45: =SUM(G45:G45) -> 823 | K45: =H45*'DATOS REFERENCIALES'!$C$4 -> 5288.598 | N45: =LOOKUP(C45,'TABLA ANTIG.'!$A$4:$A$39,'TABLA ANTIG.'!$B$4:$B$39)*(K45) -> 0 | O45: =K45*0.1 -> 528.8598 | P45: ='DATOS REFERENCIALES'!$C$8 -> 4275 | Q45: =LOOKUP(C45,'TABLA ANTIG.'!$A$4:$A$39,'TABLA ANTIG.'!$B$4:$B$39)*(P45) -> 0 | R45: 0 | S45: ='DATOS REFERENCIALES'!$C$14 -> 0 | T45: =K45+N45+O45+P45+Q45+R45+S45 -> 10092.458 | U45: =$T45*11% -> 1110.1704 | V45: =$T45*3% -> 302.77373 | W45: =$T45*3% -> 302.77373 | X45: =$T45*2% -> 201.84916 | Y45: =$T45*4.5% -> 454.1606 | Z45: =SUM(U45:Y45) -> 2371.7276 | AA45: =T45-Z45 -> 7720.7302 | AB45: ='DATOS REFERENCIALES'!$C$10 -> 1520 | AC45: =IF((IF(H45>1119,('DATOS REFERENCIALES'!$C$9-(T45-U45-V45-W45-X45-Y45+AB45-L45-L45*0.235-(S45-S45*0.235))),(('DATOS REFERENCIALES'!$C$9/1120)*H45)-(K45+N45+O45+P45+Q45+R45-U45-V45-W45-X45-Y45+AB45-(L45-L45*0.235)-(S45*0.235))))<0,0,IF(H45>1119,(('DATOS REFERENCIALES'!$C$9)-(T45-U45-V45-W45-X45-Y45+AB45-(L45-L45*0.235)-(S45-S45*0.235))),(('DATOS REFERENCIALES'!$C$9/1120)*H45)-(K45+N45+O45+P45+Q45+R45-U45-V45-W45-X45-Y45+AB45))) -> 3361.4573 | AD45: =SUM(AA45:AC45) -> 12602.188 | AE45: ='DATOS REFERENCIALES'!$C$13 -> 1210 | AG45: =IF($H45>1119,'DATOS REFERENCIALES'!C17,'DATOS REFERENCIALES'!C17/1120*$H45) -> 1102.2321 | AH45: ='DATOS REFERENCIALES'!$C$12 -> 210 | AI45: =SUM(AD45:AH45) -> 15124.42 | AJ45: ='DATOS REFERENCIALES'!$C$16 -> 772 | AK45: =AJ45*$AK$31 -> 181.42 | AL45: =AJ45-AK45 -> 590.58 | AM45: =AI45+AL45 -> 15715
A46: 1568 | B46: Psicopedagogo | C46: 0 | G46: 1008 | H46: =SUM(G46:G46) -> 1008 | K46: =H46*'DATOS REFERENCIALES'!$C$4 -> 6477.408 | N46: =LOOKUP(C46,'TABLA ANTIG.'!$A$4:$A$39,'TABLA ANTIG.'!$B$4:$B$39)*(K46) -> 0 | O46: =K46*0.1 -> 647.7408 | P46: ='DATOS REFERENCIALES'!$C$8 -> 4275 | Q46: =LOOKUP(C46,'TABLA ANTIG.'!$A$4:$A$39,'TABLA ANTIG.'!$B$4:$B$39)*(P46) -> 0 | R46: 0 | S46: ='DATOS REFERENCIALES'!$C$14 -> 0 | T46: =K46+N46+O46+P46+Q46+R46+S46 -> 11400.149 | U46: =$T46*11% -> 1254.0164 | V46: =$T46*3% -> 342.00446 | W46: =$T46*3% -> 342.00446 | X46: =$T46*2% -> 228.00298 | Y46: =$T46*4.5% -> 513.0067 | Z46: =SUM(U46:Y46) -> 2679.035 | AA46: =T46-Z46 -> 8721.1138 | AB46: ='DATOS REFERENCIALES'!$C$10 -> 1520 | AC46: =IF((IF(H46>1119,('DATOS REFERENCIALES'!$C$9-(T46-U46-V46-W46-X46-Y46+AB46-L46-L46*0.235-(S46-S46*0.235))),(('DATOS REFERENCIALES'!$C$9/1120)*H46)-(K46+N46+O46+P46+Q46+R46-U46-V46-W46-X46-Y46+AB46-(L46-L46*0.235)-(S46*0.235))))<0,0,IF(H46>1119,(('DATOS REFERENCIALES'!$C$9)-(T46-U46-V46-W46-X46-Y46+AB46-(L46-L46*0.235)-(S46-S46*0.235))),(('DATOS REFERENCIALES'!$C$9/1120)*H46)-(K46+N46+O46+P46+Q46+R46-U46-V46-W46-X46-Y46+AB46))) -> 5193.8862 | AD46: =SUM(AA46:AC46) -> 15435 | AE46: ='DATOS REFERENCIALES'!$C$13 -> 1210 | AG46: =IF($H46>1119,'DATOS REFERENCIALES'!C17,'DATOS REFERENCIALES'!C17/1120*$H46) -> 1350 | AH46: ='DATOS REFERENCIALES'!$C$12 -> 210 | AI46: =SUM(AD46:AH46) -> 18205 | AJ46: ='DATOS REFERENCIALES'!$C$16 -> 772 | AK46: =AJ46*$AK$31 -> 181.42 | AL46: =AJ46-AK46 -> 590.58 | AM46: =AI46+AL46 -> 18795.58
A47: 1599 | B47: Hora desdoblamiento educ. fisica | C47: 0 | D47: 1 | G47: 56 | H47: =SUM(G47:G47) -> 56 | K47: =(H47*'DATOS REFERENCIALES'!$C$4)*D47 -> 359.856 | N47: =LOOKUP(C47,'TABLA ANTIG.'!$A$4:$A$39,'TABLA ANTIG.'!$B$4:$B$39)*(K47) -> 0 | O47: =K47*0.1 -> 35.9856 | P47: =IF(D47>48,'DATOS REFERENCIALES'!$D$8+('DATOS REFERENCIALES'!$F$8*10),IF(D47<39,'DATOS REFERENCIALES'!$E$8*D47,((D47-'DATOS REFERENCIALES'!$I$8)*'DATOS REFERENCIALES'!$F$8)+'DATOS REFERENCIALES'!$D$8)) -> 225 | Q47: =LOOKUP(C47,'TABLA ANTIG.'!$A$4:$A$39,'TABLA ANTIG.'!$B$4:$B$39)*(P47) -> 0 | R47: 0 | S47: =IF(D47>29.99,'DATOS REFERENCIALES'!$D$14,'DATOS REFERENCIALES'!$E$14*D47) -> 0 | T47: =K47+N47+O47+P47+Q47+R47+S47 -> 620.8416 | U47: =$T47*11% -> 68.292576 | V47: =$T47*3% -> 18.625248 | W47: =$T47*3% -> 18.625248 | X47: =$T47*2% -> 12.416832 | Y47: =$T47*4.5% -> 27.937872 | Z47: =SUM(U47:Y47) -> 145.89778 | AA47: =T47-Z47 -> 474.94382 | AB47: =IF(D47>38,'DATOS REFERENCIALES'!$D$10,'DATOS REFERENCIALES'!$E$10*D47) -> 80 | AC47: =IF(D47>41,IF((('DATOS REFERENCIALES'!$D$9)-((T47-S47)-(Z47-S47*0.235)+(AB47)))<0,0,((('DATOS REFERENCIALES'!$D$9)-((T47-S47)-(Z47-S47*0.235)+(AB47))))),IF((('DATOS REFERENCIALES'!$E$9*D47)-(((T47-S47)-(Z47-S47*0.235)+(AB47))))<0,0,('DATOS REFERENCIALES'!$E$9*D47)-((T47-S47)-(Z47-S47*0.235)+(AB47)))) -> 302.55618 | AD47: =SUM(AA47:AC47) -> 857.5 | AE47: =IF(D47>30,'DATOS REFERENCIALES'!$D$13,('DATOS REFERENCIALES'!$E$13*D47)) -> 80.66666 | AG47: =IF(D47>'DATOS REFERENCIALES'!$I$17,'DATOS REFERENCIALES'!$D$17,('DATOS REFERENCIALES'!$E$17*D47)) -> 75 | AH47: =IF(D47>'DATOS REFERENCIALES'!$I$12,'DATOS REFERENCIALES'!$D$12,'DATOS REFERENCIALES'!$E$12*D47) -> 14 | AI47: =SUM(AD47:AH47) -> 1027.1667 | AJ47: =IF(D47>'DATOS REFERENCIALES'!$I$16,'DATOS REFERENCIALES'!$D$16,'DATOS REFERENCIALES'!$E$16*D47) -> 51.47 | AK47: =AJ47*$AK$31 -> 12.09545 | AL47: =AJ47-AK47 -> 39.37455 | AM47: =AI47+AL47 -> 1066.5412
A48: 1599 | B48: Hora nivelación idioma extranjero | C48: 0 | D48: 1 | G48: 56 | H48: =SUM(G48:G48) -> 56 | K48: =(H48*'DATOS REFERENCIALES'!$C$4)*D48 -> 359.856 | N48: =LOOKUP(C48,'TABLA ANTIG.'!$A$4:$A$39,'TABLA ANTIG.'!$B$4:$B$39)*(K48) -> 0 | O48: =K48*0.1 -> 35.9856 | P48: =IF(D48>48,'DATOS REFERENCIALES'!$D$8+('DATOS REFERENCIALES'!$F$8*10),IF(D48<39,'DATOS REFERENCIALES'!$E$8*D48,((D48-'DATOS REFERENCIALES'!$I$8)*'DATOS REFERENCIALES'!$F$8)+'DATOS REFERENCIALES'!$D$8)) -> 225 | Q48: =LOOKUP(C48,'TABLA ANTIG.'!$A$4:$A$39,'TABLA ANTIG.'!$B$4:$B$39)*(P48) -> 0 | R48: 0 | S48: =IF(D48>29.99,'DATOS REFERENCIALES'!$D$14,'DATOS REFERENCIALES'!$E$14*D48) -> 0 | T48: =K48+N48+O48+P48+Q48+R48+S48 -> 620.8416 | U48: =$T48*11% -> 68.292576 | V48: =$T48*3% -> 18.625248 | W48: =$T48*3% -> 18.625248 | X48: =$T48*2% -> 12.416832 | Y48: =$T48*4.5% -> 27.937872 | Z48: =SUM(U48:Y48) -> 145.89778 | AA48: =T48-Z48 -> 474.94382 | AB48: =IF(D48>38,'DATOS REFERENCIALES'!$D$10,'DATOS REFERENCIALES'!$E$10*D48) -> 80 | AC48: =IF(D48>41,IF((('DATOS REFERENCIALES'!$D$9)-((T48-S48)-(Z48-S48*0.235)+(AB48)))<0,0,((('DATOS REFERENCIALES'!$D$9)-((T48-S48)-(Z48-S48*0.235)+(AB48))))),IF((('DATOS REFERENCIALES'!$E$9*D48)-(((T48-S48)-(Z48-S48*0.235)+(AB48))))<0,0,('DATOS REFERENCIALES'!$E$9*D48)-((T48-S48)-(Z48-S48*0.235)+(AB48)))) -> 302.55618 | AD48: =SUM(AA48:AC48) -> 857.5 | AE48: =IF(D48>30,'DATOS REFERENCIALES'!$D$13,('DATOS REFERENCIALES'!$E$13*D48)) -> 80.66666 | AG48: =IF(D48>'DATOS REFERENCIALES'!$I$17,'DATOS REFERENCIALES'!$D$17,('DATOS REFERENCIALES'!$E$17*D48)) -> 75 | AH48: =IF(D48>'DATOS REFERENCIALES'!$I$12,'DATOS REFERENCIALES'!$D$12,'DATOS REFERENCIALES'!$E$12*D48) -> 14 | AI48: =SUM(AD48:AH48) -> 1027.1667 | AJ48: =IF(D48>'DATOS REFERENCIALES'!$I$16,'DATOS REFERENCIALES'!$D$16,'DATOS REFERENCIALES'!$E$16*D48) -> 51.47 | AK48: =AJ48*$AK$31 -> 12.09545 | AL48: =AJ48-AK48 -> 39.37455 | AM48: =AI48+AL48 -> 1066.5412
A49: 1599 | B49: Hora de tutoría | C49: 0 | D49: 1 | G49: 56 | H49: =SUM(G49:G49) -> 56 | K49: =(H49*'DATOS REFERENCIALES'!$C$4)*D49 -> 359.856 | N49: =LOOKUP(C49,'TABLA ANTIG.'!$A$4:$A$39,'TABLA ANTIG.'!$B$4:$B$39)*(K49) -> 0 | O49: =K49*0.1 -> 35.9856 | P49: =IF(D49>48,'DATOS REFERENCIALES'!$D$8+('DATOS REFERENCIALES'!$F$8*10),IF(D49<39,'DATOS REFERENCIALES'!$E$8*D49,((D49-'DATOS REFERENCIALES'!$I$8)*'DATOS REFERENCIALES'!$F$8)+'DATOS REFERENCIALES'!$D$8)) -> 225 | Q49: =LOOKUP(C49,'TABLA ANTIG.'!$A$4:$A$39,'TABLA ANTIG.'!$B$4:$B$39)*(P49) -> 0 | R49: 0 | S49: =IF(D49>29.99,'DATOS REFERENCIALES'!$D$14,'DATOS REFERENCIALES'!$E$14*D49) -> 0 | T49: =K49+N49+O49+P49+Q49+R49+S49 -> 620.8416 | U49: =$T49*11% -> 68.292576 | V49: =$T49*3% -> 18.625248 | W49: =$T49*3% -> 18.625248 | X49: =$T49*2% -> 12.416832 | Y49: =$T49*4.5% -> 27.937872 | Z49: =SUM(U49:Y49) -> 145.89778 | AA49: =T49-Z49 -> 474.94382 | AB49: =IF(D49>38,'DATOS REFERENCIALES'!$D$10,'DATOS REFERENCIALES'!$E$10*D49) -> 80 | AC49: =IF(D49>41,IF((('DATOS REFERENCIALES'!$D$9)-((T49-S49)-(Z49-S49*0.235)+(AB49)))<0,0,((('DATOS REFERENCIALES'!$D$9)-((T49-S49)-(Z49-S49*0.235)+(AB49))))),IF((('DATOS REFERENCIALES'!$E$9*D49)-(((T49-S49)-(Z49-S49*0.235)+(AB49))))<0,0,('DATOS REFERENCIALES'!$E$9*D49)-((T49-S49)-(Z49-S49*0.235)+(AB49)))) -> 302.55618 | AD49: =SUM(AA49:AC49) -> 857.5 | AE49: =IF(D49>30,'DATOS REFERENCIALES'!$D$13,('DATOS REFERENCIALES'!$E$13*D49)) -> 80.66666 | AG49: =IF(D49>'DATOS REFERENCIALES'!$I$17,'DATOS REFERENCIALES'!$D$17,('DATOS REFERENCIALES'!$E$17*D49)) -> 75 | AH49: =IF(D49>'DATOS REFERENCIALES'!$I$12,'DATOS REFERENCIALES'!$D$12,'DATOS REFERENCIALES'!$E$12*D49) -> 14 | AI49: =SUM(AD49:AH49) -> 1027.1667 | AJ49: =IF(D49>'DATOS REFERENCIALES'!$I$16,'DATOS REFERENCIALES'!$D$16,'DATOS REFERENCIALES'!$E$16*D49) -> 51.47 | AK49: =AJ49*$AK$31 -> 12.09545 | AL49: =AJ49-AK49 -> 39.37455 | AM49: =AI49+AL49 -> 1066.5412
A50: 1599 | B50: Hora de Jefatura de departameto | C50: 0 | D50: 1 | G50: 56 | H50: =SUM(G50:G50) -> 56 | K50: =(H50*'DATOS REFERENCIALES'!$C$4)*D50 -> 359.856 | N50: =LOOKUP(C50,'TABLA ANTIG.'!$A$4:$A$39,'TABLA ANTIG.'!$B$4:$B$39)*(K50) -> 0 | O50: =K50*0.1 -> 35.9856 | P50: =IF(D50>48,'DATOS REFERENCIALES'!$D$8+('DATOS REFERENCIALES'!$F$8*10),IF(D50<39,'DATOS REFERENCIALES'!$E$8*D50,((D50-'DATOS REFERENCIALES'!$I$8)*'DATOS REFERENCIALES'!$F$8)+'DATOS REFERENCIALES'!$D$8)) -> 225 | Q50: =LOOKUP(C50,'TABLA ANTIG.'!$A$4:$A$39,'TABLA ANTIG.'!$B$4:$B$39)*(P50) -> 0 | R50: 0 | S50: =IF(D50>29.99,'DATOS REFERENCIALES'!$D$14,'DATOS REFERENCIALES'!$E$14*D50) -> 0 | T50: =K50+N50+O50+P50+Q50+R50+S50 -> 620.8416 | U50: =$T50*11% -> 68.292576 | V50: =$T50*3% -> 18.625248 | W50: =$T50*3% -> 18.625248 | X50: =$T50*2% -> 12.416832 | Y50: =$T50*4.5% -> 27.937872 | Z50: =SUM(U50:Y50) -> 145.89778 | AA50: =T50-Z50 -> 474.94382 | AB50: =IF(D50>38,'DATOS REFERENCIALES'!$D$10,'DATOS REFERENCIALES'!$E$10*D50) -> 80 | AC50: =IF(D50>41,IF((('DATOS REFERENCIALES'!$D$9)-((T50-S50)-(Z50-S50*0.235)+(AB50)))<0,0,((('DATOS REFERENCIALES'!$D$9)-((T50-S50)-(Z50-S50*0.235)+(AB50))))),IF((('DATOS REFERENCIALES'!$E$9*D50)-(((T50-S50)-(Z50-S50*0.235)+(AB50))))<0,0,('DATOS REFERENCIALES'!$E$9*D50)-((T50-S50)-(Z50-S50*0.235)+(AB50)))) -> 302.55618 | AD50: =SUM(AA50:AC50) -> 857.5 | AE50: =IF(D50>30,'DATOS REFERENCIALES'!$D$13,('DATOS REFERENCIALES'!$E$13*D50)) -> 80.66666 | AG50: =IF(D50>'DATOS REFERENCIALES'!$I$17,'DATOS REFERENCIALES'!$D$17,('DATOS REFERENCIALES'!$E$17*D50)) -> 75 | AH50: =IF(D50>'DATOS REFERENCIALES'!$I$12,'DATOS REFERENCIALES'!$D$12,'DATOS REFERENCIALES'!$E$12*D50) -> 14 | AI50: =SUM(AD50:AH50) -> 1027.1667 | AJ50: =IF(D50>'DATOS REFERENCIALES'!$I$16,'DATOS REFERENCIALES'!$D$16,'DATOS REFERENCIALES'!$E$16*D50) -> 51.47 | AK50: =AJ50*$AK$31 -> 12.09545 | AL50: =AJ50-AK50 -> 39.37455 | AM50: =AI50+AL50 -> 1066.5412
A52: Nivel Medio Tiempo Completo Proyecto XIII | AC52: Nivel Medio Tiempo Completo Proyecto XIII | AK52: 0.235
A53: Códigos | B53: Denominación del cargo | C53: AÑOS | D53: CANTIDAD DE HORAS | E53: SUBVENCIONADO | F53: CAJA COMPL. | G53: INDICE del Sueldo básico Unificado | H53: TOTAL DE INDICES | I53: INDICES JERARQUIZACION | J53: PLUS DIFERENCIAL POR ESTABLECIMIENTO | K53: Valor Sueldo Básico Unificado RB | L53: PLUS DIFERENCIAL POR JERARQUIZACIÓN | M53: PLUS DIFERENCIAL POR ESTABLECIMIENTO | N53: Antigüedad Docente | O53: Asig. Estímulo Educ. R/ NB (Presentismo) | P53: DECRETO 243/08 RB | Q53: Antigüedad Decreto 243/08 | R53: Art. 128 Estatuto Docente R/ NB | S53: Adicional Especial Remun no Bonif. | T53: Total Haberes Remunerat. | U53: Retenciones por aportes personales | Z53: Total Aportes | AA53: SUBTOTAL NETO SIN C.M.G. | AB53: MDM | AC53: C.M.G. | AD53: Sub Total Neto a cobrar | AE53: FONID / RESOLUC. Nº 02/04 neto | AF53: Adelanto Cláusula de Seguimiento 2017 | AG53: SUMA FIJA NO REMUN.Y NO BONIF. POR UNICA VEZ | AH53: APORTE NAC. A MAT. DIDÁCTICO 2017 | AI53: TOTAL NETO A COBRAR | AJ53: Adicional Especial Remun no Bonif. | AK53: Total Aportes | AL53: NETO DEL ADICIO-NAL | AM53: NETO A COBRAR
U54: Jubilación 11% | V54: Obra Social 3% | W54: INSSJP - Ley 19032 3% | X54: Ley 24.016 Dec. 137/05 2% | Y54: Caja Compl. 4,5%
A55: 5080 | B55: Rector | C55: 0 | G55: 3128 | H55: =SUM(G55:G55) -> 3128 | K55: =H55*'DATOS REFERENCIALES'!$C$4 -> 20100.528 | N55: =LOOKUP(C55,'TABLA ANTIG.'!$A$4:$A$39,'TABLA ANTIG.'!$B$4:$B$39)*(K55) -> 0 | O55: =K55*0.1 -> 2010.0528 | P55: ='DATOS REFERENCIALES'!$D$8 -> 8550 | Q55: =LOOKUP(C55,'TABLA ANTIG.'!$A$4:$A$39,'TABLA ANTIG.'!$B$4:$B$39)*(P55) -> 0 | R55: 0 | S55: =IF(C55<12,IF(H55>2042,'DATOS REFERENCIALES'!$D$14,'DATOS REFERENCIALES'!$D$14/2043*H55*D55),IF(C55>11,IF(H55>2042,'DATOS REFERENCIALES'!$D$15,'DATOS REFERENCIALES'!$D$15/2043*H55*D55))) -> 0 | T55: =K55+N55+O55+P55+Q55+R55+S55 -> 30660.581 | U55: =$T55*11% -> 3372.6639 | V55: =$T55*3% -> 919.81742 | W55: =$T55*3% -> 919.81742 | X55: =$T55*2% -> 613.21162 | Y55: =$T55*4.5% -> 1379.7261 | Z55: =SUM(U55:Y55) -> 7205.2365 | AA55: =T55-Z55 -> 23455.344 | AB55: ='DATOS REFERENCIALES'!$D$10 -> 3040 | AC55: =IF((IF(H55>2042,('DATOS REFERENCIALES'!$D$9-(T55-U55-V55-W55-X55-Y55+AB55)+(S55-S55*0.235)),(('DATOS REFERENCIALES'!$D$9/2043)*H55)-(K55+N55+O55+P55+Q55+R55-U55-V55-W55-X55-Y55+AB55)))<0,0,IF(H55>2042,(('DATOS REFERENCIALES'!$D$9)-(T55-U55-V55-W55-X55-Y55+AB55)+(S55-S55*0.235)),(('DATOS REFERENCIALES'!$D$9/2043)*H55)-(K55+N55+O55+P55+Q55+R55-U55-V55-W55-X55-Y55+AB55))) -> 7804.6557 | AD55: =SUM(AA55:AC55) -> 34300 | AE55: ='DATOS REFERENCIALES'!$D$13 -> 2420 | AG55: =IF($H55>2043,'DATOS REFERENCIALES'!D17,'DATOS REFERENCIALES'!D17/2043*$H55) -> 3000 | AH55: ='DATOS REFERENCIALES'!$D$12 -> 420 | AI55: =SUM(AD55:AH55)+SUM(AD56:AH56) -> 41408.595 | AJ55: ='DATOS REFERENCIALES'!D16 -> 1544 | AK55: =AJ55*$AK$52 -> 362.84 | AL55: =AJ55-AK55 -> 1181.16 | AM55: =AI55+AL55 -> 42589.755
A56: 5080 | B56: Rector | C56: =IF(C55>0,C55,0) -> 0 | I56: 234.6 | L56: =I56*'DATOS REFERENCIALES'!$C$4 -> 1507.5396 | M56: =IF(J56='DATOS REFERENCIALES'!$C$30,K55*'DATOS REFERENCIALES'!$D$30,IF(J56='DATOS REFERENCIALES'!$C$31,('DATOS REFERENCIALES'!$D$31*K55),IF(J56='DATOS REFERENCIALES'!$C$32,('DATOS REFERENCIALES'!$D$32*K55),IF(J56='DATOS REFERENCIALES'!$C$33,('DATOS REFERENCIALES'!$D$33*K55),IF(J56='DATOS REFERENCIALES'!$C$34,('DATOS REFERENCIALES'!$D$34*K55),IF(J56='DATOS REFERENCIALES'!$C$35,('DATOS REFERENCIALES'!$D$35*K55),IF(J56='DATOS REFERENCIALES'!$C$36,('DATOS REFERENCIALES'!$D$36*K55),IF(J56='DATOS REFERENCIALES'!$C$37,('DATOS REFERENCIALES'!$D$37*K55),0)))))))) -> 0 | N56: =LOOKUP(C56,'TABLA ANTIG.'!$A$4:$A$39,'TABLA ANTIG.'!$B$4:$B$39)*(L56+M56) -> 0 | O56: =(L56+M56)*0.1 -> 150.75396 | T56: =L56+M56+N56+O56+P56+Q56+R56 -> 1658.2936 | U56: =$T56*11% -> 182.41229 | V56: =$T56*3% -> 49.748807 | W56: =$T56*3% -> 49.748807 | X56: =$T56*2% -> 33.165871 | Y56: =$T56*4.5% -> 74.62321 | Z56: =SUM(U56:Y56) -> 389.69899 | AA56: =T56-Z56 -> 1268.5946 | AD56: =SUM(AA56:AC56) -> 1268.5946
A57: 5081 | B57: Director de Estudios (12 horas mas de proyecto XIII) | C57: 0 | G57: 2669 | H57: =SUM(G57:G57) -> 2669 | K57: =H57*'DATOS REFERENCIALES'!$C$4 -> 17150.994 | N57: =LOOKUP(C57,'TABLA ANTIG.'!$A$4:$A$39,'TABLA ANTIG.'!$B$4:$B$39)*(K57) -> 0 | O57: =K57*0.1 -> 1715.0994 | P57: ='DATOS REFERENCIALES'!$D$8 -> 8550 | Q57: =LOOKUP(C57,'TABLA ANTIG.'!$A$4:$A$39,'TABLA ANTIG.'!$B$4:$B$39)*(P57) -> 0 | R57: 0 | S57: =IF(C57<12,IF(H57>2042,'DATOS REFERENCIALES'!$D$14,'DATOS REFERENCIALES'!$D$14/2043*H57*D57),IF(C57>11,IF(H57>2042,'DATOS REFERENCIALES'!$D$15,'DATOS REFERENCIALES'!$D$15/2043*H57*D57))) -> 0 | T57: =K57+N57+O57+P57+Q57+R57+S57 -> 27416.093 | U57: =$T57*11% -> 3015.7703 | V57: =$T57*3% -> 822.4828 | W57: =$T57*3% -> 822.4828 | X57: =$T57*2% -> 548.32187 | Y57: =$T57*4.5% -> 1233.7242 | Z57: =SUM(U57:Y57) -> 6442.7819 | AA57: =T57-Z57 -> 20973.311 | AB57: ='DATOS REFERENCIALES'!$D$10 -> 3040 | AC57: =IF((IF(H57>2042,('DATOS REFERENCIALES'!$D$9-(T57-U57-V57-W57-X57-Y57+AB57)+(S57-S57*0.235)),(('DATOS REFERENCIALES'!$D$9/2043)*H57)-(K57+N57+O57+P57+Q57+R57-U57-V57-W57-X57-Y57+AB57)))<0,0,IF(H57>2042,(('DATOS REFERENCIALES'!$D$9)-(T57-U57-V57-W57-X57-Y57+AB57)+(S57-S57*0.235)),(('DATOS REFERENCIALES'!$D$9/2043)*H57)-(K57+N57+O57+P57+Q57+R57-U57-V57-W57-X57-Y57+AB57))) -> 10286.689 | AD57: =SUM(AA57:AC57) -> 34300 | AE57: ='DATOS REFERENCIALES'!$D$13 -> 2420 | AG57: =IF($H57>2043,'DATOS REFERENCIALES'!D17,'DATOS REFERENCIALES'!D17/2043*$H57) -> 3000 | AH57: ='DATOS REFERENCIALES'!$D$12 -> 420 | AI57: =SUM(AD57:AH57)+SUM(AD58:AH58) -> 41222.469 | AJ57: ='DATOS REFERENCIALES'!D16 -> 1544 | AK57: =AJ57*$AK$52 -> 362.84 | AL57: =AJ57-AK57 -> 1181.16 | AM57: =AI57+AL57 -> 42403.629
A58: 5081 | B58: Director de Estudios (12 horas mas de proyecto XIII) | C58: =IF(C57>0,C57,0) -> 0 | I58: 200.18 | L58: =I58*'DATOS REFERENCIALES'!$C$4 -> 1286.3567 | M58: =IF(J58='DATOS REFERENCIALES'!$C$30,K57*'DATOS REFERENCIALES'!$D$30,IF(J58='DATOS REFERENCIALES'!$C$31,('DATOS REFERENCIALES'!$D$31*K57),IF(J58='DATOS REFERENCIALES'!$C$32,('DATOS REFERENCIALES'!$D$32*K57),IF(J58='DATOS REFERENCIALES'!$C$33,('DATOS REFERENCIALES'!$D$33*K57),IF(J58='DATOS REFERENCIALES'!$C$34,('DATOS REFERENCIALES'!$D$34*K57),IF(J58='DATOS REFERENCIALES'!$C$35,('DATOS REFERENCIALES'!$D$35*K57),IF(J58='DATOS REFERENCIALES'!$C$36,('DATOS REFERENCIALES'!$D$36*K57),IF(J58='DATOS REFERENCIALES'!$C$37,('DATOS REFERENCIALES'!$D$37*K57),0)))))))) -> 0 | N58: =LOOKUP(C58,'TABLA ANTIG.'!$A$4:$A$39,'TABLA ANTIG.'!$B$4:$B$39)*(L58+M58) -> 0 | O58: =(L58+M58)*0.1 -> 128.63567 | T58: =L58+M58+N58+O58+P58+Q58+R58 -> 1414.9923 | U58: =$T58*11% -> 155.64916 | V58: =$T58*3% -> 42.44977 | W58: =$T58*3% -> 42.44977 | X58: =$T58*2% -> 28.299847 | Y58: =$T58*4.5% -> 63.674656 | Z58: =SUM(U58:Y58) -> 332.5232 | AA58: =T58-Z58 -> 1082.4691 | AD58: =SUM(AA58:AC58) -> 1082.4691
A59: 5089 | B59: Psicopedagogo 18 horas | C59: 0 | G59: 1008 | H59: =SUM(G59:G59) -> 1008 | K59: =H59*'DATOS REFERENCIALES'!$C$4 -> 6477.408 | N59: =LOOKUP(C59,'TABLA ANTIG.'!$A$4:$A$39,'TABLA ANTIG.'!$B$4:$B$39)*(K59) -> 0 | O59: =K59*0.1 -> 647.7408 | P59: ='DATOS REFERENCIALES'!$C$8 -> 4275 | Q59: =LOOKUP(C59,'TABLA ANTIG.'!$A$4:$A$39,'TABLA ANTIG.'!$B$4:$B$39)*(P59) -> 0 | R59: 0 | S59: ='DATOS REFERENCIALES'!$C$14 -> 0 | T59: =K59+N59+O59+P59+Q59+R59+S59 -> 11400.149 | U59: =$T59*11% -> 1254.0164 | V59: =$T59*3% -> 342.00446 | W59: =$T59*3% -> 342.00446 | X59: =$T59*2% -> 228.00298 | Y59: =$T59*4.5% -> 513.0067 | Z59: =SUM(U59:Y59) -> 2679.035 | AA59: =T59-Z59 -> 8721.1138 | AB59: ='DATOS REFERENCIALES'!$C$10 -> 1520 | AC59: =IF((IF(H59>1119,('DATOS REFERENCIALES'!$C$9-(T59-U59-V59-W59-X59-Y59+AB59-L59-L59*0.235-(S59-S59*0.235))),(('DATOS REFERENCIALES'!$C$9/1120)*H59)-(K59+N59+O59+P59+Q59+R59-U59-V59-W59-X59-Y59+AB59-(L59-L59*0.235)-(S59*0.235))))<0,0,IF(H59>1119,(('DATOS REFERENCIALES'!$C$9)-(T59-(U59+V59+W59+X59+Y59)+AB59-(L59-L59*0.235)+(S59-S59*0.235))),(('DATOS REFERENCIALES'!$C$9/1120)*H59)-((K59+N59+O59+P59+Q59+R59)-(U59+V59+W59+X59+Y59)+AB59))) -> 5193.8862 | AD59: =SUM(AA59:AC59) -> 15435 | AE59: ='DATOS REFERENCIALES'!$C$13 -> 1210 | AG59: =IF($H59>1119,'DATOS REFERENCIALES'!C17,'DATOS REFERENCIALES'!C17/1120*$H59) -> 1350 | AH59: ='DATOS REFERENCIALES'!$C$12 -> 210 | AI59: =SUM(AD59:AH59) -> 18205 | AJ59: ='DATOS REFERENCIALES'!C16 -> 772 | AK59: =AJ59*$AK$52 -> 181.42 | AL59: =AJ59-AK59 -> 590.58 | AM59: =AI59+AL59 -> 18795.58
A60: 5088 | B60: Ayudante de Orientación 16 horas | C60: 0 | G60: 823 | H60: =SUM(G60:G60) -> 823 | K60: =H60*'DATOS REFERENCIALES'!$C$4 -> 5288.598 | N60: =LOOKUP(C60,'TABLA ANTIG.'!$A$4:$A$39,'TABLA ANTIG.'!$B$4:$B$39)*(K60) -> 0 | O60: =K60*0.1 -> 528.8598 | P60: ='DATOS REFERENCIALES'!$C$8 -> 4275 | Q60: =LOOKUP(C60,'TABLA ANTIG.'!$A$4:$A$39,'TABLA ANTIG.'!$B$4:$B$39)*(P60) -> 0 | R60: 0 | S60: ='DATOS REFERENCIALES'!$C$14 -> 0 | T60: =K60+N60+O60+P60+Q60+R60+S60 -> 10092.458 | U60: =$T60*11% -> 1110.1704 | V60: =$T60*3% -> 302.77373 | W60: =$T60*3% -> 302.77373 | X60: =$T60*2% -> 201.84916 | Y60: =$T60*4.5% -> 454.1606 | Z60: =SUM(U60:Y60) -> 2371.7276 | AA60: =T60-Z60 -> 7720.7302 | AB60: ='DATOS REFERENCIALES'!$C$10 -> 1520 | AC60: =IF((IF(H60>1119,('DATOS REFERENCIALES'!$C$9-(T60-U60-V60-W60-X60-Y60+AB60-L60-L60*0.235-(S60-S60*0.235))),(('DATOS REFERENCIALES'!$C$9/1120)*H60)-(K60+N60+O60+P60+Q60+R60-U60-V60-W60-X60-Y60+AB60-(L60-L60*0.235)-(S60*0.235))))<0,0,IF(H60>1119,(('DATOS REFERENCIALES'!$C$9)-(T60-(U60+V60+W60+X60+Y60)+AB60-(L60-L60*0.235)+(S60-S60*0.235))),(('DATOS REFERENCIALES'!$C$9/1120)*H60)-((K60+N60+O60+P60+Q60+R60)-(U60+V60+W60+X60+Y60)+AB60))) -> 3361.4573 | AD60: =SUM(AA60:AC60) -> 12602.188 | AE60: ='DATOS REFERENCIALES'!$C$13 -> 1210 | AG60: =IF($H60>1119,'DATOS REFERENCIALES'!C17,'DATOS REFERENCIALES'!C17/1120*$H60) -> 1102.2321 | AH60: ='DATOS REFERENCIALES'!$C$12 -> 210 | AI60: =SUM(AD60:AH60) -> 15124.42 | AJ60: ='DATOS REFERENCIALES'!C16 -> 772 | AK60: =AJ60*$AK$52 -> 181.42 | AL60: =AJ60-AK60 -> 590.58 | AM60: =AI60+AL60 -> 15715
A61: 1549 | B61: Profesor Tiempo Parcial 3 (18 horas) | C61: 0 | D61: 18 | G61: 1008 | H61: =SUM(G61:G61) -> 1008 | K61: =H61*'DATOS REFERENCIALES'!$C$4 -> 6477.408 | N61: =LOOKUP(C61,'TABLA ANTIG.'!$A$4:$A$39,'TABLA ANTIG.'!$B$4:$B$39)*(K61) -> 0 | O61: =K61*0.1 -> 647.7408 | P61: ='DATOS REFERENCIALES'!$E$8*18 -> 4050 | Q61: =LOOKUP(C61,'TABLA ANTIG.'!$A$4:$A$39,'TABLA ANTIG.'!$B$4:$B$39)*(P61) -> 0 | R61: 0 | S61: =IF(D61>29.99,'DATOS REFERENCIALES'!$D$14,'DATOS REFERENCIALES'!$E$14*D61) -> 0 | T61: =K61+N61+O61+P61+Q61+R61+S61 -> 11175.149 | U61: =$T61*11% -> 1229.2664 | V61: =$T61*3% -> 335.25446 | W61: =$T61*3% -> 335.25446 | X61: =$T61*2% -> 223.50298 | Y61: =$T61*4.5% -> 502.8817 | Z61: =SUM(U61:Y61) -> 2626.16 | AA61: =T61-Z61 -> 8548.9888 | AB61: ='DATOS REFERENCIALES'!$E$10*18 -> 1440 | AC61: =IF((IF(H61>1119,('DATOS REFERENCIALES'!$C$9-(T61-U61-V61-W61-X61-Y61+AB61-L61-L61*0.235-(S61-S61*0.235))),(('DATOS REFERENCIALES'!$C$9/1120)*H61)-(K61+N61+O61+P61+Q61+R61-U61-V61-W61-X61-Y61+AB61-(L61-L61*0.235)-(S61*0.235))))<0,0,IF(H61>1119,(('DATOS REFERENCIALES'!$C$9)-(T61-(U61+V61+W61+X61+Y61)+AB61-(L61-L61*0.235)+(S61-S61*0.235))),(('DATOS REFERENCIALES'!$C$9/1120)*H61)-((K61+N61+O61+P61+Q61+R61)-(U61+V61+W61+X61+Y61)+AB61))) -> 5446.0112 | AD61: =SUM(AA61:AC61) -> 15435 | AE61: ='DATOS REFERENCIALES'!E13*18 -> 1451.9999 | AG61: =IF(D61>'DATOS REFERENCIALES'!$I$17,'DATOS REFERENCIALES'!$D$17,('DATOS REFERENCIALES'!$E$17*D61)) -> 1350 | AH61: =IF(D61>'DATOS REFERENCIALES'!$I$12,'DATOS REFERENCIALES'!$D$12,'DATOS REFERENCIALES'!$E$12*D61) -> 252 | AI61: =SUM(AD61:AH61) -> 18489 | AJ61: =IF(D61>'DATOS REFERENCIALES'!$I$16,'DATOS REFERENCIALES'!$D$16,'DATOS REFERENCIALES'!$E$16*D61) -> 926.46 | AK61: =AJ61*$AK$52 -> 217.7181 | AL61: =AJ61-AK61 -> 708.7419 | AM61: =AI61+AL61 -> 19197.742
A62: 1550 | B62: Profesor Tiempo Parcial 4 (12 horas) | C62: 0 | D62: 12 | G62: 672 | H62: =SUM(G62:G62) -> 672 | K62: =H62*'DATOS REFERENCIALES'!$C$4 -> 4318.272 | N62: =LOOKUP(C62,'TABLA ANTIG.'!$A$4:$A$39,'TABLA ANTIG.'!$B$4:$B$39)*(K62) -> 0 | O62: =K62*0.1 -> 431.8272 | P62: ='DATOS REFERENCIALES'!$E$8*12 -> 2700 | Q62: =LOOKUP(C62,'TABLA ANTIG.'!$A$4:$A$39,'TABLA ANTIG.'!$B$4:$B$39)*(P62) -> 0 | R62: 0 | S62: =IF(D62>29.99,'DATOS REFERENCIALES'!$D$14,'DATOS REFERENCIALES'!$E$14*D62) -> 0 | T62: =K62+N62+O62+P62+Q62+R62+S62 -> 7450.0992 | U62: =$T62*11% -> 819.51091 | V62: =$T62*3% -> 223.50298 | W62: =$T62*3% -> 223.50298 | X62: =$T62*2% -> 149.00198 | Y62: =$T62*4.5% -> 335.25446 | Z62: =SUM(U62:Y62) -> 1750.7733 | AA62: =T62-Z62 -> 5699.3259 | AB62: ='DATOS REFERENCIALES'!$E$10*12 -> 960 | AC62: =IF((IF(H62>1119,('DATOS REFERENCIALES'!$C$9-(T62-U62-V62-W62-X62-Y62+AB62-L62-L62*0.235-(S62-S62*0.235))),(('DATOS REFERENCIALES'!$C$9/1120)*H62)-(K62+N62+O62+P62+Q62+R62-U62-V62-W62-X62-Y62+AB62-(L62-L62*0.235)-(S62*0.235))))<0,0,IF(H62>1119,(('DATOS REFERENCIALES'!$C$9)-(T62-(U62+V62+W62+X62+Y62)+AB62-(L62-L62*0.235)+(S62-S62*0.235))),(('DATOS REFERENCIALES'!$C$9/1120)*H62)-((K62+N62+O62+P62+Q62+R62)-(U62+V62+W62+X62+Y62)+AB62))) -> 3630.6741 | AD62: =SUM(AA62:AC62) -> 10290 | AE62: ='DATOS REFERENCIALES'!E13*12 -> 967.99992 | AG62: =IF(D62>'DATOS REFERENCIALES'!$I$17,'DATOS REFERENCIALES'!$D$17,('DATOS REFERENCIALES'!$E$17*D62)) -> 900 | AH62: =IF(D62>'DATOS REFERENCIALES'!$I$12,'DATOS REFERENCIALES'!$D$12,'DATOS REFERENCIALES'!$E$12*D62) -> 168 | AI62: =SUM(AD62:AH62) -> 12326 | AJ62: =IF(D62>'DATOS REFERENCIALES'!$I$16,'DATOS REFERENCIALES'!$D$16,'DATOS REFERENCIALES'!$E$16*D62) -> 617.64 | AK62: =AJ62*$AK$52 -> 145.1454 | AL62: =AJ62-AK62 -> 472.4946 | AM62: =AI62+AL62 -> 12798.495
A64: Enfermería Nivel Medio | AE64: Enfermería Nivel Medio
A65: Códigos | B65: Denominación del cargo | C65: AÑOS | D65: CANTIDAD DE HORAS | E65: SUBVENCIONADO | F65: CAJA COMPL. | G65: INDICE del Sueldo básico Unificado | H65: TOTAL DE INDICES | I65: INDICES JERARQUIZACION | J65: PLUS DIFERENCIAL POR ESTABLECIMIENTO | K65: Valor Sueldo Básico Unificado RB | L65: PLUS DIFERENCIAL POR JERARQUIZACIÓN | M65: PLUS DIFERENCIAL POR ESTABLECIMIENTO | N65: Antigüedad Docente | O65: Asig. Estímulo Educ. R/ NB (Presentismo) | P65: DECRETO 243/08 RB | Q65: Antigüedad Decreto 243/08 | R65: Art. 128 Estatuto Docente R/ NB | S65: Adicional Especial Remun no Bonif. | T65: Total Haberes Remunerat. | U65: Retenciones por aportes personales | Z65: Total Aportes | AA65: SUBTOTAL NETO SIN C.M.G. | AB65: MDM | AC65: C.M.G. | AD65: Sub Total Neto a cobrar | AE65: FONID / RESOLUC. Nº 02/04 neto | AF65: Adelanto Cláusula de Seguimiento 2017 | AG65: SUMA FIJA NO REMUN.Y NO BONIF. POR UNICA VEZ | AH65: APORTE NAC. A MAT. DIDÁCTICO 2017 de 08/17 a 12/17 | AI65: TOTAL NETO A COBRAR | AJ65: Adicional Especial Remun no Bonif. | AK65: Total Aportes | AL65: NETO DEL ADICIO-NAL | AM65: NETO A COBRAR
U66: Jubilación 11% | V66: Obra Social 3% | W66: INSSJP - Ley 19032 3% | X66: Ley 24.016 Dec. 137/05 2% | Y66: Caja Compl. 4,5%

Sheet SUPERIOR
K3: UTILIZAR LA GRILLA A MODO DE EJEMPLO
A6: Grilla Salarial según Resolución Conjunta Nº 1961 MEFGC-18 desde ENERO 2019
A7: Ejemplos de liquidación salarial para cargos sin antigüedad en la docencia. Al incluir antigüedades, disminuye o desaparece el monto del C.M.G.
A8: Nivel Superior Docente | AE8: Nivel Superior Docente | AJ8: 0.235
A9: Códigos | B9: Denominación del cargo | C9: AÑOS | D9: CANTIDAD DE HORAS | E9: SUBVENCIONADO | F9: CAJA COMPL. | G9: INDICE del Sueldo básico Unificado | H9: TOTAL DE INDICES | I9: INDICES JERARQUIZACION | J9: PLUS DIFERENCIAL POR ESTABLECIMIENTO | K9: Valor Sueldo Básico Unificado RB | L9: PLUS DIFERENCIAL POR JERARQUIZACIÓN | M9: PLUS DIFERENCIAL POR ESTABLECIMIENTO | N9: Antigüedad Docente | O9: Asig. Estímulo Educ. R/ NB (Presentismo) | P9: DECRETO 243/08 RB | Q9: Antigüedad Decreto 243/08 | R9: Art. 128 Estatuto Docente R/ NB | S9: Adicional Especial Remun no Bonif. | T9: Total Haberes Remunerat. | U9: Retenciones por aportes personales | Z9: Total Aportes | AA9: SUBTOTAL NETO SIN C.M.G. | AB9: MDM | AC9: C.M.G. | AD9: Sub Total Neto a cobrar | AE9: FONID / RESOLUC. Nº 02/04 neto | AF9: SUMA FIJA NO REMUN.Y NO BONIF. POR UNICA VEZ | AG9: APORTE NAC. A MAT. DIDÁCTICO 2017 | AH9: TOTAL NETO A COBRAR | AI9: Adicional Especial Remun no Bonif. | AJ9: Total Aportes | AK9: NETO DEL ADICIO-NAL | AL9: NETO A COBRAR
U10: Jubilación 11% | V10: Obra Social 3% | W10: INSSJP - Ley 19032 3% | X10: Ley 24.016 Dec. 137/05 2% | Y10: Caja Compl. 4,5%
A11: 3509 | B11: Rector | C11: 0 | G11: 3422 | H11: =SUM(G11:G11) -> 3422 | K11: =H11*'DATOS REFERENCIALES'!$C$4 -> 21989.772 | N11: =LOOKUP(C11,'TABLA ANTIG.'!$A$4:$A$39,'TABLA ANTIG.'!$B$4:$B$39)*(K11) -> 0 | O11: =K11*0.1 -> 2198.9772 | P11: ='DATOS REFERENCIALES'!$C$8 -> 4275 | Q11: =LOOKUP(C11,'TABLA ANTIG.'!$A$4:$A$39,'TABLA ANTIG.'!$B$4:$B$39)*(P11) -> 0 | R11: 0 | S11: ='DATOS REFERENCIALES'!$C$14 -> 0 | T11: =K11+N11+O11+P11+Q11+R11+S11 -> 28463.749 | U11: =$T11*11% -> 3131.0124 | V11: =$T11*3% -> 853.91248 | W11: =$T11*3% -> 853.91248 | X11: =$T11*2% -> 569.27498 | Y11: =$T11*4.5% -> 1280.8687 | Z11: =SUM(U11:Y11) -> 6688.9811 | AA11: =T11-Z11 -> 21774.768 | AB11: ='DATOS REFERENCIALES'!$C$10 -> 1520 | AC11: =IF((IF(H11>1119,('DATOS REFERENCIALES'!$C$9-(T11-U11-V11-W11-X11-Y11+AB11-L11-L11*0.235-(S11-S11*0.235))),(('DATOS REFERENCIALES'!$C$9/1120)*H11)-(K11+N11+O11+P11+Q11+R11-U11-V11-W11-X11-Y11+AB11-(L11-L11*0.235)-(S11*0.235))))<0,0,IF(H11>1119,(('DATOS REFERENCIALES'!$C$9)-(T11-U11-V11-W11-X11-Y11+AB11-(L11-L11*0.235)-(S11-S11*0.235))),(('DATOS REFERENCIALES'!$C$9/1120)*H11)-(K11+N11+O11+P11+Q11+R11-U11-V11-W11-X11-Y11+AB11-(L11-L11*0.235)-(S11*0.235)))) -> 0 | AD11: =SUM(AA11:AC11) -> 23294.768 | AE11: ='DATOS REFERENCIALES'!$C$13 -> 1210 | AF11: =IF($H11>1119,'DATOS REFERENCIALES'!C17,'DATOS REFERENCIALES'!C17/1120*$H11) -> 1500 | AG11: ='DATOS REFERENCIALES'!$C$12 -> 210 | AH11: =SUM(AD11:AG11)+SUM(AD12:AG12) -> 30378.257 | AI11: ='DATOS REFERENCIALES'!$C$16 -> 772 | AJ11: =AI11*$AJ$8 -> 181.42 | AK11: =AI11-AJ11 -> 590.58 | AL11: =AH11+AK11 -> 30968.837
A12: 3509 | B12: Rector | C12: =IF(C11>0,C11,0) -> 0 | I12: 256.65 | J12: 0.15 | L12: =I12*'DATOS REFERENCIALES'!$C$4 -> 1649.2329 | M12: =K11*J12 -> 3298.4658 | N12: =LOOKUP(C12,'TABLA ANTIG.'!$A$4:$A$39,'TABLA ANTIG.'!$B$4:$B$39)*(L12+M12) -> 0 | O12: =(L12+M12)*0.1 -> 494.76987 | T12: =L12+M12+N12+O12+P12+Q12+R12 -> 5442.4686 | U12: =$T12*11% -> 598.67154 | V12: =$T12*3% -> 163.27406 | W12: =$T12*3% -> 163.27406 | X12: =$T12*2% -> 108.84937 | Y12: =$T12*4.5% -> 244.91109 | Z12: =SUM(U12:Y12) -> 1278.9801 | AA12: =T12-Z12 -> 4163.4885 | AD12: =SUM(AA12:AC12) -> 4163.4885
A13: 3510 | B13: Vicerrector o Director de Estudios | C13: 0 | G13: 2874 | H13: =SUM(G13:G13) -> 2874 | K13: =H13*'DATOS REFERENCIALES'!$C$4 -> 18468.324 | N13: =LOOKUP(C13,'TABLA ANTIG.'!$A$4:$A$39,'TABLA ANTIG.'!$B$4:$B$39)*(K13) -> 0 | O13: =K13*0.1 -> 1846.8324 | P13: ='DATOS REFERENCIALES'!$C$8 -> 4275 | Q13: =LOOKUP(C13,'TABLA ANTIG.'!$A$4:$A$39,'TABLA ANTIG.'!$B$4:$B$39)*(P13) -> 0 | R13: 0 | S13: ='DATOS REFERENCIALES'!$C$14 -> 0 | T13: =K13+N13+O13+P13+Q13+R13+S13 -> 24590.156 | U13: =$T13*11% -> 2704.9172 | V13: =$T13*3% -> 737.70469 | W13: =$T13*3% -> 737.70469 | X13: =$T13*2% -> 491.80313 | Y13: =$T13*4.5% -> 1106.557 | Z13: =SUM(U13:Y13) -> 5778.6868 | AA13: =T13-Z13 -> 18811.47 | AB13: ='DATOS REFERENCIALES'!$C$10 -> 1520 | AC13: =IF((IF(H13>1119,('DATOS REFERENCIALES'!$C$9-(T13-U13-V13-W13-X13-Y13+AB13)),(('DATOS REFERENCIALES'!$C$9/1120)*H13)-(K13+N13+O13+P13+Q13+R13-U13-V13-W13-X13-Y13+AB13)))<0,0,IF(H13>1119,(('DATOS REFERENCIALES'!$C$9)-(T13-U13-V13-W13-X13-Y13+AB13)),(('DATOS REFERENCIALES'!$C$9/1120)*H13)-(K13+N13+O13+P13+Q13+R13-U13-V13-W13-X13-Y13+AB13))) -> 0 | AD13: =SUM(AA13:AC13) -> 20331.47 | AE13: ='DATOS REFERENCIALES'!$C$13 -> 1210 | AF13: =IF($H13>1119,'DATOS REFERENCIALES'!C17,'DATOS REFERENCIALES'!C17/1120*$H13) -> 1500 | AG13: ='DATOS REFERENCIALES'!$C$12 -> 210 | AH13: =SUM(AD13:AG13)+SUM(AD14:AG14) -> 24417.052 | AI13: ='DATOS REFERENCIALES'!$C$16 -> 772 | AJ13: =AI13*$AJ$8 -> 181.42 | AK13: =AI13-AJ13 -> 590.58 | AL13: =AH13+AK13 -> 25007.632
