Workbook
Name HORAS: Hoja1!$A$4:$A$43

Sheet INICIAL
K3: UTILIZAR LA GRILLA A MODO DE EJEMPLO
A6: Grilla Salarial según Resolución Conjunta Nº 1961 MEFGC-18 desde ENERO 2019
A7: Ejemplos de liquidación salarial para cargos sin antigüedad en la docencia. Al incluir antigüedades, disminuye o desaparece el monto del C.M.G.
A8: Jardín de Infantes Común / Nivel Inicial - JORNADA SIMPLE | AB8: Jardín de Infantes Común / Nivel Inicial - JORNADA SIMPLE | AJ8: 0.235
A9: Códigos | B9: Denominación del cargo | C9: AÑOS | D9: CANTIDAD DE HORAS | E9: SUBVENCIONADO | F9: CAJA COMPL. | G9: INDICE del Sueldo básico Unificado | H9: TOTAL DE INDICES | I9: INDICES JERARQUIZACION | J9: PLUS DIFERENCIAL POR ESTABLECIMIENTO | K9: Valor Sueldo Básico Unificado RB | L9: PLUS DIFERENCIAL POR JERARQUIZACIÓN | M9: PLUS DIFERENCIAL POR ESTABLECIMIENTO | N9: Antigüedad Docente | O9: Asig. Estímulo Educ. R/ NB (Presentismo) | P9: DECRETO 243/08 RB | Q9: Antigüedad Decreto 243/08 | R9: Art. 128 Estatuto Docente R/ NB | S9: Adicional Especial Remun no Bonif. | T9: Total Haberes Remunerat. | U9: Retenciones por aportes personales | Z9: Total Aportes | AA9: SUBTOTAL NETO SIN C.M.G. | AB9: MDM | AC9: C.M.G. | AD9: Sub Total Neto a cobrar | AE9: FONID / RESOLUC. Nº 02/04 neto | AF9: SUMA FIJA NO REMUN.Y NO BONIF. POR UNICA VEZ | AG9: APORTE NAC. A MAT. DIDÁCTICO 2017 | AH9: TOTAL NETO A COBRAR | AI9: Adicional Especial Remun no Bonif. | AJ9: Total Aportes | AK9: NETO DEL ADICIO-NAL | AL9: NETO A COBRAR
U10: Jubilación 11% | V10: Obra Social 3% | W10: INSSJP - Ley 19032 3% | X10: Ley 24.016 Dec. 137/05 2% | Y10: Caja Compl. 4,5%
A11: 528 | B11: Director de Jardín de Infantes Independeniente | C11: 0 | G11: 1783 | H11: =SUM(G11:G11) -> 1783 | K11: =H11*'DATOS REFERENCIALES'!$C$4 -> 11457.558 | N11: =LOOKUP(C11,'TABLA ANTIG.'!$A$4:$A$39,'TABLA ANTIG.'!$B$4:$B$39)*(K11) -> 0 | O11: =(K11)*0.1 -> 1145.7558 | P11: ='DATOS REFERENCIALES'!$C$8 -> 4275 | Q11: =LOOKUP(C11,'TABLA ANTIG.'!$A$4:$A$39,'TABLA ANTIG.'!$B$4:$B$39)*(P11) -> 0 | R11: 0 | S11: ='DATOS REFERENCIALES'!$C$14 -> 0 | T11: =K11+L11+M11+N11+O11+P11+Q11+R11+S11 -> 16878.314 | U11: =$T11*11% -> 1856.6145 | V11: =$T11*3% -> 506.34941 | W11: =$T11*3% -> 506.34941 | X11: =$T11*2% -> 337.56628 | Y11: =$T11*4.5% -> 759.52412 | Z11: =SUM(U11:Y11) -> 3966.4037 | AA11: =T11-Z11 -> 12911.91 | AB11: ='DATOS REFERENCIALES'!$C$10 -> 1520 | AC11: =IF((IF(H11>1119,('DATOS REFERENCIALES'!$C$9-(T11-U11-V11-W11-X11-Y11+AB11-(S11-S11*0.235))),(('DATOS REFERENCIALES'!$C$9/1120)*H11)-(K11+N11+O11+P11+Q11+R11-U11-V11-W11-X11-Y11+AB11-(S11*0.235))))<0,0,IF(H11>1119,(('DATOS REFERENCIALES'!$C$9)-(T11-U11-V11-W11-X11-Y11+AB11-(S11-S11*0.235))),(('DATOS REFERENCIALES'!$C$9/1120)*H11)-(K11+N11+O11+P11+Q11+R11-U11-V11-W11-X11-Y11+AB11-(S11*0.235)))) -> 2718.0899 | AD11: =SUM(AA11:AC11) -> 17150 | AE11: ='DATOS REFERENCIALES'!$C$13 -> 1210 | AF11: =IF($H11>1119,'DATOS REFERENCIALES'!C17,'DATOS REFERENCIALES'!C17/1120*$H11) -> 1500 | AG11: ='DATOS REFERENCIALES'!$C$12 -> 210 | AH11: =SUM(AD11:AG11)+SUM(AD12:AG12) -> 21371.634 | AI11: ='DATOS REFERENCIALES'!C16 -> 772 | AJ11: =AI11*$AJ$8 -> 181.42 | AK11: =AI11-AJ11 -> 590.58 | AL11: =AH11+AK11 -> 21962.214 | AM11: Para los cargos de Jardín se debe abonar un "suplememto no remunerativo y complementario" para quienes cobren 50% de las AAFF
A12: 528 | B12: Director de Jardín de Infantes Independeniente | C12: =IF(C11>0,C11,0) -> 0 | G12: 1783 | I12: 133.73 | J12: 1 turno y hasta 14 secciones. | L12: =I12*'DATOS REFERENCIALES'!$C$4 -> 859.34898 | M12: =IF(J12='DATOS REFERENCIALES'!$C$30,INICIAL!K11*'DATOS REFERENCIALES'!$D$30,IF(J12='DATOS REFERENCIALES'!$C$31,('DATOS REFERENCIALES'!$D$31*INICIAL!K11),IF(J12='DATOS REFERENCIALES'!$C$32,('DATOS REFERENCIALES'!$D$32*INICIAL!K11),IF(J12='DATOS REFERENCIALES'!$C$33,('DATOS REFERENCIALES'!$D$33*INICIAL!K11),IF(J12='DATOS REFERENCIALES'!$C$34,('DATOS REFERENCIALES'!$D$34*INICIAL!K11),IF(J12='DATOS REFERENCIALES'!$C$35,('DATOS REFERENCIALES'!$D$35*INICIAL!K11),IF(J12='DATOS REFERENCIALES'!$C$36,('DATOS REFERENCIALES'!$D$36*INICIAL!K11),IF(J12='DATOS REFERENCIALES'!$C$37,('DATOS REFERENCIALES'!$D$37*INICIAL!K11),0)))))))) -> 687.45348 | N12: =LOOKUP(C12,'TABLA ANTIG.'!$A$4:$A$39,'TABLA ANTIG.'!$B$4:$B$39)*(L12+M12) -> 0 | O12: =(L12+M12)*0.1 -> 154.68025 | T12: =L12+M12+O12+N12+P12+Q12+R12+S12 -> 1701.4827 | U12: =$T12*11% -> 187.1631 | V12: =$T12*3% -> 51.044481 | W12: =$T12*3% -> 51.044481 | X12: =$T12*2% -> 34.029654 | Y12: =$T12*4.5% -> 76.566722 | Z12: =SUM(U12:Y12) -> 399.84844 | AA12: =T12-Z12 -> 1301.6343 | AD12: =SUM(AA12:AC12) -> 1301.6343
A13: 579 | B13: Vicedirector | C13: 0 | G13: 1545 | H13: =SUM(G13:G13) -> 1545 | K13: =H13*'DATOS REFERENCIALES'!$C$4 -> 9928.17 | N13: =LOOKUP(C13,'TABLA ANTIG.'!$A$4:$A$39,'TABLA ANTIG.'!$B$4:$B$39)*(K13) -> 0 | O13: =(K13)*0.1 -> 992.817 | P13: ='DATOS REFERENCIALES'!$C$8 -> 4275 | Q13: =LOOKUP(C13,'TABLA ANTIG.'!$A$4:$A$39,'TABLA ANTIG.'!$B$4:$B$39)*(P13) -> 0 | R13: 0 | S13: ='DATOS REFERENCIALES'!$C$14 -> 0 | T13: =K13+L13+M13+N13+O13+P13+Q13+R13+S13 -> 15195.987 | U13: =$T13*11% -> 1671.5586 | V13: =$T13*3% -> 455.87961 | W13: =$T13*3% -> 455.87961 | X13: =$T13*2% -> 303.91974 | Y13: =$T13*4.5% -> 683.81942 | Z13: =SUM(U13:Y13) -> 3571.0569 | AA13: =T13-Z13 -> 11624.93 | AB13: ='DATOS REFERENCIALES'!$C$10 -> 1520 | AC13: =IF((IF(H13>1119,('DATOS REFERENCIALES'!$C$9-(T13-U13-V13-W13-X13-Y13+AB13-L13-L13*0.235-(S13-S13*0.235))),(('DATOS REFERENCIALES'!$C$9/1120)*H13)-(K13+N13+O13+P13+Q13+R13-U13-V13-W13-X13-Y13+AB13-(L13-L13*0.235)-(S13*0.235))))<0,0,IF(H13>1119,(('DATOS REFERENCIALES'!$C$9)-(T13-U13-V13-W13-X13-Y13+AB13-(L13-L13*0.235)-(S13-S13*0.235))),(('DATOS REFERENCIALES'!$C$9/1120)*H13)-(K13+N13+O13+P13+Q13+R13-U13-V13-W13-X13-Y13+AB13-(L13-L13*0.235)-(S13*0.235)))) -> 4005.0699 | AD13: =SUM(AA13:AC13) -> 17150 | AE13: ='DATOS REFERENCIALES'!$C$13 -> 1210 | AF13: =IF($H13>1119,'DATOS REFERENCIALES'!C17,'DATOS REFERENCIALES'!C17/1120*$H13) -> 1500 | AG13: ='DATOS REFERENCIALES'!$C$12 -> 210 | AH13: =SUM(AD13:AG13)+SUM(AD14:AG14) -> 20696.619 | AI13: ='DATOS REFERENCIALES'!C16 -> 772 | AJ13: =AI13*$AJ$8 -> 181.42 | AK13: =AI13-AJ13 -> 590.58 | AL13: =AH13+AK13 -> 21287.199
A14: 579 | B14: Vicedirector | C14: =IF(C13>0,C13,0) -> 0 | G14: 1545 | I14: 115.88 | L14: =I14*'DATOS REFERENCIALES'!$C$4 -> 744.64488 | N14: =LOOKUP(C14,'TABLA ANTIG.'!$A$4:$A$39,'TABLA ANTIG.'!$B$4:$B$39)*(L14+M14) -> 0 | O14: =(L14+M14)*0.1 -> 74.464488 | T14: =K14+L14+M14+N14+O14+P14+Q14+R14+S14 -> 819.10937 | U14: =$T14*11% -> 90.10203 | V14: =$T14*3% -> 24.573281 | W14: =$T14*3% -> 24.573281 | X14: =$T14*2% -> 16.382187 | Y14: =$T14*4.5% -> 36.859922 | Z14: =SUM(U14:Y14) -> 192.4907 | AA14: =T14-Z14 -> 626.61867 | AD14: =SUM(AA14:AC14) -> 626.61867
A15: 544 | B15: Maestro Secretario | C15: 0 | G15: 1307 | H15: =SUM(G15:G15) -> 1307 | K15: =H15*'DATOS REFERENCIALES'!$C$4 -> 8398.782 | N15: =LOOKUP(C15,'TABLA ANTIG.'!$A$4:$A$39,'TABLA ANTIG.'!$B$4:$B$39)*(K15) -> 0 | O15: =(K15)*0.1 -> 839.8782 | P15: ='DATOS REFERENCIALES'!$C$8 -> 4275 | Q15: =LOOKUP(C15,'TABLA ANTIG.'!$A$4:$A$39,'TABLA ANTIG.'!$B$4:$B$39)*(P15) -> 0 | R15: 0 | S15: ='DATOS REFERENCIALES'!$C$14 -> 0 | T15: =K15+L15+M15+N15+O15+P15+Q15+R15+S15 -> 13513.66 | U15: =$T15*11% -> 1486.5026 | V15: =$T15*3% -> 405.40981 | W15: =$T15*3% -> 405.40981 | X15: =$T15*2% -> 270.2732 | Y15: =$T15*4.5% -> 608.11471 | Z15: =SUM(U15:Y15) -> 3175.7101 | AA15: =T15-Z15 -> 10337.95 | AB15: ='DATOS REFERENCIALES'!$C$10 -> 1520 | AC15: =IF((IF(H15>1119,('DATOS REFERENCIALES'!$C$9-(T15-U15-V15-W15-X15-Y15+AB15-L15-L15*0.235-(S15-S15*0.235))),(('DATOS REFERENCIALES'!$C$9/1120)*H15)-(K15+N15+O15+P15+Q15+R15-U15-V15-W15-X15-Y15+AB15-(L15-L15*0.235)-(S15*0.235))))<0,0,IF(H15>1119,(('DATOS REFERENCIALES'!$C$9)-(T15-U15-V15-W15-X15-Y15+AB15-(L15-L15*0.235)-(S15-S15*0.235))),(('DATOS REFERENCIALES'!$C$9/1120)*H15)-(K15+N15+O15+P15+Q15+R15-U15-V15-W15-X15-Y15+AB15-(L15-L15*0.235)-(S15*0.235)))) -> 5292.0499 | AD15: =SUM(AA15:AC15) -> 17150 | AE15: ='DATOS REFERENCIALES'!$C$13 -> 1210 | AF15: =IF($H15>1119,'DATOS REFERENCIALES'!C17,'DATOS REFERENCIALES'!C17/1120*$H15) -> 1500 | AG15: ='DATOS REFERENCIALES'!$C$12 -> 210 | AH15: =SUM(AD15:AG15)+SUM(AD16:AG16) -> 20600.095 | AI15: ='DATOS REFERENCIALES'!C16 -> 772 | AJ15: =AI15*$AJ$8 -> 181.42 | AK15: =AI15-AJ15 -> 590.58 | AL15: =AH15+AK15 -> 21190.675
A16: 544 | B16: Maestro Secretario | C16: =IF(C15>0,C15,0) -> 0 | G16: 1307 | I16: 98.03 | L16: =I16*'DATOS REFERENCIALES'!$C$4 -> 629.94078 | N16: =LOOKUP(C16,'TABLA ANTIG.'!$A$4:$A$39,'TABLA ANTIG.'!$B$4:$B$39)*(L16+M16) -> 0 | O16: =(L16+M16)*0.1 -> 62.994078 | T16: =K16+L16+M16+N16+O16+P16+Q16+R16+S16 -> 692.93486 | U16: =$T16*11% -> 76.222834 | V16: =$T16*3% -> 20.788046 | W16: =$T16*3% -> 20.788046 | X16: =$T16*2% -> 13.858697 | Y16: =$T16*4.5% -> 31.182069 | Z16: =SUM(U16:Y16) -> 162.83969 | AA16: =T16-Z16 -> 530.09517 | AD16: =SUM(AA16:AC16) -> 530.09517
A17: 543 | B17: Maestro Jardinera/Sección | C17: 0 | G17: 1120 | H17: =SUM(G17:G17) -> 1120 | K17: =H17*'DATOS REFERENCIALES'!$C$4 -> 7197.12 | N17: =LOOKUP(C17,'TABLA ANTIG.'!$A$4:$A$39,'TABLA ANTIG.'!$B$4:$B$39)*(K17+L17+M17) -> 0 | O17: =(K17+L17+M17)*0.1 -> 719.712 | P17: ='DATOS REFERENCIALES'!$C$8 -> 4275 | Q17: =LOOKUP(C17,'TABLA ANTIG.'!$A$4:$A$39,'TABLA ANTIG.'!$B$4:$B$39)*(P17) -> 0 | R17: 0 | S17: ='DATOS REFERENCIALES'!$C$14 -> 0 | T17: =K17+L17+M17+N17+O17+P17+Q17+R17+S17 -> 12191.832 | U17: =$T17*11% -> 1341.1015 | V17: =$T17*3% -> 365.75496 | W17: =$T17*3% -> 365.75496 | X17: =$T17*2% -> 243.83664 | Y17: =$T17*4.5% -> 548.63244 | Z17: =SUM(U17:Y17) -> 2865.0805 | AA17: =T17-Z17 -> 9326.7515 | AB17: ='DATOS REFERENCIALES'!$C$10 -> 1520 | AC17: =IF((IF(H17>1119,(('DATOS REFERENCIALES'!$C$9)-(T17-U17-V17-W17-X17-Y17+AB17-L17-L17*0.235)+(S17-S17*0.235)),(('DATOS REFERENCIALES'!$C$9/1120)*H17)-(K17+N17+O17+P17+Q17+R17-U17-V17-W17-X17-Y17+AB17-(L17-L17*0.235)-(S17*0.235))))<0,0,IF(H17>1119,(('DATOS REFERENCIALES'!$C$9)-(T17-U17-V17-W17-X17-Y17+AB17-(L17-L17*0.235)-(S17-S17*0.235))),(('DATOS REFERENCIALES'!$C$9/1120)*H17)-(K17+N17+O17+P17+Q17+R17-U17-V17-W17-X17-Y17+AB17-(L17-L17*0.235)-(S17*0.235)))) -> 6303.2485 | AD17: =SUM(AA17:AC17) -> 17150 | AE17: ='DATOS REFERENCIALES'!$C$13 -> 1210 | AF17: =IF(H17>1119,'DATOS REFERENCIALES'!C17,'DATOS REFERENCIALES'!C17/1120*H17) -> 1500 | AG17: ='DATOS REFERENCIALES'!$C$12 -> 210 | AH17: =SUM(AD17:AG17) -> 20070 | AI17: ='DATOS REFERENCIALES'!$C$16 -> 772 | AJ17: =AI17*$AJ$8 -> 181.42 | AK17: =AI17-AJ17 -> 590.58 | AL17: =AH17+AK17 -> 20660.58
A18: 906 | B18: Maestro de Apoyo | C18: 0 | G18: 1120 | H18: =SUM(G18:G18) -> 1120 | K18: =H18*'DATOS REFERENCIALES'!$C$4 -> 7197.12 | N18: =LOOKUP(C18,'TABLA ANTIG.'!$A$4:$A$39,'TABLA ANTIG.'!$B$4:$B$39)*(K18+L18+M18) -> 0 | O18: =(K18+L18+M18)*0.1 -> 719.712 | P18: ='DATOS REFERENCIALES'!$C$8 -> 4275 | Q18: =LOOKUP(C18,'TABLA ANTIG.'!$A$4:$A$39,'TABLA ANTIG.'!$B$4:$B$39)*(P18) -> 0 | R18: 0 | S18: ='DATOS REFERENCIALES'!$C$14 -> 0 | T18: =K18+L18+M18+N18+O18+P18+Q18+R18+S18 -> 12191.832 | U18: =$T18*11% -> 1341.1015 | V18: =$T18*3% -> 365.75496 | W18: =$T18*3% -> 365.75496 | X18: =$T18*2% -> 243.83664 | Y18: =$T18*4.5% -> 548.63244 | Z18: =SUM(U18:Y18) -> 2865.0805 | AA18: =T18-Z18 -> 9326.7515 | AB18: ='DATOS REFERENCIALES'!$C$10 -> 1520 | AC18: =IF((IF(H18>1119,('DATOS REFERENCIALES'!$C$9-(T18-U18-V18-W18-X18-Y18+AB18-L18-L18*0.235-(S18-S18*0.235))),(('DATOS REFERENCIALES'!$C$9/1120)*H18)-(K18+N18+O18+P18+Q18+R18-U18-V18-W18-X18-Y18+AB18-(L18-L18*0.235)-(S18*0.235))))<0,0,IF(H18>1119,(('DATOS REFERENCIALES'!$C$9)-(T18-U18-V18-W18-X18-Y18+AB18-(L18-L18*0.235)-(S18-S18*0.235))),(('DATOS REFERENCIALES'!$C$9/1120)*H18)-(K18+N18+O18+P18+Q18+R18-U18-V18-W18-X18-Y18+AB18-(L18-L18*0.235)-(S18*0.235)))) -> 6303.2485 | AD18: =SUM(AA18:AC18) -> 17150 | AE18: ='DATOS REFERENCIALES'!$C$13 -> 1210 | AF18: =IF(H18>1119,'DATOS REFERENCIALES'!C17,'DATOS REFERENCIALES'!C17/1120*H18) -> 1500 | AG18: ='DATOS REFERENCIALES'!$C$12 -> 210 | AH18: =SUM(AD18:AG18) -> 20070 | AI18: ='DATOS REFERENCIALES'!$C$16 -> 772 | AJ18: =AI18*$AJ$8 -> 181.42 | AK18: =AI18-AJ18 -> 590.58 | AL18: =AH18+AK18 -> 20660.58
A19: 907 | B19: Maestro de Apoyo para la integración | C19: 0 | G19: 1120 | H19: =SUM(G19:G19) -> 1120 | K19: =H19*'DATOS REFERENCIALES'!$C$4 -> 7197.12 | N19: =LOOKUP(C19,'TABLA ANTIG.'!$A$4:$A$39,'TABLA ANTIG.'!$B$4:$B$39)*(K19+L19+M19) -> 0 | O19: =(K19+L19+M19)*0.1 -> 719.712 | P19: ='DATOS REFERENCIALES'!$C$8 -> 4275 | Q19: =LOOKUP(C19,'TABLA ANTIG.'!$A$4:$A$39,'TABLA ANTIG.'!$B$4:$B$39)*(P19) -> 0 | R19: 0 | S19: ='DATOS REFERENCIALES'!$C$14 -> 0 | T19: =K19+L19+M19+N19+O19+P19+Q19+R19+S19 -> 12191.832 | U19: =$T19*11% -> 1341.1015 | V19: =$T19*3% -> 365.75496 | W19: =$T19*3% -> 365.75496 | X19: =$T19*2% -> 243.83664 | Y19: =$T19*4.5% -> 548.63244 | Z19: =SUM(U19:Y19) -> 2865.0805 | AA19: =T19-Z19 -> 9326.7515 | AB19: ='DATOS REFERENCIALES'!$C$10 -> 1520 | AC19: =IF((IF(H19>1119,('DATOS REFERENCIALES'!$C$9-(T19-U19-V19-W19-X19-Y19+AB19-L19-L19*0.235-(S19-S19*0.235))),(('DATOS REFERENCIALES'!$C$9/1120)*H19)-(K19+N19+O19+P19+Q19+R19-U19-V19-W19-X19-Y19+AB19-(L19-L19*0.235)-(S19*0.235))))<0,0,IF(H19>1119,(('DATOS REFERENCIALES'!$C$9)-(T19-U19-V19-W19-X19-Y19+AB19-(L19-L19*0.235)-(S19-S19*0.235))),(('DATOS REFERENCIALES'!$C$9/1120)*H19)-(K19+N19+O19+P19+Q19+R19-U19-V19-W19-X19-Y19+AB19-(L19-L19*0.235)-(S19*0.235)))) -> 6303.2485 | AD19: =SUM(AA19:AC19) -> 17150 | AE19: ='DATOS REFERENCIALES'!$C$13 -> 1210 | AF19: =IF(H19>1119,'DATOS REFERENCIALES'!C17,'DATOS REFERENCIALES'!C17/1120*H19) -> 1500 | AG19: ='DATOS REFERENCIALES'!$C$12 -> 210 | AH19: =SUM(AD19:AG19) -> 20070 | AI19: ='DATOS REFERENCIALES'!$C$16 -> 772 | AJ19: =AI19*$AJ$8 -> 181.42 | AK19: =AI19-AJ19 -> 590.58 | AL19: =AH19+AK19 -> 20660.58
A20: 889 | B20: Maestro Celador | C20: 0 | G20: 981.5 | H20: =SUM(G20:G20) -> 981.5 | K20: =H20*'DATOS REFERENCIALES'!$C$4 -> 6307.119 | N20: =LOOKUP(C20,'TABLA ANTIG.'!$A$4:$A$39,'TABLA ANTIG.'!$B$4:$B$39)*(K20+L20+M20) -> 0 | O20: =(K20+L20+M20)*0.1 -> 630.7119 | P20: ='DATOS REFERENCIALES'!$C$8 -> 4275 | Q20: =LOOKUP(C20,'TABLA ANTIG.'!$A$4:$A$39,'TABLA ANTIG.'!$B$4:$B$39)*(P20) -> 0 | R20: 0 | S20: ='DATOS REFERENCIALES'!$C$14 -> 0 | T20: =K20+L20+M20+N20+O20+P20+Q20+R20+S20 -> 11212.831 | U20: =$T20*11% -> 1233.4114 | V20: =$T20*3% -> 336.38493 | W20: =$T20*3% -> 336.38493 | X20: =$T20*2% -> 224.25662 | Y20: =$T20*4.5% -> 504.57739 | Z20: =SUM(U20:Y20) -> 2635.0153 | AA20: =T20-Z20 -> 8577.8156 | AB20: ='DATOS REFERENCIALES'!$C$10 -> 1520 | AC20: =IF((IF(H20>1119,('DATOS REFERENCIALES'!$C$9-(T20-U20-V20-W20-X20-Y20+AB20-L20-L20*0.235+(S20-S20*0.235))),(('DATOS REFERENCIALES'!$C$9/1120)*H20)-(K20+N20+O20+P20+Q20+R20-U20-V20-W20-X20-Y20+AB20-(L20-L20*0.235)+(S20*0.235))))<0,0,IF(H20>1119,(('DATOS REFERENCIALES'!$C$9)-(T20-U20-V20-W20-X20-Y20+AB20-(L20-L20*0.235)+(S20-S20*0.235))),(('DATOS REFERENCIALES'!$C$9/1120)*H20)-(K20+N20+O20+P20+Q20+R20-U20-V20-W20-X20-Y20+AB20-(L20-L20*0.235)+(S20*0.235)))) -> 4931.4031 | AD20: =SUM(AA20:AC20) -> 15029.219 | AE20: ='DATOS REFERENCIALES'!$C$13 -> 1210 | AF20: =IF(H20>1119,'DATOS REFERENCIALES'!C17,'DATOS REFERENCIALES'!C17/1120*H20) -> 1314.5089 | AG20: ='DATOS REFERENCIALES'!$C$12 -> 210 | AH20: =SUM(AD20:AG20) -> 17763.728 | AI20: ='DATOS REFERENCIALES'!$C$16 -> 772 | AJ20: =AI20*$AJ$8 -> 181.42 | AK20: =AI20-AJ20 -> 590.58 | AL20: =AH20+AK20 -> 18354.308
A21: 566 | B21: Hora cátedra Maestro Especial | C21: 0 | D21: 1 | G21: 56 | H21: =SUM(G21:G21) -> 56 | K21: =(H21*'DATOS REFERENCIALES'!$C$4)*D21 -> 359.856 | N21: =LOOKUP(C21,'TABLA ANTIG.'!$A$4:$A$39,'TABLA ANTIG.'!$B$4:$B$39)*(K21+L21+M21) -> 0 | O21: =(K21+L21+M21)*0.1 -> 35.9856 | P21: =IF(D21>48,'DATOS REFERENCIALES'!D8+('DATOS REFERENCIALES'!F8*10),IF(D21<39,'DATOS REFERENCIALES'!$E$8*D21,((D21-'DATOS REFERENCIALES'!$I$8)*'DATOS REFERENCIALES'!$F$8)+'DATOS REFERENCIALES'!D8)) -> 225 | Q21: =LOOKUP(C21,'TABLA ANTIG.'!$A$4:$A$39,'TABLA ANTIG.'!$B$4:$B$39)*(P21) -> 0 | R21: 0 | S21: =IF(D21>29.99,'DATOS REFERENCIALES'!$D$14,'DATOS REFERENCIALES'!$E$14*D21) -> 0 | T21: =K21+L21+M21+N21+O21+P21+Q21+R21+S21 -> 620.8416 | U21: =$T21*11% -> 68.292576 | V21: =$T21*3% -> 18.625248 | W21: =$T21*3% -> 18.625248 | X21: =$T21*2% -> 12.416832 | Y21: =$T21*4.5% -> 27.937872 | Z21: =SUM(U21:Y21) -> 145.89778 | AA21: =T21-Z21 -> 474.94382 | AB21: =IF(D21>38,'DATOS REFERENCIALES'!$D$10,'DATOS REFERENCIALES'!$E$10*D21) -> 80 | AC21: =IF(D21>41,IF((('DATOS REFERENCIALES'!$D$9)-((T21-S21)-(Z21-S21*0.235)+(AB21)))<0,0,((('DATOS REFERENCIALES'!$D$9)-((T21-S21)-(Z21-S21*0.235)+(AB21))))),IF((('DATOS REFERENCIALES'!$E$9*D21)-(((T21-S21)-(Z21-S21*0.235)+(AB21))))<0,0,('DATOS REFERENCIALES'!$E$9*D21)-((T21-S21)-(Z21-S21*0.235)+(AB21)))) -> 302.55618 | AD21: =SUM(AA21:AC21) -> 857.5 | AE21: =IF(D21>'DATOS REFERENCIALES'!$I$13,'DATOS REFERENCIALES'!$D$13,('DATOS REFERENCIALES'!$E$13*D21)) -> 80.66666 | AF21: =IF(D21>'DATOS REFERENCIALES'!$I$17,'DATOS REFERENCIALES'!$D$17,('DATOS REFERENCIALES'!$E$17*D21)) -> 75 | AG21: =IF(D21>'DATOS REFERENCIALES'!$I$12,'DATOS REFERENCIALES'!$D$12,'DATOS REFERENCIALES'!$E$12*D21) -> 14 | AH21: =SUM(AD21:AG21) -> 1027.1667 | AI21: =IF(D21>'DATOS REFERENCIALES'!$I$16,'DATOS REFERENCIALES'!$D$16,'DATOS REFERENCIALES'!$E$16*D21) -> 51.47 | AJ21: =AI21*$AJ$8 -> 12.09545 | AK21: =AI21-AJ21 -> 39.37455 | AL21: =AH21+AK21 -> 1066.5412
A23: Jardín de Infantes Común / Nivel Inicial - JORNADA COMPLETA | AB23: Jardín de Infantes Común / Nivel Inicial- JORNADA COMPLETA | AJ23: 0.235
A24: Códigos | B24: Denominación del cargo | C24: AÑOS | D24: CANTIDAD DE HORAS | E24: SUBVENCIONADO | F24: CAJA COMPL. | G24: INDICE del Sueldo básico Unificado | H24: TOTAL DE INDICES | I24: INDICES JERARQUIZACION | J24: PLUS DIFERENCIAL POR ESTABLECIMIENTO | K24: Valor Sueldo Básico Unificado RB | L24: PLUS DIFERENCIAL POR JERARQUIZACIÓN | M24: PLUS DIFERENCIAL POR ESTABLECIMIENTO | N24: Antigüedad Docente | O24: Asig. Estímulo Educ. R/ NB (Presentismo) | P24: DECRETO 243/08 RB | Q24: Antigüedad Decreto 243/08 | R24: Art. 128 Estatuto Docente R/ NB | S24: Adicional Especial Remun no Bonif. | T24: Total Haberes Remunerat. | U24: Retenciones por aportes personales | Z24: Total Aportes | AA24: SUBTOTAL NETO SIN C.M.G. | AB24: MDM | AC24: C.M.G. | AD24: Sub Total Neto a cobrar | AE24: FONID / RESOLUC. Nº 02/04 neto | AF24: SUMA FIJA NO REMUN.Y NO BONIF. POR UNICA VEZ | AG24: APORTE NAC. A MAT. DIDÁCTICO 2017 de 08/17 a 12/17 | AH24: TOTAL NETO A COBRAR | AI24: Adicional Especial Remun no Bonif. | AJ24: Total Aportes | AK24: NETO DEL ADICIO-NAL | AL24: NETO A COBRAR
U25: Jubilación 11% | V25: Obra Social 3% | W25: INSSJP - Ley 19032 3% | X25: Ley 24.016 Dec. 137/05 2% | Y25: Caja Compl. 4,5%
A26: 835 | B26: Director de Jardín de Infantes | C26: 0 | G26: 3125 | H26: =SUM(G26:G26) -> 3125 | K26: =H26*'DATOS REFERENCIALES'!$C$4 -> 20081.25 | N26: =LOOKUP(C26,'TABLA ANTIG.'!$A$4:$A$39,'TABLA ANTIG.'!$B$4:$B$39)*(K26) -> 0 | O26: =(K26)*0.1 -> 2008.125 | P26: ='DATOS REFERENCIALES'!$D$8 -> 8550 | Q26: =LOOKUP(C26,'TABLA ANTIG.'!$A$4:$A$39,'TABLA ANTIG.'!$B$4:$B$39)*(P26) -> 0 | R26: 0 | S26: ='DATOS REFERENCIALES'!$D$14 -> 0 | T26: =K26+L26+M26+N26+O26+P26+Q26+R26+S26 -> 30639.375 | U26: =$T26*11% -> 3370.3313 | V26: =$T26*3% -> 919.18125 | W26: =$T26*3% -> 919.18125 | X26: =$T26*2% -> 612.7875 | Y26: =$T26*4.5% -> 1378.7719 | Z26: =SUM(U26:Y26) -> 7200.2531 | AA26: =T26-Z26 -> 23439.122 | AB26: ='DATOS REFERENCIALES'!$D$10 -> 3040 | AC26: =IF((IF(H26>2042,('DATOS REFERENCIALES'!$D$9-(T26-U26-V26-W26-X26-Y26+AB26)+(S26-S26*0.235)),(('DATOS REFERENCIALES'!$D$9/2043)*H26)-(K26+N26+O26+P26+Q26+R26-U26-V26-W26-X26-Y26+AB26)))<0,0,IF(H26>2042,(('DATOS REFERENCIALES'!$D$9)-(T26-U26-V26-W26-X26-Y26+AB26)+(S26-S26*0.235)),(('DATOS REFERENCIALES'!$D$9/2043)*H26)-(K26+N26+O26+P26+Q26+R26-U26-V26-W26-X26-Y26+AB26))) -> 7820.8781 | AD26: =SUM(AA26:AC26) -> 34300 | AE26: ='DATOS REFERENCIALES'!$D$13 -> 2420 | AF26: =IF($H26>2240,'DATOS REFERENCIALES'!D17,'DATOS REFERENCIALES'!D17/2240*$H26) -> 3000 | AG26: ='DATOS REFERENCIALES'!$D$12 -> 420 | AH26: =SUM(AD26:AG26)+SUM(AD27:AG27) -> 42421.307 | AI26: ='DATOS REFERENCIALES'!D16 -> 1544 | AJ26: =AI26*$AJ$8 -> 362.84 | AK26: =AI26-AJ26 -> 1181.16 | AL26: =AH26+AK26 -> 43602.467
A27: 835 | B27: Director de Jardín de Infantes | C27: =IF(C26>0,C26,0) -> 0 | I27: 234.38 | J27: 1 turno y hasta 14 secciones. | L27: =I27*'DATOS REFERENCIALES'!$C$4 -> 1506.1259 | M27: =IF(J27='DATOS REFERENCIALES'!$C$30,INICIAL!K26*'DATOS REFERENCIALES'!$D$30,IF(J27='DATOS REFERENCIALES'!$C$31,('DATOS REFERENCIALES'!$D$31*INICIAL!K26),IF(J27='DATOS REFERENCIALES'!$C$32,('DATOS REFERENCIALES'!$D$32*INICIAL!K26),IF(J27='DATOS REFERENCIALES'!$C$33,('DATOS REFERENCIALES'!$D$33*INICIAL!K26),IF(J27='DATOS REFERENCIALES'!$C$34,('DATOS REFERENCIALES'!$D$34*INICIAL!K26),IF(J27='DATOS REFERENCIALES'!$C$35,('DATOS REFERENCIALES'!$D$35*INICIAL!K26),IF(J27='DATOS REFERENCIALES'!$C$36,('DATOS REFERENCIALES'!$D$36*INICIAL!K26),IF(J27='DATOS REFERENCIALES'!$C$37,('DATOS REFERENCIALES'!$D$37*INICIAL!K26),0)))))))) -> 1204.875 | N27: =LOOKUP(C27,'TABLA ANTIG.'!$A$4:$A$39,'TABLA ANTIG.'!$B$4:$B$39)*(L27+M27) -> 0 | O27: =(L27+M27)*0.1 -> 271.10009 | T27: =K27+L27+M27+N27+O27+P27+Q27+R27 -> 2982.101 | U27: =$T27*11% -> 328.03111 | V27: =$T27*3% -> 89.463029 | W27: =$T27*3% -> 89.463029 | X27: =$T27*2% -> 59.642019 | Y27: =$T27*4.5% -> 134.19454 | Z27: =SUM(U27:Y27) -> 700.79373 | AA27: =T27-Z27 -> 2281.3072 | AD27: =SUM(AA27:AC27) -> 2281.3072
A28: 877 | B28: Vicedirector de Jardín de Infantes | C28: 0 | G28: 2667 | H28: =SUM(G28:G28) -> 2667 | K28: =H28*'DATOS REFERENCIALES'!$C$4 -> 17138.142 | N28: =LOOKUP(C28,'TABLA ANTIG.'!$A$4:$A$39,'TABLA ANTIG.'!$B$4:$B$39)*(K28) -> 0 | O28: =(K28)*0.1 -> 1713.8142 | P28: ='DATOS REFERENCIALES'!$D$8 -> 8550 | Q28: =LOOKUP(C28,'TABLA ANTIG.'!$A$4:$A$39,'TABLA ANTIG.'!$B$4:$B$39)*(P28) -> 0 | R28: 0 | S28: ='DATOS REFERENCIALES'!$D$14 -> 0 | T28: =K28+L28+M28+N28+O28+P28+Q28+R28+S28 -> 27401.956 | U28: =$T28*11% -> 3014.2152 | V28: =$T28*3% -> 822.05869 | W28: =$T28*3% -> 822.05869 | X28: =$T28*2% -> 548.03912 | Y28: =$T28*4.5% -> 1233.088 | Z28: =SUM(U28:Y28) -> 6439.4597 | AA28: =T28-Z28 -> 20962.496 | AB28: ='DATOS REFERENCIALES'!$D$10 -> 3040 | AC28: =IF((IF(H28>2042,('DATOS REFERENCIALES'!$D$9-(T28-U28-V28-W28-X28-Y28+AB28)+(S28-S28*0.235)),(('DATOS REFERENCIALES'!$D$9/2043)*H28)-(K28+N28+O28+P28+Q28+R28-U28-V28-W28-X28-Y28+AB28)))<0,0,IF(H28>2042,(('DATOS REFERENCIALES'!$D$9)-(T28-U28-V28-W28-X28-Y28+AB28)+(S28-S28*0.235)),(('DATOS REFERENCIALES'!$D$9/2043)*H28)-(K28+N28+O28+P28+Q28+R28-U28-V28-W28-X28-Y28+AB28))) -> 10297.504 | AD28: =SUM(AA28:AC28) -> 34300 | AE28: ='DATOS REFERENCIALES'!$D$13 -> 2420 | AF28: =IF($H28>2240,'DATOS REFERENCIALES'!D17,'DATOS REFERENCIALES'!D17/2240*$H28) -> 3000 | AG28: ='DATOS REFERENCIALES'!$D$12 -> 420 | AH28: =SUM(AD28:AG28)+SUM(AD29:AG29) -> 41221.658 | AI28: ='DATOS REFERENCIALES'!D16 -> 1544 | AJ28: =AI28*$AJ$8 -> 362.84 | AK28: =AI28-AJ28 -> 1181.16 | AL28: =AH28+AK28 -> 42402.818
A29: 877 | B29: Vicedirector de Jardín de Infantes | C29: =IF(C28>0,C28,0) -> 0 | I29: 200.03 | L29: =I29*'DATOS REFERENCIALES'!$C$4 -> 1285.3928 | N29: =LOOKUP(C29,'TABLA ANTIG.'!$A$4:$A$39,'TABLA ANTIG.'!$B$4:$B$39)*(L29+M29) -> 0 | O29: =(L29+M29)*0.1 -> 128.53928 | T29: =K29+L29+M29+N29+O29+P29+Q29+R29 -> 1413.9321 | U29: =$T29*11% -> 155.53253 | V29: =$T29*3% -> 42.417962 | W29: =$T29*3% -> 42.417962 | X29: =$T29*2% -> 28.278641 | Y29: =$T29*4.5% -> 63.626943 | Z29: =SUM(U29:Y29) -> 332.27403 | AA29: =T29-Z29 -> 1081.658 | AD29: =SUM(AA29:AC29) -> 1081.658
A30: 838 | B30: Maestro Secretario | C30: 0 | G30: 2359 | H30: =SUM(G30:G30) -> 2359 | K30: =H30*'DATOS REFERENCIALES'!$C$4 -> 15158.934 | N30: =LOOKUP(C30,'TABLA ANTIG.'!$A$4:$A$39,'TABLA ANTIG.'!$B$4:$B$39)*(K30+L30+M30) -> 0 | O30: =(K30)*0.1 -> 1515.8934 | P30: ='DATOS REFERENCIALES'!$D$8 -> 8550 | Q30: =LOOKUP(C30,'TABLA ANTIG.'!$A$4:$A$39,'TABLA ANTIG.'!$B$4:$B$39)*(P30) -> 0 | R30: 0 | S30: ='DATOS REFERENCIALES'!$D$14 -> 0 | T30: =K30+L30+M30+N30+O30+P30+Q30+R30+S30 -> 25224.827 | U30: =$T30*11% -> 2774.731 | V30: =$T30*3% -> 756.74482 | W30: =$T30*3% -> 756.74482 | X30: =$T30*2% -> 504.49655 | Y30: =$T30*4.5% -> 1135.1172 | Z30: =SUM(U30:Y30) -> 5927.8344 | AA30: =T30-Z30 -> 19296.993 | AB30: ='DATOS REFERENCIALES'!$D$10 -> 3040 | AC30: =IF((IF(H30>2042,('DATOS REFERENCIALES'!$D$9-(T30-U30-V30-W30-X30-Y30+AB30)+(S30-S30*0.235)),(('DATOS REFERENCIALES'!$D$9/2043)*H30)-(K30+N30+O30+P30+Q30+R30-U30-V30-W30-X30-Y30+AB30)))<0,0,IF(H30>2042,(('DATOS REFERENCIALES'!$D$9)-(T30-U30-V30-W30-X30-Y30+AB30)+(S30-S30*0.235)),(('DATOS REFERENCIALES'!$D$9/2043)*H30)-(K30+N30+O30+P30+Q30+R30-U30-V30-W30-X30-Y30+AB30))) -> 11963.007 | AD30: =SUM(AA30:AC30) -> 34300 | AE30: ='DATOS REFERENCIALES'!$D$13 -> 2420 | AF30: =IF($H30>2240,'DATOS REFERENCIALES'!D17,'DATOS REFERENCIALES'!D17/2240*$H30) -> 3000 | AG30: ='DATOS REFERENCIALES'!$D$12 -> 420 | AH30: =SUM(AD30:AG30)+SUM(AD31:AG31) -> 41096.745 | AI30: ='DATOS REFERENCIALES'!D16 -> 1544 | AJ30: =AI30*$AJ$8 -> 362.84 | AK30: =AI30-AJ30 -> 1181.16 | AL30: =AH30+AK30 -> 42277.905
A31: 838 | B31: Maestro Secretario | C31: =IF(C30>0,C30,0) -> 0 | I31: 176.93 | L31: =I31*'DATOS REFERENCIALES'!$C$4 -> 1136.9522 | N31: =LOOKUP(C31,'TABLA ANTIG.'!$A$4:$A$39,'TABLA ANTIG.'!$B$4:$B$39)*(K31+L31+M31) -> 0 | O31: =(L31+M31)*0.1 -> 113.69522 | T31: =K31+L31+M31+N31+O31+P31+Q31+R31 -> 1250.6474 | U31: =$T31*11% -> 137.57121 | V31: =$T31*3% -> 37.519422 | W31: =$T31*3% -> 37.519422 | X31: =$T31*2% -> 25.012948 | Y31: =$T31*4.5% -> 56.279133 | Z31: =SUM(U31:Y31) -> 293.90214 | AA31: =T31-Z31 -> 956.74526 | AD31: =SUM(AA31:AC31) -> 956.74526
A32: 906 | B32: Maestro Jardinera/Sección | C32: 0 | G32: 2240 | H32: =SUM(G32:G32) -> 2240 | K32: =H32*'DATOS REFERENCIALES'!$C$4 -> 14394.24 | N32: =LOOKUP(C32,'TABLA ANTIG.'!$A$4:$A$39,'TABLA ANTIG.'!$B$4:$B$39)*(K32+L32+M32) -> 0 | O32: =(K32+L32+M32)*0.1 -> 1439.424 | P32: ='DATOS REFERENCIALES'!$D$8 -> 8550 | Q32: =LOOKUP(C32,'TABLA ANTIG.'!$A$4:$A$39,'TABLA ANTIG.'!$B$4:$B$39)*(P32) -> 0 | R32: 0 | S32: ='DATOS REFERENCIALES'!$D$14 -> 0 | T32: =K32+L32+M32+N32+O32+P32+Q32+R32+S32 -> 24383.664 | U32: =$T32*11% -> 2682.203 | V32: =$T32*3% -> 731.50992 | W32: =$T32*3% -> 731.50992 | X32: =$T32*2% -> 487.67328 | Y32: =$T32*4.5% -> 1097.2649 | Z32: =SUM(U32:Y32) -> 5730.161 | AA32: =T32-Z32 -> 18653.503 | AB32: ='DATOS REFERENCIALES'!$D$10 -> 3040 | AC32: =IF((IF(H32>2042,('DATOS REFERENCIALES'!$D$9-(T32-U32-V32-W32-X32-Y32+AB32)+(S32-S32*0.235)),(('DATOS REFERENCIALES'!$D$9/2043)*H32)-(K32+N32+O32+P32+Q32+R32-U32-V32-W32-X32-Y32+AB32)))<0,0,IF(H32>2042,(('DATOS REFERENCIALES'!$D$9)-(T32-U32-V32-W32-X32-Y32+AB32)+(S32-S32*0.235)),(('DATOS REFERENCIALES'!$D$9/2043)*H32)-(K32+N32+O32+P32+Q32+R32-U32-V32-W32-X32-Y32+AB32))) -> 12606.497 | AD32: =SUM(AA32:AC32) -> 34300 | AE32: ='DATOS REFERENCIALES'!$D$13 -> 2420 | AF32: =IF($H32>2240,'DATOS REFERENCIALES'!D17,'DATOS REFERENCIALES'!D17/2240*$H32) -> 3000 | AG32: ='DATOS REFERENCIALES'!$D$12 -> 420 | AH32: =SUM(AD32:AG32) -> 40140 | AI32: ='DATOS REFERENCIALES'!D16 -> 1544 | AJ32: =AI32*$AJ$8 -> 362.84 | AK32: =AI32-AJ32 -> 1181.16 | AL32: =AH32+AK32 -> 41321.16
A33: 566 | B33: Hora cátedra Maestro Especial | C33: 0 | D33: 1 | G33: 56 | H33: =SUM(G33:G33) -> 56 | K33: =(H33*'DATOS REFERENCIALES'!$C$4)*D33 -> 359.856 | N33: =LOOKUP(C33,'TABLA ANTIG.'!$A$4:$A$39,'TABLA ANTIG.'!$B$4:$B$39)*(K33+L33+M33) -> 0 | O33: =(K33+L33+M33)*0.1 -> 35.9856 | P33: =IF(D33>48,'DATOS REFERENCIALES'!$D$8+('DATOS REFERENCIALES'!$F$8*10),IF(D33<39,'DATOS REFERENCIALES'!$E$8*D33,((D33-'DATOS REFERENCIALES'!$I$8)*'DATOS REFERENCIALES'!$F$8)+'DATOS REFERENCIALES'!$D$8)) -> 225 | Q33: =LOOKUP(C33,'TABLA ANTIG.'!$A$4:$A$39,'TABLA ANTIG.'!$B$4:$B$39)*(P33) -> 0 | R33: 0 | S33: =IF(D33>29.99,'DATOS REFERENCIALES'!$D$14,'DATOS REFERENCIALES'!$E$14*D33) -> 0 | T33: =K33+L33+M33+N33+O33+P33+Q33+R33+S33 -> 620.8416 | U33: =$T33*11% -> 68.292576 | V33: =$T33*3% -> 18.625248 | W33: =$T33*3% -> 18.625248 | X33: =$T33*2% -> 12.416832 | Y33: =$T33*4.5% -> 27.937872 | Z33: =SUM(U33:Y33) -> 145.89778 | AA33: =T33-Z33 -> 474.94382 | AB33: =IF(D33>38,'DATOS REFERENCIALES'!$D$10,'DATOS REFERENCIALES'!$E$10*D33) -> 80 | AC33: =IF(D33>41,IF((('DATOS REFERENCIALES'!$D$9)-((T33-S33)-(Z33-S33*0.235)+(AB33)))<0,0,((('DATOS REFERENCIALES'!$D$9)-((T33-S33)-(Z33-S33*0.235)+(AB33))))),IF((('DATOS REFERENCIALES'!$E$9*D33)-(((T33-S33)-(Z33-S33*0.235)+(AB33))))<0,0,('DATOS REFERENCIALES'!$E$9*D33)-((T33-S33)-(Z33-S33*0.235)+(AB33)))) -> 302.55618 | AD33: =SUM(AA33:AC33) -> 857.5 | AE33: =IF(D33>'DATOS REFERENCIALES'!$I$13,'DATOS REFERENCIALES'!$D$13,('DATOS REFERENCIALES'!$E$13*D33)) -> 80.66666 | AF33: =IF(D33>'DATOS REFERENCIALES'!$I$17,'DATOS REFERENCIALES'!$D$17,('DATOS REFERENCIALES'!$E$17*D33)) -> 75 | AG33: =IF(D33>'DATOS REFERENCIALES'!$I$12,'DATOS REFERENCIALES'!$D$12,'DATOS REFERENCIALES'!$E$12*D33) -> 14 | AH33: =SUM(AD33:AG33) -> 1027.1667 | AI33: =IF(D33>'DATOS REFERENCIALES'!$I$16,'DATOS REFERENCIALES'!$D$16,'DATOS REFERENCIALES'!$E$16*D33) -> 51.47 | AJ33: =AI33*$AJ$8 -> 12.09545 | AK33: =AI33-AJ33 -> 39.37455 | AL33: =AH33+AK33 -> 1066.5412

Sheet Hoja1
A4: 1
A5: 2
A6: 3
A7: 4
A8: 5
A9: 6
A10: 7
A11: 8
A12: 9
A13: 10
A14: 11
A15: 12
... A63: 60

Sheet PRIMARIA 
K3: UTILIZAR LA GRILLA A MODO DE EJEMPLO
A6: Grilla Salarial según Resolución Conjunta Nº 1961 MEFGC-18 desde ENERO 2019
A7: Ejemplos de liquidación salarial para cargos sin antigüedad en la docencia. Al incluir antigüedades, disminuye o desaparece el monto del C.M.G.
A8: Primaria Común - JORNADA SIMPLE | AD8: Primaria Común - JORNADA SIMPLE | AK8: 0.235
A9: Códigos | B9: Denominación del cargo | C9: AÑOS | D9: CANTIDAD DE HORAS | E9: SUBVENCIOANDO | F9: CAJA COMPL. | G9: INDICE del Sueldo básico Unificado | H9: TOTAL DE INDICES | I9: INDICES JERARQUIZACION | J9: PLUS DIFERENCIAL POR ESTABLECIMIENTO | K9: Valor Sueldo Básico Unificado RB | L9: PLUS DIFERENCIAL POR JERARQUIZACIÓN | M9: PLUS DIFERENCIAL POR ESTABLECIMIENTO | N9: Antigüedad Docente | O9: Asig. Estímulo Educ. R/ NB (Presentismo) | P9: DECRETO 243/08 RB | Q9: Antigüedad Decreto 243/08 | R9: Art. 128 Estatuto Docente R/ NB | S9: Adicional Especial Remun no Bonif. | T9: Total Haberes Remunerat. | U9: Retenciones por aportes personales | Z9: Total Aportes | AA9: SUBTOTAL NETO SIN C.M.G. | AB9: MDM | AC9: C.M.G. | AD9: Sub Total Neto a cobrar | AE9: FONID / RESOLUC. Nº 02/04 neto | AF9: Adelanto Cláusula de Seguimiento 2017 | AG9: SUMA FIJA NO REMUN.Y NO BONIF. POR UNICA VEZ | AH9: APORTE NAC. A MAT. DIDÁCTICO 2017 | AI9: TOTAL NETO A COBRAR | AJ9: Adicional Especial Remun no Bonif. | AK9: Total Aportes | AL9: NETO DEL ADICIO-NAL | AM9: NETO A COBRAR
U10: Jubilación 11% | V10: Obra Social 3% | W10: INSSJP - Ley 19032 3% | X10: Ley 24.016 Dec. 137/05 2% | Y10: Caja Compl. 4,5%
A11: 585 | B11: Director | C11: 0 | G11: 1783 | H11: =SUM(G11:G11) -> 1783 | K11: =H11*'DATOS REFERENCIALES'!$C$4 -> 11457.558 | N11: =LOOKUP(C11,'TABLA ANTIG.'!$A$4:$A$39,'TABLA ANTIG.'!$B$4:$B$39)*(K11) -> 0 | O11: =K11*0.1 -> 1145.7558 | P11: ='DATOS REFERENCIALES'!$C$8 -> 4275 | Q11: =LOOKUP(C11,'TABLA ANTIG.'!$A$4:$A$39,'TABLA ANTIG.'!$B$4:$B$39)*(P11) -> 0 | R11: 0 | S11: ='DATOS REFERENCIALES'!$C$14 -> 0 | T11: =K11+N11+O11+P11+Q11+R11+S11 -> 16878.314 | U11: =$T11*11% -> 1856.6145 | V11: =$T11*3% -> 506.34941 | W11: =$T11*3% -> 506.34941 | X11: =$T11*2% -> 337.56628 | Y11: =$T11*4.5% -> 759.52412 | Z11: =SUM(U11:Y11) -> 3966.4037 | AA11: =T11-Z11 -> 12911.91 | AB11: ='DATOS REFERENCIALES'!$C$10 -> 1520 | AC11: =IF((IF(H11>1119,('DATOS REFERENCIALES'!$C$9-(T11-U11-V11-W11-X11-Y11+AB11-L11-L11*0.235-(S11-S11*0.235))),(('DATOS REFERENCIALES'!$C$9/1120)*H11)-(K11+N11+O11+P11+Q11+R11-U11-V11-W11-X11-Y11+AB11-(L11-L11*0.235)-(S11*0.235))))<0,0,IF(H11>1119,(('DATOS REFERENCIALES'!$C$9)-(T11-U11-V11-W11-X11-Y11+AB11-(L11-L11*0.235)-(S11-S11*0.235))),(('DATOS REFERENCIALES'!$C$9/1120)*H11)-(K11+N11+O11+P11+Q11+R11-U11-V11-W11-X11-Y11+AB11-(L11-L11*0.235)-(S11*0.235)))) -> 2718.0899 | AD11: =SUM(AA11:AC11) -> 17150 | AE11: ='DATOS REFERENCIALES'!$C$13 -> 1210 | AG11: =IF($H11>1119,'DATOS REFERENCIALES'!C17,'DATOS REFERENCIALES'!C17/1120*$H11) -> 1500 | AH11: ='DATOS REFERENCIALES'!$C$12 -> 210 | AI11: =SUM(AD11:AH11)+SUM(AD12:AH12) -> 21371.634 | AJ11: ='DATOS REFERENCIALES'!C16 -> 772 | AK11: =AJ11*$AK$8 -> 181.42 | AL11: =AJ11-AK11 -> 590.58 | AM11: =AI11+AL11 -> 21962.214
A12: 585 | B12: Director | C12: =IF(C11>0,C11,0) -> 0 | I12: 133.73 | J12: 1 turno y hasta 14 secciones. | L12: =I12*'DATOS REFERENCIALES'!$C$4 -> 859.34898 | M12: =IF(J12='DATOS REFERENCIALES'!$C$30,K11*'DATOS REFERENCIALES'!$D$30,IF(J12='DATOS REFERENCIALES'!$C$31,('DATOS REFERENCIALES'!$D$31*K11),IF(J12='DATOS REFERENCIALES'!$C$32,('DATOS REFERENCIALES'!$D$32*K11),IF(J12='DATOS REFERENCIALES'!$C$33,('DATOS REFERENCIALES'!$D$33*K11),IF(J12='DATOS REFERENCIALES'!$C$34,('DATOS REFERENCIALES'!$D$34*K11),IF(J12='DATOS REFERENCIALES'!$C$35,('DATOS REFERENCIALES'!$D$35*K11),IF(J12='DATOS REFERENCIALES'!$C$36,('DATOS REFERENCIALES'!$D$36*K11),IF(J12='DATOS REFERENCIALES'!$C$37,('DATOS REFERENCIALES'!$D$37*K11),0)))))))) -> 687.45348 | N12: =LOOKUP(C12,'TABLA ANTIG.'!$A$4:$A$39,'TABLA ANTIG.'!$B$4:$B$39)*(L12+M12) -> 0 | O12: =(L12+M12)*0.1 -> 154.68025 | T12: =L12+M12+N12+O12+P12+Q12+R12 -> 1701.4827 | U12: =$T12*11% -> 187.1631 | V12: =$T12*3% -> 51.044481 | W12: =$T12*3% -> 51.044481 | X12: =$T12*2% -> 34.029654 | Y12: =$T12*4.5% -> 76.566722 | Z12: =SUM(U12:Y12) -> 399.84844 | AA12: =T12-Z12 -> 1301.6343 | AD12: =SUM(AA12:AC12) -> 1301.6343
A13: 840 | B13: Vicedirector | C13: 0 | G13: 1545 | H13: =SUM(G13:G13) -> 1545 | K13: =H13*'DATOS REFERENCIALES'!$C$4 -> 9928.17 | N13: =LOOKUP(C13,'TABLA ANTIG.'!$A$4:$A$39,'TABLA ANTIG.'!$B$4:$B$39)*(K13) -> 0 | O13: =K13*0.1 -> 992.817 | P13: ='DATOS REFERENCIALES'!$C$8 -> 4275 | Q13: =LOOKUP(C13,'TABLA ANTIG.'!$A$4:$A$39,'TABLA ANTIG.'!$B$4:$B$39)*(P13) -> 0 | R13: 0 | S13: ='DATOS REFERENCIALES'!$C$14 -> 0 | T13: =K13+N13+O13+P13+Q13+R13+S13 -> 15195.987 | U13: =$T13*11% -> 1671.5586 | V13: =$T13*3% -> 455.87961 | W13: =$T13*3% -> 455.87961 | X13: =$T13*2% -> 303.91974 | Y13: =$T13*4.5% -> 683.81942 | Z13: =SUM(U13:Y13) -> 3571.0569 | AA13: =T13-Z13 -> 11624.93 | AB13: ='DATOS REFERENCIALES'!$C$10 -> 1520 | AC13: =IF((IF(H13>1119,('DATOS REFERENCIALES'!$C$9-(T13-U13-V13-W13-X13-Y13+AB13-L13-L13*0.235-(S13-S13*0.235))),(('DATOS REFERENCIALES'!$C$9/1120)*H13)-(K13+N13+O13+P13+Q13+R13-U13-V13-W13-X13-Y13+AB13-(L13-L13*0.235)-(S13*0.235))))<0,0,IF(H13>1119,(('DATOS REFERENCIALES'!$C$9)-(T13-U13-V13-W13-X13-Y13+AB13-(L13-L13*0.235)-(S13-S13*0.235))),(('DATOS REFERENCIALES'!$C$9/1120)*H13)-(K13+N13+O13+P13+Q13+R13-U13-V13-W13-X13-Y13+AB13-(L13-L13*0.235)-(S13*0.235)))) -> 4005.0699 | AD13: =SUM(AA13:AC13) -> 17150 | AE13: ='DATOS REFERENCIALES'!$C$13 -> 1210 | AG13: =IF($H13>1119,'DATOS REFERENCIALES'!C17,'DATOS REFERENCIALES'!C17/1120*$H13) -> 1500 | AH13: ='DATOS REFERENCIALES'!$C$12 -> 210 | AI13: =SUM(AD13:AH13)+SUM(AD14:AH14) -> 20696.619 | AJ13: ='DATOS REFERENCIALES'!C16 -> 772 | AK13: =AJ13*$AK$8 -> 181.42 | AL13: =AJ13-AK13 -> 590.58 | AM13: =AI13+AL13 -> 21287.199
A14: 840 | B14: Vicedirector | C14: =IF(C13>0,C13,0) -> 0 | I14: 115.88 | L14: =I14*'DATOS REFERENCIALES'!$C$4 -> 744.64488 | N14: =LOOKUP(C14,'TABLA ANTIG.'!$A$4:$A$39,'TABLA ANTIG.'!$B$4:$B$39)*(L14+M14) -> 0 | O14: =(L14+M14)*0.1 -> 74.464488 | T14: =L14+M14+N14+O14+P14+Q14+R14 -> 819.10937 | U14: =$T14*11% -> 90.10203 | V14: =$T14*3% -> 24.573281 | W14: =$T14*3% -> 24.573281 | X14: =$T14*2% -> 16.382187 | Y14: =$T14*4.5% -> 36.859922 | Z14: =SUM(U14:Y14) -> 192.4907 | AA14: =T14-Z14 -> 626.61867 | AD14: =SUM(AA14:AC14) -> 626.61867
A15: 846 | B15: Maestro Secretario | C15: 0 | G15: 1307 | H15: =SUM(G15:G15) -> 1307 | K15: =H15*'DATOS REFERENCIALES'!$C$4 -> 8398.782 | N15: =LOOKUP(C15,'TABLA ANTIG.'!$A$4:$A$39,'TABLA ANTIG.'!$B$4:$B$39)*(K15) -> 0 | O15: =K15*0.1 -> 839.8782 | P15: ='DATOS REFERENCIALES'!$C$8 -> 4275 | Q15: =LOOKUP(C15,'TABLA ANTIG.'!$A$4:$A$39,'TABLA ANTIG.'!$B$4:$B$39)*(P15) -> 0 | R15: 0 | S15: ='DATOS REFERENCIALES'!$C$14 -> 0 | T15: =K15+N15+O15+P15+Q15+R15+S15 -> 13513.66 | U15: =$T15*11% -> 1486.5026 | V15: =$T15*3% -> 405.40981 | W15: =$T15*3% -> 405.40981 | X15: =$T15*2% -> 270.2732 | Y15: =$T15*4.5% -> 608.11471 | Z15: =SUM(U15:Y15) -> 3175.7101 | AA15: =T15-Z15 -> 10337.95 | AB15: ='DATOS REFERENCIALES'!$C$10 -> 1520 | AC15: =IF((IF(H15>1119,('DATOS REFERENCIALES'!$C$9-(T15-U15-V15-W15-X15-Y15+AB15-L15-L15*0.235-(S15-S15*0.235))),(('DATOS REFERENCIALES'!$C$9/1120)*H15)-(K15+N15+O15+P15+Q15+R15-U15-V15-W15-X15-Y15+AB15-(L15-L15*0.235)-(S15*0.235))))<0,0,IF(H15>1119,(('DATOS REFERENCIALES'!$C$9)-(T15-U15-V15-W15-X15-Y15+AB15-(L15-L15*0.235)-(S15-S15*0.235))),(('DATOS REFERENCIALES'!$C$9/1120)*H15)-(K15+N15+O15+P15+Q15+R15-U15-V15-W15-X15-Y15+AB15-(L15-L15*0.235)-(S15*0.235)))) -> 5292.0499 | AD15: =SUM(AA15:AC15) -> 17150 | AE15: ='DATOS REFERENCIALES'!$C$13 -> 1210 | AG15: =IF($H15>1119,'DATOS REFERENCIALES'!C17,'DATOS REFERENCIALES'!C17/1120*$H15) -> 1500 | AH15: ='DATOS REFERENCIALES'!$C$12 -> 210 | AI15: =SUM(AD15:AH15)+SUM(AD16:AH16) -> 20600.095 | AJ15: ='DATOS REFERENCIALES'!C16 -> 772 | AK15: =AJ15*$AK$8 -> 181.42 | AL15: =AJ15-AK15 -> 590.58 | AM15: =AI15+AL15 -> 21190.675
A16: 846 | B16: Maestro Secretario | C16: =IF(C15>0,C15,0) -> 0 | I16: 98.03 | L16: =I16*'DATOS REFERENCIALES'!$C$4 -> 629.94078 | N16: =LOOKUP(C16,'TABLA ANTIG.'!$A$4:$A$39,'TABLA ANTIG.'!$B$4:$B$39)*(L16+M16) -> 0 | O16: =(L16+M16)*0.1 -> 62.994078 | T16: =L16+M16+N16+O16+P16+Q16+R16 -> 692.93486 | U16: =$T16*11% -> 76.222834 | V16: =$T16*3% -> 20.788046 | W16: =$T16*3% -> 20.788046 | X16: =$T16*2% -> 13.858697 | Y16: =$T16*4.5% -> 31.182069 | Z16: =SUM(U16:Y16) -> 162.83969 | AA16: =T16-Z16 -> 530.09517 | AD16: =SUM(AA16:AC16) -> 530.09517
A17: 847 | B17: Maestro de Apoyo | C17: 0 | G17: 1120 | H17: =SUM(G17:G17) -> 1120 | K17: =H17*'DATOS REFERENCIALES'!$C$4 -> 7197.12 | N17: =LOOKUP(C17,'TABLA ANTIG.'!$A$4:$A$39,'TABLA ANTIG.'!$B$4:$B$39)*(K17) -> 0 | O17: =K17*0.1 -> 719.712 | P17: ='DATOS REFERENCIALES'!$C$8 -> 4275 | Q17: =LOOKUP(C17,'TABLA ANTIG.'!$A$4:$A$39,'TABLA ANTIG.'!$B$4:$B$39)*(P17) -> 0 | R17: 0 | S17: ='DATOS REFERENCIALES'!$C$14 -> 0 | T17: =K17+N17+O17+P17+Q17+R17+S17 -> 12191.832 | U17: =$T17*11% -> 1341.1015 | V17: =$T17*3% -> 365.75496 | W17: =$T17*3% -> 365.75496 | X17: =$T17*2% -> 243.83664 | Y17: =$T17*4.5% -> 548.63244 | Z17: =SUM(U17:Y17) -> 2865.0805 | AA17: =T17-Z17 -> 9326.7515 | AB17: ='DATOS REFERENCIALES'!$C$10 -> 1520 | AC17: =IF((IF(H17>1119,('DATOS REFERENCIALES'!$C$9-(T17-U17-V17-W17-X17-Y17+AB17-L17-L17*0.235-(S17-S17*0.235))),(('DATOS REFERENCIALES'!$C$9/1120)*H17)-(K17+N17+O17+P17+Q17+R17-U17-V17-W17-X17-Y17+AB17-(L17-L17*0.235)-(S17*0.235))))<0,0,IF(H17>1119,(('DATOS REFERENCIALES'!$C$9)-(T17-U17-V17-W17-X17-Y17+AB17-(L17-L17*0.235)-(S17-S17*0.235))),(('DATOS REFERENCIALES'!$C$9/1120)*H17)-(K17+N17+O17+P17+Q17+R17-U17-V17-W17-X17-Y17+AB17-(L17-L17*0.235)-(S17*0.235)))) -> 6303.2485 | AD17: =SUM(AA17:AC17) -> 17150 | AE17: ='DATOS REFERENCIALES'!$C$13 -> 1210 | AG17: =IF($H17>1119,'DATOS REFERENCIALES'!C17,'DATOS REFERENCIALES'!C17/1120*$H17) -> 1500 | AH17: ='DATOS REFERENCIALES'!$C$12 -> 210 | AI17: =SUM(AD17:AH17) -> 20070 | AJ17: ='DATOS REFERENCIALES'!$C$16 -> 772 | AK17: =AJ17*$AK$8 -> 181.42 | AL17: =AJ17-AK17 -> 590.58 | AM17: =AI17+AL17 -> 20660.58
A18: 848 | B18: Maestro de Apoyo para la integración | C18: 0 | G18: 1120 | H18: =SUM(G18:G18) -> 1120 | K18: =H18*'DATOS REFERENCIALES'!$C$4 -> 7197.12 | N18: =LOOKUP(C18,'TABLA ANTIG.'!$A$4:$A$39,'TABLA ANTIG.'!$B$4:$B$39)*(K18) -> 0 | O18: =K18*0.1 -> 719.712 | P18: ='DATOS REFERENCIALES'!$C$8 -> 4275 | Q18: =LOOKUP(C18,'TABLA ANTIG.'!$A$4:$A$39,'TABLA ANTIG.'!$B$4:$B$39)*(P18) -> 0 | R18: 0 | S18: ='DATOS REFERENCIALES'!$C$14 -> 0 | T18: =K18+N18+O18+P18+Q18+R18+S18 -> 12191.832 | U18: =$T18*11% -> 1341.1015 | V18: =$T18*3% -> 365.75496 | W18: =$T18*3% -> 365.75496 | X18: =$T18*2% -> 243.83664 | Y18: =$T18*4.5% -> 548.63244 | Z18: =SUM(U18:Y18) -> 2865.0805 | AA18: =T18-Z18 -> 9326.7515 | AB18: ='DATOS REFERENCIALES'!$C$10 -> 1520 | AC18: =IF((IF(H18>1119,('DATOS REFERENCIALES'!$C$9-(T18-U18-V18-W18-X18-Y18+AB18-L18-L18*0.235-(S18-S18*0.235))),(('DATOS REFERENCIALES'!$C$9/1120)*H18)-(K18+N18+O18+P18+Q18+R18-U18-V18-W18-X18-Y18+AB18-(L18-L18*0.235)-(S18*0.235))))<0,0,IF(H18>1119,(('DATOS REFERENCIALES'!$C$9)-(T18-U18-V18-W18-X18-Y18+AB18-(L18-L18*0.235)-(S18-S18*0.235))),(('DATOS REFERENCIALES'!$C$9/1120)*H18)-(K18+N18+O18+P18+Q18+R18-U18-V18-W18-X18-Y18+AB18-(L18-L18*0.235)-(S18*0.235)))) -> 6303.2485 | AD18: =SUM(AA18:AC18) -> 17150 | AE18: ='DATOS REFERENCIALES'!$C$13 -> 1210 | AG18: =IF($H18>1119,'DATOS REFERENCIALES'!C17,'DATOS REFERENCIALES'!C17/1120*$H18) -> 1500 | AH18: ='DATOS REFERENCIALES'!$C$12 -> 210 | AI18: =SUM(AD18:AH18) -> 20070 | AJ18: ='DATOS REFERENCIALES'!$C$16 -> 772 | AK18: =AJ18*$AK$8 -> 181.42 | AL18: =AJ18-AK18 -> 590.58 | AM18: =AI18+AL18 -> 20660.58
A19: 875 | B19: Maestro Bibliotecario (adultos tmb) | C19: 0 | G19: 1120 | H19: =SUM(G19:G19) -> 1120 | K19: =H19*'DATOS REFERENCIALES'!$C$4 -> 7197.12 | N19: =LOOKUP(C19,'TABLA ANTIG.'!$A$4:$A$39,'TABLA ANTIG.'!$B$4:$B$39)*(K19) -> 0 | O19: =K19*0.1 -> 719.712 | P19: ='DATOS REFERENCIALES'!$C$8 -> 4275 | Q19: =LOOKUP(C19,'TABLA ANTIG.'!$A$4:$A$39,'TABLA ANTIG.'!$B$4:$B$39)*(P19) -> 0 | R19: 0 | S19: ='DATOS REFERENCIALES'!$C$14 -> 0 | T19: =K19+N19+O19+P19+Q19+R19+S19 -> 12191.832 | U19: =$T19*11% -> 1341.1015 | V19: =$T19*3% -> 365.75496 | W19: =$T19*3% -> 365.75496 | X19: =$T19*2% -> 243.83664 | Y19: =$T19*4.5% -> 548.63244 | Z19: =SUM(U19:Y19) -> 2865.0805 | AA19: =T19-Z19 -> 9326.7515 | AB19: ='DATOS REFERENCIALES'!$C$10 -> 1520 | AC19: =IF((IF(H19>1119,('DATOS REFERENCIALES'!$C$9-(T19-U19-V19-W19-X19-Y19+AB19-L19-L19*0.235-(S19-S19*0.235))),(('DATOS REFERENCIALES'!$C$9/1120)*H19)-(K19+N19+O19+P19+Q19+R19-U19-V19-W19-X19-Y19+AB19-(L19-L19*0.235)-(S19*0.235))))<0,0,IF(H19>1119,(('DATOS REFERENCIALES'!$C$9)-(T19-U19-V19-W19-X19-Y19+AB19-(L19-L19*0.235)-(S19-S19*0.235))),(('DATOS REFERENCIALES'!$C$9/1120)*H19)-(K19+N19+O19+P19+Q19+R19-U19-V19-W19-X19-Y19+AB19-(L19-L19*0.235)-(S19*0.235)))) -> 6303.2485 | AD19: =SUM(AA19:AC19) -> 17150 | AE19: ='DATOS REFERENCIALES'!$C$13 -> 1210 | AG19: =IF($H19>1119,'DATOS REFERENCIALES'!C17,'DATOS REFERENCIALES'!C17/1120*$H19) -> 1500 | AH19: ='DATOS REFERENCIALES'!$C$12 -> 210 | AI19: =SUM(AD19:AH19) -> 20070 | AJ19: ='DATOS REFERENCIALES'!$C$16 -> 772 | AK19: =AJ19*$AK$8 -> 181.42 | AL19: =AJ19-AK19 -> 590.58 | AM19: =AI19+AL19 -> 20660.58
A20: 845 | B20: Maestro de Grado | C20: 0 | G20: 1120 | H20: =SUM(G20:G20) -> 1120 | K20: =H20*'DATOS REFERENCIALES'!$C$4 -> 7197.12 | N20: =LOOKUP(C20,'TABLA ANTIG.'!$A$4:$A$39,'TABLA ANTIG.'!$B$4:$B$39)*(K20) -> 0 | O20: =K20*0.1 -> 719.712 | P20: ='DATOS REFERENCIALES'!$C$8 -> 4275 | Q20: =LOOKUP(C20,'TABLA ANTIG.'!$A$4:$A$39,'TABLA ANTIG.'!$B$4:$B$39)*(P20) -> 0 | R20: 0 | S20: ='DATOS REFERENCIALES'!$C$14 -> 0 | T20: =K20+N20+O20+P20+Q20+R20+S20 -> 12191.832 | U20: =$T20*11% -> 1341.1015 | V20: =$T20*3% -> 365.75496 | W20: =$T20*3% -> 365.75496 | X20: =$T20*2% -> 243.83664 | Y20: =$T20*4.5% -> 548.63244 | Z20: =SUM(U20:Y20) -> 2865.0805 | AA20: =T20-Z20 -> 9326.7515 | AB20: ='DATOS REFERENCIALES'!$C$10 -> 1520 | AC20: =IF((IF(H20>1119,('DATOS REFERENCIALES'!$C$9-(T20-U20-V20-W20-X20-Y20+AB20-L20-L20*0.235-(S20-S20*0.235))),(('DATOS REFERENCIALES'!$C$9/1120)*H20)-(K20+N20+O20+P20+Q20+R20-U20-V20-W20-X20-Y20+AB20-(L20-L20*0.235)-(S20*0.235))))<0,0,IF(H20>1119,(('DATOS REFERENCIALES'!$C$9)-(T20-U20-V20-W20-X20-Y20+AB20-(L20-L20*0.235)-(S20-S20*0.235))),(('DATOS REFERENCIALES'!$C$9/1120)*H20)-(K20+N20+O20+P20+Q20+R20-U20-V20-W20-X20-Y20+AB20-(L20-L20*0.235)-(S20*0.235)))) -> 6303.2485 | AD20: =SUM(AA20:AC20) -> 17150 | AE20: ='DATOS REFERENCIALES'!$C$13 -> 1210 | AG20: =IF($H20>1119,'DATOS REFERENCIALES'!C17,'DATOS REFERENCIALES'!C17/1120*$H20) -> 1500 | AH20: ='DATOS REFERENCIALES'!$C$12 -> 210 | AI20: =SUM(AD20:AH20) -> 20070 | AJ20: ='DATOS REFERENCIALES'!$C$16 -> 772 | AK20: =AJ20*$AK$8 -> 181.42 | AL20: =AJ20-AK20 -> 590.58 | AM20: =AI20+AL20 -> 20660.58
A21: 5566 | B21: Hora cátedra Maestro Especial | C21: 0 | D21: 1 | G21: 56 | H21: =SUM(G21:G21) -> 56 | K21: =(H21*'DATOS REFERENCIALES'!$C$4)*D21 -> 359.856 | N21: =LOOKUP(C21,'TABLA ANTIG.'!$A$4:$A$39,'TABLA ANTIG.'!$B$4:$B$39)*(K21) -> 0 | O21: =K21*0.1 -> 35.9856 | P21: =IF(D21>48,'DATOS REFERENCIALES'!D8+('DATOS REFERENCIALES'!F8*10),IF(D21<39,'DATOS REFERENCIALES'!$E$8*D21,((D21-'DATOS REFERENCIALES'!$I$8)*'DATOS REFERENCIALES'!$F$8)+'DATOS REFERENCIALES'!D8)) -> 225 | Q21: =LOOKUP(C21,'TABLA ANTIG.'!$A$4:$A$39,'TABLA ANTIG.'!$B$4:$B$39)*(P21) -> 0 | R21: 0 | S21: =IF(D21>29.99,'DATOS REFERENCIALES'!$D$14,'DATOS REFERENCIALES'!$E$14*D21) -> 0 | T21: =K21+N21+O21+P21+Q21+R21+S21 -> 620.8416 | U21: =$T21*11% -> 68.292576 | V21: =$T21*3% -> 18.625248 | W21: =$T21*3% -> 18.625248 | X21: =$T21*2% -> 12.416832 | Y21: =$T21*4.5% -> 27.937872 | Z21: =SUM(U21:Y21) -> 145.89778 | AA21: =T21-Z21 -> 474.94382 | AB21: =IF(D21>38,'DATOS REFERENCIALES'!$D$10,'DATOS REFERENCIALES'!$E$10*D21) -> 80 | AC21: =IF(D21>41,IF((('DATOS REFERENCIALES'!$D$9)-((T21-S21)-(Z21-S21*0.235)+(AB21)))<0,0,((('DATOS REFERENCIALES'!$D$9)-((T21-S21)-(Z21-S21*0.235)+(AB21))))),IF((('DATOS REFERENCIALES'!$E$9*D21)-(((T21-S21)-(Z21-S21*0.235)+(AB21))))<0,0,('DATOS REFERENCIALES'!$E$9*D21)-((T21-S21)-(Z21-S21*0.235)+(AB21)))) -> 302.55618 | AD21: =SUM(AA21:AC21) -> 857.5 | AE21: =IF(D21>30,'DATOS REFERENCIALES'!$D$13,('DATOS REFERENCIALES'!$E$13*D21)) -> 80.66666 | AG21: =IF(D21>'DATOS REFERENCIALES'!$I$17,'DATOS REFERENCIALES'!$D$17,('DATOS REFERENCIALES'!$E$17*D21)) -> 75 | AH21: =IF(D21>'DATOS REFERENCIALES'!$I$12,'DATOS REFERENCIALES'!$D$12,'DATOS REFERENCIALES'!$E$12*D21) -> 14 | AI21: =SUM(AD21:AH21) -> 1027.1667 | AJ21: =IF(D21>'DATOS REFERENCIALES'!$I$16,'DATOS REFERENCIALES'!$D$16,'DATOS REFERENCIALES'!$E$16*D21) -> 51.47 | AK21: =AJ21*$AK$8 -> 12.09545 | AL21: =AJ21-AK21 -> 39.37455 | AM21: =AI21+AL21 -> 1066.5412
A23: Primaria Común - JORNADA COMPLETA | AD23: Primaria Común - JORNADA COMPLETA
A24: Códigos | B24: Denominación del cargo | C24: AÑOS | D24: CANTIDAD DE HORAS | E24: SUBVENCIOANDO | F24: CAJA COMPL. | G24: INDICE del Sueldo básico Unificado | H24: TOTAL DE INDICES | I24: INDICES JERARQUIZACION | J24: PLUS DIFERENCIAL POR ESTABLECIMIENTO | K24: Valor Sueldo Básico Unificado RB | L24: PLUS DIFERENCIAL POR JERARQUIZACIÓN | M24: PLUS DIFERENCIAL POR ESTABLECIMIENTO | N24: Antigüedad Docente | O24: Asig. Estímulo Educ. R/ NB (Presentismo) | P24: DECRETO 243/08 RB | Q24: Antigüedad Decreto 243/08 | R24: Art. 128 Estatuto Docente R/ NB | S24: Adicional Especial Remun no Bonif. | T24: Total Haberes Remunerat. | U24: Retenciones por aportes personales | Z24: Total Aportes | AA24: SUBTOTAL NETO SIN C.M.G. | AB24: MDM | AC24: C.M.G. | AD24: Sub Total Neto a cobrar | AE24: FONID / RESOLUC. Nº 02/04 neto | AF24: Adelanto Cláusula de Seguimiento 2017 | AG24: SUMA FIJA NO REMUN.Y NO BONIF. POR UNICA VEZ | AH24: APORTE NAC. A MAT. DIDÁCTICO 2017 de 08/17 a 12/17 | AI24: TOTAL NETO A COBRAR | AJ24: Adicional Especial Remun no Bonif. | AK24: Total Aportes | AL24: NETO DEL ADICIO-NAL | AM24: NETO A COBRAR
U25: Jubilación 11% | V25: Obra Social 3% | W25: INSSJP - Ley 19032 3% | X25: Ley 24.016 Dec. 137/05 2% | Y25: Caja Compl. 4,5%
A26: 834 | B26: Director | C26: 0 | G26: 3125 | H26: =SUM(G26:G26) -> 3125 | K26: =H26*'DATOS REFERENCIALES'!$C$4 -> 20081.25 | N26: =LOOKUP(C26,'TABLA ANTIG.'!$A$4:$A$39,'TABLA ANTIG.'!$B$4:$B$39)*(K26) -> 0 | O26: =K26*0.1 -> 2008.125 | P26: ='DATOS REFERENCIALES'!$D$8 -> 8550 | Q26: =LOOKUP(C26,'TABLA ANTIG.'!$A$4:$A$39,'TABLA ANTIG.'!$B$4:$B$39)*(P26) -> 0 | R26: 0 | S26: ='DATOS REFERENCIALES'!$D$14 -> 0 | T26: =K26+N26+O26+P26+Q26+R26+S26 -> 30639.375 | U26: =$T26*11% -> 3370.3313 | V26: =$T26*3% -> 919.18125 | W26: =$T26*3% -> 919.18125 | X26: =$T26*2% -> 612.7875 | Y26: =$T26*4.5% -> 1378.7719 | Z26: =SUM(U26:Y26) -> 7200.2531 | AA26: =T26-Z26 -> 23439.122 | AB26: ='DATOS REFERENCIALES'!$D$10 -> 3040 | AC26: =IF((IF(H26>2042,('DATOS REFERENCIALES'!$D$9-(T26-U26-V26-W26-X26-Y26+AB26)+(S26-S26*0.235)),(('DATOS REFERENCIALES'!$D$9/2043)*H26)-(K26+N26+O26+P26+Q26+R26-U26-V26-W26-X26-Y26+AB26)))<0,0,IF(H26>2042,(('DATOS REFERENCIALES'!$D$9)-(T26-U26-V26-W26-X26-Y26+AB26)+(S26-S26*0.235)),(('DATOS REFERENCIALES'!$D$9/2043)*H26)-(K26+N26+O26+P26+Q26+R26-U26-V26-W26-X26-Y26+AB26))) -> 7820.8781 | AD26: =SUM(AA26:AC26) -> 34300 | AE26: ='DATOS REFERENCIALES'!$D$13 -> 2420 | AG26: =IF($H26>2043,'DATOS REFERENCIALES'!D17,'DATOS REFERENCIALES'!D17/2043*$H26) -> 3000 | AH26: ='DATOS REFERENCIALES'!$D$12 -> 420 | AI26: =SUM(AD26:AH26)+SUM(AD27:AH27) -> 42421.307 | AJ26: ='DATOS REFERENCIALES'!$D$16 -> 1544 | AK26: =AJ26*$AK$8 -> 362.84 | AL26: =AJ26-AK26 -> 1181.16 | AM26: =AI26+AL26 -> 43602.467
A27: 834 | B27: Director | C27: =IF(C26>0,C26,0) -> 0 | I27: 234.38 | J27: 1 turno y hasta 14 secciones. | L27: =I27*'DATOS REFERENCIALES'!$C$4 -> 1506.1259 | M27: =IF(J27='DATOS REFERENCIALES'!$C$30,K26*'DATOS REFERENCIALES'!$D$30,IF(J27='DATOS REFERENCIALES'!$C$31,('DATOS REFERENCIALES'!$D$31*K26),IF(J27='DATOS REFERENCIALES'!$C$32,('DATOS REFERENCIALES'!$D$32*K26),IF(J27='DATOS REFERENCIALES'!$C$33,('DATOS REFERENCIALES'!$D$33*K26),IF(J27='DATOS REFERENCIALES'!$C$34,('DATOS REFERENCIALES'!$D$34*K26),IF(J27='DATOS REFERENCIALES'!$C$35,('DATOS REFERENCIALES'!$D$35*K26),IF(J27='DATOS REFERENCIALES'!$C$36,('DATOS REFERENCIALES'!$D$36*K26),IF(J27='DATOS REFERENCIALES'!$C$37,('DATOS REFERENCIALES'!$D$37*K26),0)))))))) -> 1204.875 | N27: =LOOKUP(C27,'TABLA ANTIG.'!$A$4:$A$39,'TABLA ANTIG.'!$B$4:$B$39)*(L27+M27) -> 0 | O27: =(L27+M27)*0.1 -> 271.10009 | T27: =L27+M27+N27+O27+P27+Q27+R27 -> 2982.101 | U27: =$T27*11% -> 328.03111 | V27: =$T27*3% -> 89.463029 | W27: =$T27*3% -> 89.463029 | X27: =$T27*2% -> 59.642019 | Y27: =$T27*4.5% -> 134.19454 | Z27: =SUM(U27:Y27) -> 700.79373 | AA27: =T27-Z27 -> 2281.3072 | AD27: =SUM(AA27:AC27) -> 2281.3072
A28: 870 | B28: Vicedirector | C28: 0 | G28: 2667 | H28: =SUM(G28:G28) -> 2667 | K28: =H28*'DATOS REFERENCIALES'!$C$4 -> 17138.142 | N28: =LOOKUP(C28,'TABLA ANTIG.'!$A$4:$A$39,'TABLA ANTIG.'!$B$4:$B$39)*(K28) -> 0 | O28: =K28*0.1 -> 1713.8142 | P28: ='DATOS REFERENCIALES'!$D$8 -> 8550 | Q28: =LOOKUP(C28,'TABLA ANTIG.'!$A$4:$A$39,'TABLA ANTIG.'!$B$4:$B$39)*(P28) -> 0 | R28: 0 | S28: ='DATOS REFERENCIALES'!$D$14 -> 0 | T28: =K28+N28+O28+P28+Q28+R28+S28 -> 27401.956 | U28: =$T28*11% -> 3014.2152 | V28: =$T28*3% -> 822.05869 | W28: =$T28*3% -> 822.05869 | X28: =$T28*2% -> 548.03912 | Y28: =$T28*4.5% -> 1233.088 | Z28: =SUM(U28:Y28) -> 6439.4597 | AA28: =T28-Z28 -> 20962.496 | AB28: ='DATOS REFERENCIALES'!$D$10 -> 3040 | AC28: =IF((IF(H28>2042,('DATOS REFERENCIALES'!$D$9-(T28-U28-V28-W28-X28-Y28+AB28)+(S28-S28*0.235)),(('DATOS REFERENCIALES'!$D$9/2043)*H28)-(K28+N28+O28+P28+Q28+R28-U28-V28-W28-X28-Y28+AB28)))<0,0,IF(H28>2042,(('DATOS REFERENCIALES'!$D$9)-(T28-U28-V28-W28-X28-Y28+AB28)+(S28-S28*0.235)),(('DATOS REFERENCIALES'!$D$9/2043)*H28)-(K28+N28+O28+P28+Q28+R28-U28-V28-W28-X28-Y28+AB28))) -> 10297.504 | AD28: =SUM(AA28:AC28) -> 34300 | AE28: ='DATOS REFERENCIALES'!$D$13 -> 2420 | AG28: =IF($H28>2043,'DATOS REFERENCIALES'!D17,'DATOS REFERENCIALES'!D17/2043*$H28) -> 3000 | AH28: ='DATOS REFERENCIALES'!$D$12 -> 420 | AI28: =SUM(AD28:AH28)+SUM(AD29:AH29) -> 41221.658 | AJ28: ='DATOS REFERENCIALES'!$D$16 -> 1544 | AK28: =AJ28*$AK$8 -> 362.84 | AL28: =AJ28-AK28 -> 1181.16 | AM28: =AI28+AL28 -> 42402.818
A29: 870 | B29: Vicedirector | C29: =IF(C28>0,C28,0) -> 0 | I29: 200.03 | L29: =I29*'DATOS REFERENCIALES'!$C$4 -> 1285.3928 | N29: =LOOKUP(C29,'TABLA ANTIG.'!$A$4:$A$39,'TABLA ANTIG.'!$B$4:$B$39)*(L29+M29) -> 0 | O29: =(L29+M29)*0.1 -> 128.53928 | T29: =L29+M29+N29+O29+P29+Q29+R29 -> 1413.9321 | U29: =$T29*11% -> 155.53253 | V29: =$T29*3% -> 42.417962 | W29: =$T29*3% -> 42.417962 | X29: =$T29*2% -> 28.278641 | Y29: =$T29*4.5% -> 63.626943 | Z29: =SUM(U29:Y29) -> 332.27403 | AA29: =T29-Z29 -> 1081.658 | AD29: =SUM(AA29:AC29) -> 1081.658
A30: 849 | B30: Maestro Secretario | C30: 0 | G30: 2359 | H30: =SUM(G30:G30) -> 2359 | K30: =H30*'DATOS REFERENCIALES'!$C$4 -> 15158.934 | N30: =LOOKUP(C30,'TABLA ANTIG.'!$A$4:$A$39,'TABLA ANTIG.'!$B$4:$B$39)*(K30) -> 0 | O30: =K30*0.1 -> 1515.8934 | P30: ='DATOS REFERENCIALES'!$D$8 -> 8550 | Q30: =LOOKUP(C30,'TABLA ANTIG.'!$A$4:$A$39,'TABLA ANTIG.'!$B$4:$B$39)*(P30) -> 0 | R30: 0 | S30: ='DATOS REFERENCIALES'!$D$14 -> 0 | T30: =K30+N30+O30+P30+Q30+R30+S30 -> 25224.827 | U30: =$T30*11% -> 2774.731 | V30: =$T30*3% -> 756.74482 | W30: =$T30*3% -> 756.74482 | X30: =$T30*2% -> 504.49655 | Y30: =$T30*4.5% -> 1135.1172 | Z30: =SUM(U30:Y30) -> 5927.8344 | AA30: =T30-Z30 -> 19296.993 | AB30: ='DATOS REFERENCIALES'!$D$10 -> 3040 | AC30: =IF((IF(H30>2042,('DATOS REFERENCIALES'!$D$9-(T30-U30-V30-W30-X30-Y30+AB30)+(S30-S30*0.235)),(('DATOS REFERENCIALES'!$D$9/2043)*H30)-(K30+N30+O30+P30+Q30+R30-U30-V30-W30-X30-Y30+AB30)))<0,0,IF(H30>2042,(('DATOS REFERENCIALES'!$D$9)-(T30-U30-V30-W30-X30-Y30+AB30)+(S30-S30*0.235)),(('DATOS REFERENCIALES'!$D$9/2043)*H30)-(K30+N30+O30+P30+Q30+R30-U30-V30-W30-X30-Y30+AB30))) -> 11963.007 | AD30: =SUM(AA30:AC30) -> 34300 | AE30: ='DATOS REFERENCIALES'!$D$13 -> 2420 | AG30: =IF($H30>2043,'DATOS REFERENCIALES'!D17,'DATOS REFERENCIALES'!D17/2043*$H30) -> 3000 | AH30: ='DATOS REFERENCIALES'!$D$12 -> 420 | AI30: =SUM(AD30:AH30)+SUM(AD31:AH31) -> 41096.745 | AJ30: ='DATOS REFERENCIALES'!$D$16 -> 1544 | AK30: =AJ30*$AK$8 -> 362.84 | AL30: =AJ30-AK30 -> 1181.16 | AM30: =AI30+AL30 -> 42277.905
A31: 849 | B31: Maestro Secretario | C31: =IF(C30>0,C30,0) -> 0 | I31: 176.93 | L31: =I31*'DATOS REFERENCIALES'!$C$4 -> 1136.9522 | N31: =LOOKUP(C31,'TABLA ANTIG.'!$A$4:$A$39,'TABLA ANTIG.'!$B$4:$B$39)*(L31+M31) -> 0 | O31: =(L31+M31)*0.1 -> 113.69522 | T31: =L31+M31+N31+O31+P31+Q31+R31 -> 1250.6474 | U31: =$T31*11% -> 137.57121 | V31: =$T31*3% -> 37.519422 | W31: =$T31*3% -> 37.519422 | X31: =$T31*2% -> 25.012948 | Y31: =$T31*4.5% -> 56.279133 | Z31: =SUM(U31:Y31) -> 293.90214 | AA31: =T31-Z31 -> 956.74526 | AD31: =SUM(AA31:AC31) -> 956.74526
A32: 855 | B32: Maestro de Grado | C32: 0 | G32: 2043 | H32: =SUM(G32:G32) -> 2043 | K32: =H32*'DATOS REFERENCIALES'!$C$4 -> 13128.318 | N32: =LOOKUP(C32,'TABLA ANTIG.'!$A$4:$A$39,'TABLA ANTIG.'!$B$4:$B$39)*(K32) -> 0 | O32: =K32*0.1 -> 1312.8318 | P32: ='DATOS REFERENCIALES'!$D$8 -> 8550 | Q32: =LOOKUP(C32,'TABLA ANTIG.'!$A$4:$A$39,'TABLA ANTIG.'!$B$4:$B$39)*(P32) -> 0 | R32: 0 | S32: ='DATOS REFERENCIALES'!$D$14 -> 0 | T32: =K32+N32+O32+P32+Q32+R32+S32 -> 22991.15 | U32: =$T32*11% -> 2529.0265 | V32: =$T32*3% -> 689.73449 | W32: =$T32*3% -> 689.73449 | X32: =$T32*2% -> 459.823 | Y32: =$T32*4.5% -> 1034.6017 | Z32: =SUM(U32:Y32) -> 5402.9202 | AA32: =T32-Z32 -> 17588.23 | AB32: ='DATOS REFERENCIALES'!$D$10 -> 3040 | AC32: =IF((IF(H32>2042,('DATOS REFERENCIALES'!$D$9-(T32-U32-V32-W32-X32-Y32+AB32)+(S32-S32*0.235)),(('DATOS REFERENCIALES'!$D$9/2043)*H32)-(K32+N32+O32+P32+Q32+R32-U32-V32-W32-X32-Y32+AB32)))<0,0,IF(H32>2042,(('DATOS REFERENCIALES'!$D$9)-(T32-U32-V32-W32-X32-Y32+AB32)+(S32-S32*0.235)),(('DATOS REFERENCIALES'!$D$9/2043)*H32)-(K32+N32+O32+P32+Q32+R32-U32-V32-W32-X32-Y32+AB32))) -> 13671.77 | AD32: =SUM(AA32:AC32) -> 34300 | AE32: ='DATOS REFERENCIALES'!$D$13 -> 2420 | AG32: =IF($H32>2043,'DATOS REFERENCIALES'!D17,'DATOS REFERENCIALES'!D17/2043*$H32) -> 3000 | AH32: ='DATOS REFERENCIALES'!$D$12 -> 420 | AI32: =SUM(AD32:AH32) -> 40140 | AJ32: ='DATOS REFERENCIALES'!D16 -> 1544 | AK32: =AJ32*$AK$8 -> 362.84 | AL32: =AJ32-AK32 -> 1181.16 | AM32: =AI32+AL32 -> 41321.16
A33: 856 | B33: Maestro de Apoyo | C33: 0 | G33: 2043 | H33: =SUM(G33:G33) -> 2043 | K33: =H33*'DATOS REFERENCIALES'!$C$4 -> 13128.318 | N33: =LOOKUP(C33,'TABLA ANTIG.'!$A$4:$A$39,'TABLA ANTIG.'!$B$4:$B$39)*(K33) -> 0 | O33: =K33*0.1 -> 1312.8318 | P33: ='DATOS REFERENCIALES'!$D$8 -> 8550 | Q33: =LOOKUP(C33,'TABLA ANTIG.'!$A$4:$A$39,'TABLA ANTIG.'!$B$4:$B$39)*(P33) -> 0 | R33: 0 | S33: ='DATOS REFERENCIALES'!$D$14 -> 0 | T33: =K33+N33+O33+P33+Q33+R33+S33 -> 22991.15 | U33: =$T33*11% -> 2529.0265 | V33: =$T33*3% -> 689.73449 | W33: =$T33*3% -> 689.73449 | X33: =$T33*2% -> 459.823 | Y33: =$T33*4.5% -> 1034.6017 | Z33: =SUM(U33:Y33) -> 5402.9202 | AA33: =T33-Z33 -> 17588.23 | AB33: ='DATOS REFERENCIALES'!$D$10 -> 3040 | AC33: =IF((IF(H33>2042,('DATOS REFERENCIALES'!$D$9-(T33-U33-V33-W33-X33-Y33+AB33)+(S33-S33*0.235)),(('DATOS REFERENCIALES'!$D$9/2043)*H33)-(K33+N33+O33+P33+Q33+R33-U33-V33-W33-X33-Y33+AB33)))<0,0,IF(H33>2042,(('DATOS REFERENCIALES'!$D$9)-(T33-U33-V33-W33-X33-Y33+AB33)+(S33-S33*0.235)),(('DATOS REFERENCIALES'!$D$9/2043)*H33)-(K33+N33+O33+P33+Q33+R33-U33-V33-W33-X33-Y33+AB33))) -> 13671.77 | AD33: =SUM(AA33:AC33) -> 34300 | AE33: ='DATOS REFERENCIALES'!$D$13 -> 2420 | AG33: =IF($H32>2043,'DATOS REFERENCIALES'!D17,'DATOS REFERENCIALES'!D17/2043*$H32) -> 3000 | AH33: ='DATOS REFERENCIALES'!$D$12 -> 420 | AI33: =SUM(AD33:AH33) -> 40140 | AJ33: ='DATOS REFERENCIALES'!D16 -> 1544 | AK33: =AJ33*$AK$8 -> 362.84 | AL33: =AJ33-AK33 -> 1181.16 | AM33: =AI33+AL33 -> 41321.16
A34: 5566 | B34: Hora cátedra Maestro Especial | C34: 0 | D34: 1 | G34: 56 | H34: =SUM(G34:G34) -> 56 | K34: =(H34*'DATOS REFERENCIALES'!$C$4)*D34 -> 359.856 | N34: =LOOKUP(C34,'TABLA ANTIG.'!$A$4:$A$39,'TABLA ANTIG.'!$B$4:$B$39)*(K34) -> 0 | O34: =K34*0.1 -> 35.9856 | P34: =IF(D34>48,'DATOS REFERENCIALES'!$D$8+('DATOS REFERENCIALES'!$F$8*10),IF(D34<39,'DATOS REFERENCIALES'!$E$8*D34,((D34-'DATOS REFERENCIALES'!$I$8)*'DATOS REFERENCIALES'!$F$8)+'DATOS REFERENCIALES'!$D$8)) -> 225 | Q34: =LOOKUP(C34,'TABLA ANTIG.'!$A$4:$A$39,'TABLA ANTIG.'!$B$4:$B$39)*(P34) -> 0 | R34: 0 | S34: =IF(D34>29.99,'DATOS REFERENCIALES'!$D$14,'DATOS REFERENCIALES'!$E$14*D34) -> 0 | T34: =K34+N34+O34+P34+Q34+R34+S34 -> 620.8416 | U34: =$T34*11% -> 68.292576 | V34: =$T34*3% -> 18.625248 | W34: =$T34*3% -> 18.625248 | X34: =$T34*2% -> 12.416832 | Y34: =$T34*4.5% -> 27.937872 | Z34: =SUM(U34:Y34) -> 145.89778 | AA34: =T34-Z34 -> 474.94382 | AB34: =IF(D34>38,'DATOS REFERENCIALES'!$D$10,'DATOS REFERENCIALES'!$E$10*D34) -> 80 | AC34: =IF(D34>41,IF((('DATOS REFERENCIALES'!$D$9)-((T34-S34)-(Z34-S34*0.235)+(AB34)))<0,0,((('DATOS REFERENCIALES'!$D$9)-((T34-S34)-(Z34-S34*0.235)+(AB34))))),IF((('DATOS REFERENCIALES'!$E$9*D34)-(((T34-S34)-(Z34-S34*0.235)+(AB34))))<0,0,('DATOS REFERENCIALES'!$E$9*D34)-((T34-S34)-(Z34-S34*0.235)+(AB34)))) -> 302.55618 | AD34: =SUM(AA34:AC34) -> 857.5 | AE34: =IF(D34>30,'DATOS REFERENCIALES'!$D$13,('DATOS REFERENCIALES'!$E$13*D34)) -> 80.66666 | AG34: =IF(D21>'DATOS REFERENCIALES'!$I$17,'DATOS REFERENCIALES'!$D$17,('DATOS REFERENCIALES'!$E$17*D21)) -> 75 | AH34: =IF(D34>'DATOS REFERENCIALES'!$I$12,'DATOS REFERENCIALES'!$D$12,'DATOS REFERENCIALES'!$E$12*D34) -> 14 | AI34: =SUM(AD34:AH34) -> 1027.1667 | AJ34: =IF(D34>'DATOS REFERENCIALES'!$I$16,'DATOS REFERENCIALES'!$D$16,'DATOS REFERENCIALES'!$E$16*D34) -> 51.47 | AK34: =AJ34*$AK$8 -> 12.09545 | AL34: =AJ34-AK34 -> 39.37455 | AM34: =AI34+AL34 -> 1066.5412
A37: Primaria de Adultos | AE37: Primaria de Adultos
