Workbook
Name HORAS: Hoja1!$A$4:$A$43
Name OLE_LINK11: SUPERIOR!$AE$34

Sheet INICIAL
K3: UTILIZAR LA GRILLA A MODO DE EJEMPLO
A6: Grilla Salarial según ACTA PARITARIA desde MARZO 2020
A7: Ejemplos de liquidación salarial para cargos sin antigüedad en la docencia. Al incluir antigüedades, disminuye o desaparece el monto del C.M.G.
A8: Jardín de Infantes Común / Nivel Inicial - JORNADA SIMPLE | AB8: Jardín de Infantes Común / Nivel Inicial - JORNADA SIMPLE | AL8: 0.235
A9: Códigos | B9: Denominación del cargo | C9: AÑOS | D9: CANTIDAD DE HORAS | E9: SUBVENCIONADO | F9: CAJA COMPL. | G9: INDICE del Sueldo básico Unificado | H9: TOTAL DE INDICES | I9: INDICES JERARQUIZACION | J9: PLUS DIFERENCIAL POR ESTABLECIMIENTO | K9: Valor Sueldo Básico Unificado RB | L9: PLUS DIFERENCIAL POR JERARQUIZACIÓN | M9: PLUS DIFERENCIAL POR ESTABLECIMIENTO | N9: Antigüedad Docente | O9: Asig. Estímulo Educ. R/ NB (Presentismo) | P9: DECRETO 243/08 RB | Q9: Antigüedad Decreto 243/08 | R9: Art. 128 Estatuto Docente R/ NB | S9: Suma Fija Remun. No Bonif. | T9: Total Haberes Remunerat. | U9: Retenciones por aportes personales | Z9: Total Aportes | AA9: SUBTOTAL NETO SIN C.M.G. | AB9: MDM | AC9: Suma Fija No Remun. No Bonif. | AD9: C.M.G. | AE9: Sub Total Neto a cobrar | AF9: FONID / RESOLUC. Nº 02/04 neto | AG9: SUMA FIJA NO REMUN.Y NO BONIF. POR UNICA VEZ | AH9: 1 CUOTA EXTRAORDINARIA DE FONID | AI9: APORTE NAC. A MAT. DIDÁCTICO 2017 | AJ9: TOTAL NETO A COBRAR | AK9: Adicional Especial Remun no Bonif. | AL9: Total Aportes | AM9: NETO DEL ADICIO-NAL | AN9: NETO A COBRAR
U10: Jubilación 11% | V10: Obra Social 3% | W10: INSSJP - Ley 19032 3% | X10: Ley 24.016 Dec. 137/05 2% | Y10: Caja Compl. 4,5%
A11: 528 | B11: Director de Jardín de Infantes Independeniente | C11: 0 | G11: 1783 | H11: =SUM(G11:G11) -> 1783 | K11: =H11*'DATOS REFERENCIALES'!$C$4 -> 17109.311 | N11: =LOOKUP(C11,'TABLA ANTIG.'!$A$4:$A$39,'TABLA ANTIG.'!$B$4:$B$39)*(K11) -> 0 | O11: =(K11)*0.1 -> 1710.9311 | P11: ='DATOS REFERENCIALES'!$C$8 -> 6382 | Q11: =LOOKUP(C11,'TABLA ANTIG.'!$A$4:$A$39,'TABLA ANTIG.'!$B$4:$B$39)*(P11) -> 0 | R11: 0 | S11: =IF(C11>11,IF(H11>1134,'DATOS REFERENCIALES'!$C$18,'DATOS REFERENCIALES'!$C$18/1135*H11),0) -> 0 | T11: =K11+L11+M11+N11+O11+P11+Q11+R11+S11 -> 25202.243 | U11: =$T11*11% -> 2772.2467 | V11: =$T11*3% -> 756.06728 | W11: =$T11*3% -> 756.06728 | X11: =$T11*2% -> 504.04485 | Y11: =$T11*4.5% -> 1134.1009 | Z11: =SUM(U11:Y11) -> 5922.527 | AA11: =T11-Z11 -> 19279.716 | AB11: ='DATOS REFERENCIALES'!$C$10 -> 2270 | AC11: =IF(C11<12,IF(H11>1134,'DATOS REFERENCIALES'!$C$17,'DATOS REFERENCIALES'!$C$17/1135*H11),0) -> 2584 | AD11: =IF((IF(H11>1134,('DATOS REFERENCIALES'!$C$9-(T11-U11-V11-W11-X11-Y11+AB11+AC11)),(('DATOS REFERENCIALES'!$C$9/1135)*H11)-(K11+N11+O11+P11+Q11+S11-U11-V11-W11-X11-Y11+AB11+AC11)))<0,0,IF(H11>1134,(('DATOS REFERENCIALES'!$C$9)-(T11-U11-V11-W11-X11-Y11+AB11+AC11)),(('DATOS REFERENCIALES'!$C$9/1135)*H11)-(K11+N11+O11+P11+Q11+S11-U11-V11-W11-X11-Y11+AB11+AC11))) -> 4404.2845 | AE11: =SUM(AA11:AD11) -> 28538 | AF11: ='DATOS REFERENCIALES'!$C$13 -> 1210 | AG11: =IF($H11>1119,'DATOS REFERENCIALES'!#REF!,'DATOS REFERENCIALES'!#REF!/1120*$H11) -> #REF! | AH11: =+AF11 -> 1210 | AI11: ='DATOS REFERENCIALES'!$C$12 -> 210 | AJ11: =+AE11+AE12+AF11+AI11+AH11 -> 33831.602 | AK11: ='DATOS REFERENCIALES'!C16 -> 2022.305 | AL11: =AK11*$AL$8 -> 475.24167 | AM11: =AK11-AL11 -> 1547.0633 | AN11: =AJ11+AM11 -> 35378.665 | AO11: Para los cargos de Jardín se debe abonar un "suplememto no remunerativo y complementario" para quienes cobren 50% de las AAFF
A12: 528 | B12: Director de Jardín de Infantes Independeniente | C12: =IF(C11>0,C11,0) -> 0 | G12: 1783 | I12: =133.73/'DATOS REFERENCIALES'!$I$4*'DATOS REFERENCIALES'!$J$4 -> 222.88333 | J12: 1 turno y hasta 14 secciones. | L12: =I12*'DATOS REFERENCIALES'!$C$4 -> 2138.7439 | M12: =IF(J12='DATOS REFERENCIALES'!$C$31,INICIAL!K11*'DATOS REFERENCIALES'!$D$31,IF(J12='DATOS REFERENCIALES'!$C$32,('DATOS REFERENCIALES'!$D$32*INICIAL!K11),IF(J12='DATOS REFERENCIALES'!$C$33,('DATOS REFERENCIALES'!$D$33*INICIAL!K11),IF(J12='DATOS REFERENCIALES'!$C$34,('DATOS REFERENCIALES'!$D$34*INICIAL!K11),IF(J12='DATOS REFERENCIALES'!$C$35,('DATOS REFERENCIALES'!$D$35*INICIAL!K11),IF(J12='DATOS REFERENCIALES'!$C$36,('DATOS REFERENCIALES'!$D$36*INICIAL!K11),IF(J12='DATOS REFERENCIALES'!$C$37,('DATOS REFERENCIALES'!$D$37*INICIAL!K11),IF(J12='DATOS REFERENCIALES'!$C$38,('DATOS REFERENCIALES'!$D$38*INICIAL!K11),0)))))))) -> 1026.5587 | N12: =LOOKUP(C12,'TABLA ANTIG.'!$A$4:$A$39,'TABLA ANTIG.'!$B$4:$B$39)*(L12+M12) -> 0 | O12: =(L12+M12)*0.1 -> 316.53026 | T12: =L12+M12+O12+N12+P12+Q12+R12+S12 -> 3481.8328 | U12: =$T12*11% -> 383.00161 | V12: =$T12*3% -> 104.45498 | W12: =$T12*3% -> 104.45498 | X12: =$T12*2% -> 69.636657 | Y12: =$T12*4.5% -> 156.68248 | Z12: =SUM(U12:Y12) -> 818.23072 | AA12: =T12-Z12 -> 2663.6021 | AE12: =SUM(AA12:AD12) -> 2663.6021
A13: 579 | B13: Vicedirector | C13: 0 | G13: 1545 | H13: =SUM(G13:G13) -> 1545 | K13: =H13*'DATOS REFERENCIALES'!$C$4 -> 14825.511 | N13: =LOOKUP(C13,'TABLA ANTIG.'!$A$4:$A$39,'TABLA ANTIG.'!$B$4:$B$39)*(K13) -> 0 | O13: =(K13)*0.1 -> 1482.5511 | P13: ='DATOS REFERENCIALES'!$C$8 -> 6382 | Q13: =LOOKUP(C13,'TABLA ANTIG.'!$A$4:$A$39,'TABLA ANTIG.'!$B$4:$B$39)*(P13) -> 0 | R13: 0 | S13: =IF(C13>11,IF(H13>1134,'DATOS REFERENCIALES'!$C$18,'DATOS REFERENCIALES'!$C$18/1135*H13),0) -> 0 | T13: =K13+L13+M13+N13+O13+P13+Q13+R13+S13 -> 22690.062 | U13: =$T13*11% -> 2495.9068 | V13: =$T13*3% -> 680.70186 | W13: =$T13*3% -> 680.70186 | X13: =$T13*2% -> 453.80124 | Y13: =$T13*4.5% -> 1021.0528 | Z13: =SUM(U13:Y13) -> 5332.1646 | AA13: =T13-Z13 -> 17357.898 | AB13: ='DATOS REFERENCIALES'!$C$10 -> 2270 | AC13: =IF(C13<12,IF(H13>1134,'DATOS REFERENCIALES'!$C$17,'DATOS REFERENCIALES'!$C$17/1135*H13),0) -> 2584 | AD13: =IF((IF(H13>1134,('DATOS REFERENCIALES'!$C$9-(T13-U13-V13-W13-X13-Y13+AB13+AC13)),(('DATOS REFERENCIALES'!$C$9/1135)*H13)-(K13+N13+O13+P13+Q13+S13-U13-V13-W13-X13-Y13+AB13+AC13)))<0,0,IF(H13>1134,(('DATOS REFERENCIALES'!$C$9)-(T13-U13-V13-W13-X13-Y13+AB13+AC13)),(('DATOS REFERENCIALES'!$C$9/1135)*H13)-(K13+N13+O13+P13+Q13+S13-U13-V13-W13-X13-Y13+AB13+AC13))) -> 6326.1025 | AE13: =SUM(AA13:AD13) -> 28538 | AF13: ='DATOS REFERENCIALES'!$C$13 -> 1210 | AG13: =IF($H13>1119,'DATOS REFERENCIALES'!#REF!,'DATOS REFERENCIALES'!#REF!/1120*$H13) -> #REF! | AH13: =+AF13 -> 1210 | AI13: ='DATOS REFERENCIALES'!$C$12 -> 210 | AJ13: =+AE13+AE14+AF13+AI13+AH13 -> 32727.526 | AK13: ='DATOS REFERENCIALES'!C16 -> 2022.305 | AL13: =AK13*$AL$8 -> 475.24167 | AM13: =AK13-AL13 -> 1547.0633 | AN13: =AJ13+AM13 -> 34274.589
A14: 579 | B14: Vicedirector | C14: =IF(C13>0,C13,0) -> 0 | G14: 1545 | I14: =115.88/'DATOS REFERENCIALES'!$I$4*'DATOS REFERENCIALES'!$J$4 -> 193.13333 | L14: =I14*'DATOS REFERENCIALES'!$C$4 -> 1853.2688 | N14: =LOOKUP(C14,'TABLA ANTIG.'!$A$4:$A$39,'TABLA ANTIG.'!$B$4:$B$39)*(L14+M14) -> 0 | O14: =(L14+M14)*0.1 -> 185.32688 | T14: =K14+L14+M14+N14+O14+P14+Q14+R14+S14 -> 2038.5957 | U14: =$T14*11% -> 224.24553 | V14: =$T14*3% -> 61.157872 | W14: =$T14*3% -> 61.157872 | X14: =$T14*2% -> 40.771914 | Y14: =$T14*4.5% -> 91.736808 | Z14: =SUM(U14:Y14) -> 479.07 | AA14: =T14-Z14 -> 1559.5257 | AE14: =SUM(AA14:AD14) -> 1559.5257
A15: 544 | B15: Maestro Secretario | C15: 0 | G15: 1307 | H15: =SUM(G15:G15) -> 1307 | K15: =H15*'DATOS REFERENCIALES'!$C$4 -> 12541.711 | N15: =LOOKUP(C15,'TABLA ANTIG.'!$A$4:$A$39,'TABLA ANTIG.'!$B$4:$B$39)*(K15) -> 0 | O15: =(K15)*0.1 -> 1254.1711 | P15: ='DATOS REFERENCIALES'!$C$8 -> 6382 | Q15: =LOOKUP(C15,'TABLA ANTIG.'!$A$4:$A$39,'TABLA ANTIG.'!$B$4:$B$39)*(P15) -> 0 | R15: 0 | S15: =IF(C15>11,IF(H15>1134,'DATOS REFERENCIALES'!$C$18,'DATOS REFERENCIALES'!$C$18/1135*H15),0) -> 0 | T15: =K15+L15+M15+N15+O15+P15+Q15+R15+S15 -> 20177.882 | U15: =$T15*11% -> 2219.567 | V15: =$T15*3% -> 605.33645 | W15: =$T15*3% -> 605.33645 | X15: =$T15*2% -> 403.55763 | Y15: =$T15*4.5% -> 908.00467 | Z15: =SUM(U15:Y15) -> 4741.8022 | AA15: =T15-Z15 -> 15436.079 | AB15: ='DATOS REFERENCIALES'!$C$10 -> 2270 | AC15: =IF(C15<12,IF(H15>1134,'DATOS REFERENCIALES'!$C$17,'DATOS REFERENCIALES'!$C$17/1135*H15),0) -> 2584 | AD15: =IF((IF(H15>1134,('DATOS REFERENCIALES'!$C$9-(T15-U15-V15-W15-X15-Y15+AB15+AC15)),(('DATOS REFERENCIALES'!$C$9/1135)*H15)-(K15+N15+O15+P15+Q15+S15-U15-V15-W15-X15-Y15+AB15+AC15)))<0,0,IF(H15>1134,(('DATOS REFERENCIALES'!$C$9)-(T15-U15-V15-W15-X15-Y15+AB15+AC15)),(('DATOS REFERENCIALES'!$C$9/1135)*H15)-(K15+N15+O15+P15+Q15+S15-U15-V15-W15-X15-Y15+AB15+AC15))) -> 8247.9205 | AE15: =SUM(AA15:AD15) -> 28538 | AF15: ='DATOS REFERENCIALES'!$C$13 -> 1210 | AG15: =IF($H15>1119,'DATOS REFERENCIALES'!#REF!,'DATOS REFERENCIALES'!#REF!/1120*$H15) -> #REF! | AH15: =+AF15 -> 1210 | AI15: ='DATOS REFERENCIALES'!$C$12 -> 210 | AJ15: =+AE15+AE16+AF15+AI15+AH15 -> 32487.298 | AK15: ='DATOS REFERENCIALES'!C16 -> 2022.305 | AL15: =AK15*$AL$8 -> 475.24167 | AM15: =AK15-AL15 -> 1547.0633 | AN15: =AJ15+AM15 -> 34034.362
A16: 544 | B16: Maestro Secretario | C16: =IF(C15>0,C15,0) -> 0 | G16: 1307 | I16: =98.03/'DATOS REFERENCIALES'!$I$4*'DATOS REFERENCIALES'!$J$4 -> 163.38333 | L16: =I16*'DATOS REFERENCIALES'!$C$4 -> 1567.7938 | N16: =LOOKUP(C16,'TABLA ANTIG.'!$A$4:$A$39,'TABLA ANTIG.'!$B$4:$B$39)*(L16+M16) -> 0 | O16: =(L16+M16)*0.1 -> 156.77938 | T16: =K16+L16+M16+N16+O16+P16+Q16+R16+S16 -> 1724.5732 | U16: =$T16*11% -> 189.70305 | V16: =$T16*3% -> 51.737195 | W16: =$T16*3% -> 51.737195 | X16: =$T16*2% -> 34.491463 | Y16: =$T16*4.5% -> 77.605793 | Z16: =SUM(U16:Y16) -> 405.27469 | AA16: =T16-Z16 -> 1319.2985 | AE16: =SUM(AA16:AD16) -> 1319.2985
A17: 543 | B17: Maestro Jardinera/Sección | C17: 0 | G17: 1120 | H17: 1135 | K17: =H17*'DATOS REFERENCIALES'!$C$4 -> 10891.233 | N17: =LOOKUP(C17,'TABLA ANTIG.'!$A$4:$A$39,'TABLA ANTIG.'!$B$4:$B$39)*(K17+L17+M17) -> 0 | O17: =(K17+L17+M17)*0.1 -> 1089.1233 | P17: ='DATOS REFERENCIALES'!$C$8 -> 6382 | Q17: =LOOKUP(C17,'TABLA ANTIG.'!$A$4:$A$39,'TABLA ANTIG.'!$B$4:$B$39)*(P17) -> 0 | R17: 0 | S17: =IF(C17>11,IF(H17>1134,'DATOS REFERENCIALES'!$C$18,'DATOS REFERENCIALES'!$C$18/1135*H17),0) -> 0 | T17: =K17+L17+M17+N17+O17+P17+Q17+R17+S17 -> 18362.356 | U17: =$T17*11% -> 2019.8592 | V17: =$T17*3% -> 550.87069 | W17: =$T17*3% -> 550.87069 | X17: =$T17*2% -> 367.24713 | Y17: =$T17*4.5% -> 826.30603 | Z17: =SUM(U17:Y17) -> 4315.1537 | AA17: =T17-Z17 -> 14047.203 | AB17: ='DATOS REFERENCIALES'!$C$10 -> 2270 | AC17: =IF(C17<12,IF(H17>1134,'DATOS REFERENCIALES'!$C$17,'DATOS REFERENCIALES'!$C$17/1135*H17),0) -> 2584 | AD17: =IF((IF(H17>1134,('DATOS REFERENCIALES'!$C$9-(T17-U17-V17-W17-X17-Y17+AB17+AC17)),(('DATOS REFERENCIALES'!$C$9/1135)*H17)-(K17+N17+O17+P17+Q17+S17-U17-V17-W17-X17-Y17+AB17+AC17)))<0,0,IF(H17>1134,(('DATOS REFERENCIALES'!$C$9)-(T17-U17-V17-W17-X17-Y17+AB17+AC17)),(('DATOS REFERENCIALES'!$C$9/1135)*H17)-(K17+N17+O17+P17+Q17+S17-U17-V17-W17-X17-Y17+AB17+AC17))) -> 9636.7974 | AE17: =SUM(AA17:AD17) -> 28538 | AF17: ='DATOS REFERENCIALES'!$C$13 -> 1210 | AG17: =IF(H17>1119,'DATOS REFERENCIALES'!#REF!,'DATOS REFERENCIALES'!#REF!/1120*H17) -> #REF! | AH17: =+AF17 -> 1210 | AI17: ='DATOS REFERENCIALES'!$C$12 -> 210 | AJ17: =+AE17+AF17+AI17+AH17 -> 31168 | AK17: ='DATOS REFERENCIALES'!$C$16 -> 2022.305 | AL17: =AK17*$AL$8 -> 475.24167 | AM17: =AK17-AL17 -> 1547.0633 | AN17: =AJ17+AM17 -> 32715.063
A18: 906 | B18: Maestro de Apoyo | C18: 0 | G18: 1120 | H18: 1135 | K18: =H18*'DATOS REFERENCIALES'!$C$4 -> 10891.233 | N18: =LOOKUP(C18,'TABLA ANTIG.'!$A$4:$A$39,'TABLA ANTIG.'!$B$4:$B$39)*(K18+L18+M18) -> 0 | O18: =(K18+L18+M18)*0.1 -> 1089.1233 | P18: ='DATOS REFERENCIALES'!$C$8 -> 6382 | Q18: =LOOKUP(C18,'TABLA ANTIG.'!$A$4:$A$39,'TABLA ANTIG.'!$B$4:$B$39)*(P18) -> 0 | R18: 0 | S18: =IF(C18>11,IF(H18>1134,'DATOS REFERENCIALES'!$C$18,'DATOS REFERENCIALES'!$C$18/1135*H18),0) -> 0 | T18: =K18+L18+M18+N18+O18+P18+Q18+R18+S18 -> 18362.356 | U18: =$T18*11% -> 2019.8592 | V18: =$T18*3% -> 550.87069 | W18: =$T18*3% -> 550.87069 | X18: =$T18*2% -> 367.24713 | Y18: =$T18*4.5% -> 826.30603 | Z18: =SUM(U18:Y18) -> 4315.1537 | AA18: =T18-Z18 -> 14047.203 | AB18: ='DATOS REFERENCIALES'!$C$10 -> 2270 | AC18: =IF(C18<12,IF(H18>1134,'DATOS REFERENCIALES'!$C$17,'DATOS REFERENCIALES'!$C$17/1135*H18),0) -> 2584 | AD18: =IF((IF(H18>1134,('DATOS REFERENCIALES'!$C$9-(T18-U18-V18-W18-X18-Y18+AB18+AC18)),(('DATOS REFERENCIALES'!$C$9/1135)*H18)-(K18+N18+O18+P18+Q18+S18-U18-V18-W18-X18-Y18+AB18+AC18)))<0,0,IF(H18>1134,(('DATOS REFERENCIALES'!$C$9)-(T18-U18-V18-W18-X18-Y18+AB18+AC18)),(('DATOS REFERENCIALES'!$C$9/1135)*H18)-(K18+N18+O18+P18+Q18+S18-U18-V18-W18-X18-Y18+AB18+AC18))) -> 9636.7974 | AE18: =SUM(AA18:AD18) -> 28538 | AF18: ='DATOS REFERENCIALES'!$C$13 -> 1210 | AG18: =IF(H18>1119,'DATOS REFERENCIALES'!#REF!,'DATOS REFERENCIALES'!#REF!/1120*H18) -> #REF! | AH18: =+AF18 -> 1210 | AI18: ='DATOS REFERENCIALES'!$C$12 -> 210 | AJ18: =+AE18+AF18+AI18+AH18 -> 31168 | AK18: ='DATOS REFERENCIALES'!$C$16 -> 2022.305 | AL18: =AK18*$AL$8 -> 475.24167 | AM18: =AK18-AL18 -> 1547.0633 | AN18: =AJ18+AM18 -> 32715.063
A19: 907 | B19: Maestro de Apoyo para la integración | C19: 0 | G19: 1120 | H19: 1135 | K19: =H19*'DATOS REFERENCIALES'!$C$4 -> 10891.233 | N19: =LOOKUP(C19,'TABLA ANTIG.'!$A$4:$A$39,'TABLA ANTIG.'!$B$4:$B$39)*(K19+L19+M19) -> 0 | O19: =(K19+L19+M19)*0.1 -> 1089.1233 | P19: ='DATOS REFERENCIALES'!$C$8 -> 6382 | Q19: =LOOKUP(C19,'TABLA ANTIG.'!$A$4:$A$39,'TABLA ANTIG.'!$B$4:$B$39)*(P19) -> 0 | R19: 0 | S19: =IF(C19>11,IF(H19>1134,'DATOS REFERENCIALES'!$C$18,'DATOS REFERENCIALES'!$C$18/1135*H19),0) -> 0 | T19: =K19+L19+M19+N19+O19+P19+Q19+R19+S19 -> 18362.356 | U19: =$T19*11% -> 2019.8592 | V19: =$T19*3% -> 550.87069 | W19: =$T19*3% -> 550.87069 | X19: =$T19*2% -> 367.24713 | Y19: =$T19*4.5% -> 826.30603 | Z19: =SUM(U19:Y19) -> 4315.1537 | AA19: =T19-Z19 -> 14047.203 | AB19: ='DATOS REFERENCIALES'!$C$10 -> 2270 | AC19: =IF(C19<12,IF(H19>1134,'DATOS REFERENCIALES'!$C$17,'DATOS REFERENCIALES'!$C$17/1135*H19),0) -> 2584 | AD19: =IF((IF(H19>1134,('DATOS REFERENCIALES'!$C$9-(T19-U19-V19-W19-X19-Y19+AB19+AC19)),(('DATOS REFERENCIALES'!$C$9/1135)*H19)-(K19+N19+O19+P19+Q19+S19-U19-V19-W19-X19-Y19+AB19+AC19)))<0,0,IF(H19>1134,(('DATOS REFERENCIALES'!$C$9)-(T19-U19-V19-W19-X19-Y19+AB19+AC19)),(('DATOS REFERENCIALES'!$C$9/1135)*H19)-(K19+N19+O19+P19+Q19+S19-U19-V19-W19-X19-Y19+AB19+AC19))) -> 9636.7974 | AE19: =SUM(AA19:AD19) -> 28538 | AF19: ='DATOS REFERENCIALES'!$C$13 -> 1210 | AG19: =IF(H19>1119,'DATOS REFERENCIALES'!#REF!,'DATOS REFERENCIALES'!#REF!/1120*H19) -> #REF! | AH19: =+AF19 -> 1210 | AI19: ='DATOS REFERENCIALES'!$C$12 -> 210 | AJ19: =+AE19+AF19+AI19+AH19 -> 31168 | AK19: ='DATOS REFERENCIALES'!$C$16 -> 2022.305 | AL19: =AK19*$AL$8 -> 475.24167 | AM19: =AK19-AL19 -> 1547.0633 | AN19: =AJ19+AM19 -> 32715.063
A20: 889 | B20: Maestro Celador | C20: 0 | G20: 981.5 | H20: =SUM(G20:G20) -> 981.5 | K20: =H20*'DATOS REFERENCIALES'!$C$4 -> 9418.2777 | N20: =LOOKUP(C20,'TABLA ANTIG.'!$A$4:$A$39,'TABLA ANTIG.'!$B$4:$B$39)*(K20+L20+M20) -> 0 | O20: =(K20+L20+M20)*0.1 -> 941.82777 | P20: ='DATOS REFERENCIALES'!$C$8 -> 6382 | Q20: =LOOKUP(C20,'TABLA ANTIG.'!$A$4:$A$39,'TABLA ANTIG.'!$B$4:$B$39)*(P20) -> 0 | R20: 0 | S20: =IF(C20>11,IF(H20>1134,'DATOS REFERENCIALES'!$C$18,'DATOS REFERENCIALES'!$C$18/1135*H20),0) -> 0 | T20: =K20+L20+M20+N20+O20+P20+Q20+R20+S20 -> 16742.105 | U20: =$T20*11% -> 1841.6316 | V20: =$T20*3% -> 502.26316 | W20: =$T20*3% -> 502.26316 | X20: =$T20*2% -> 334.84211 | Y20: =$T20*4.5% -> 753.39475 | Z20: =SUM(U20:Y20) -> 3934.3948 | AA20: =T20-Z20 -> 12807.711 | AB20: ='DATOS REFERENCIALES'!$C$10 -> 2270 | AC20: =IF(C20<12,IF(H20>1134,'DATOS REFERENCIALES'!$C$17,'DATOS REFERENCIALES'!$C$17/1135*H20),0) -> 2234.5339 | AD20: =IF((IF(H20>1134,('DATOS REFERENCIALES'!$C$9-(T20-U20-V20-W20-X20-Y20+AB20+AC20)),(('DATOS REFERENCIALES'!$C$9/1135)*H20)-(K20+N20+O20+P20+Q20+S20-U20-V20-W20-X20-Y20+AB20+AC20)))<0,0,IF(H20>1134,(('DATOS REFERENCIALES'!$C$9)-(T20-U20-V20-W20-X20-Y20+AB20+AC20)),(('DATOS REFERENCIALES'!$C$9/1135)*H20)-(K20+N20+O20+P20+Q20+S20-U20-V20-W20-X20-Y20+AB20+AC20))) -> 7366.2109 | AE20: =SUM(AA20:AD20) -> 24678.456 | AF20: ='DATOS REFERENCIALES'!$C$13 -> 1210 | AG20: =IF(H20>1119,'DATOS REFERENCIALES'!#REF!,'DATOS REFERENCIALES'!#REF!/1120*H20) -> #REF! | AH20: =+AF20 -> 1210 | AI20: ='DATOS REFERENCIALES'!$C$12 -> 210 | AJ20: =+AE20+AF20+AI20+AH20 -> 27308.456 | AK20: ='DATOS REFERENCIALES'!$C$16 -> 2022.305 | AL20: =AK20*$AL$8 -> 475.24167 | AM20: =AK20-AL20 -> 1547.0633 | AN20: =AJ20+AM20 -> 28855.519
A21: 566 | B21: Hora cátedra Maestro Especial | C21: 0 | D21: 1 | G21: 56 | H21: =SUM(G21:G21) -> 56 | K21: =(H21*'DATOS REFERENCIALES'!$C$4)*D21 -> 537.3648 | N21: =LOOKUP(C21,'TABLA ANTIG.'!$A$4:$A$39,'TABLA ANTIG.'!$B$4:$B$39)*(K21+L21+M21) -> 0 | O21: =(K21+L21+M21)*0.1 -> 53.73648 | P21: =IF(D21>48,'DATOS REFERENCIALES'!D8+('DATOS REFERENCIALES'!F8*10),IF(D21<39,'DATOS REFERENCIALES'!$E$8*D21,((D21-'DATOS REFERENCIALES'!$I$8)*'DATOS REFERENCIALES'!$F$8)+'DATOS REFERENCIALES'!D8)) -> 335.89474 | Q21: =LOOKUP(C21,'TABLA ANTIG.'!$A$4:$A$39,'TABLA ANTIG.'!$B$4:$B$39)*(P21) -> 0 | R21: 0 | S21: =IF(C21>11,IF(H21>1134,'DATOS REFERENCIALES'!$C$18,'DATOS REFERENCIALES'!$C$18/20*D21),0) -> 0 | T21: =K21+L21+M21+N21+O21+P21+Q21+R21+S21 -> 926.99602 | U21: =$T21*11% -> 101.96956 | V21: =$T21*3% -> 27.809881 | W21: =$T21*3% -> 27.809881 | X21: =$T21*2% -> 18.53992 | Y21: =$T21*4.5% -> 41.714821 | Z21: =SUM(U21:Y21) -> 217.84406 | AA21: =T21-Z21 -> 709.15195 | AB21: =IF(D21>38,'DATOS REFERENCIALES'!$D$10,'DATOS REFERENCIALES'!$E$10*D21) -> 119.47368 | AC21: =IF(C21<12,IF(H21>1134,'DATOS REFERENCIALES'!$C$17,'DATOS REFERENCIALES'!$C$17/20*D21),0) -> 129.2 | AD21: =IF(D21>41,IF((('DATOS REFERENCIALES'!$D$9)-((T21)+(AB21)+(AC21)))<0,0,((('DATOS REFERENCIALES'!$D$9)-((T21)-(Z21)+(AB21)+(AC21))))),IF((('DATOS REFERENCIALES'!$E$9*D21)-(((T21)+(AB21)+(AC21))))<0,0,('DATOS REFERENCIALES'!$E$9*D21)-((T21)-(Z21)+(AB21)+(AC21)))) -> 469.07436 | AE21: =SUM(AA21:AD21) -> 1426.9 | AF21: =IF(D21>'DATOS REFERENCIALES'!$I$13,'DATOS REFERENCIALES'!$D$13,('DATOS REFERENCIALES'!$E$13*D21)) -> 80.666667 | AG21: =IF(D21>'DATOS REFERENCIALES'!#REF!,'DATOS REFERENCIALES'!#REF!,('DATOS REFERENCIALES'!#REF!*D21)) -> #REF! | AH21: =+AF21 -> 80.666667 | AI21: =IF(D21>'DATOS REFERENCIALES'!$I$12,'DATOS REFERENCIALES'!$D$12,'DATOS REFERENCIALES'!$E$12*D21) -> 14 | AJ21: =+AE21+AF21+AI21+AH21 -> 1602.2333 | AK21: =IF(D21>'DATOS REFERENCIALES'!$I$16,'DATOS REFERENCIALES'!$D$16,'DATOS REFERENCIALES'!$E$16*D21) -> 134.82033 | AL21: =AK21*$AL$8 -> 31.682778 | AM21: =AK21-AL21 -> 103.13756 | AN21: =AJ21+AM21 -> 1705.3709
A23: Jardín de Infantes Común / Nivel Inicial - JORNADA COMPLETA | AB23: Jardín de Infantes Común / Nivel Inicial- JORNADA COMPLETA | AL23: 0.235
A24: Códigos | B24: Denominación del cargo | C24: AÑOS | D24: CANTIDAD DE HORAS | E24: SUBVENCIONADO | F24: CAJA COMPL. | G24: INDICE del Sueldo básico Unificado | H24: TOTAL DE INDICES | I24: INDICES JERARQUIZACION | J24: PLUS DIFERENCIAL POR ESTABLECIMIENTO | K24: Valor Sueldo Básico Unificado RB | L24: PLUS DIFERENCIAL POR JERARQUIZACIÓN | M24: PLUS DIFERENCIAL POR ESTABLECIMIENTO | N24: Antigüedad Docente | O24: Asig. Estímulo Educ. R/ NB (Presentismo) | P24: DECRETO 243/08 RB | Q24: Antigüedad Decreto 243/08 | R24: Art. 128 Estatuto Docente R/ NB | S24: Suma Fija Remun. No Bonif. | T24: Total Haberes Remunerat. | U24: Retenciones por aportes personales | Z24: Total Aportes | AA24: SUBTOTAL NETO SIN C.M.G. | AB24: MDM | AC24: Suma Fija No Remun. No Bonif. | AD24: C.M.G. | AE24: Sub Total Neto a cobrar | AF24: FONID / RESOLUC. Nº 02/04 neto | AG24: SUMA FIJA NO REMUN.Y NO BONIF. POR UNICA VEZ | AH24: 1 CUOTA EXTRAORDINARIA DE FONID | AI24: APORTE NAC. A MAT. DIDÁCTICO 2017 | AJ24: TOTAL NETO A COBRAR | AK24: Adicional Especial Remun no Bonif. | AL24: Total Aportes | AM24: NETO DEL ADICIO-NAL | AN24: NETO A COBRAR
U25: Jubilación 11% | V25: Obra Social 3% | W25: INSSJP - Ley 19032 3% | X25: Ley 24.016 Dec. 137/05 2% | Y25: Caja Compl. 4,5%
A26: 835 | B26: Director de Jardín de Infantes | C26: 0 | G26: 3125 | H26: =SUM(G26:G26) -> 3125 | K26: =H26*'DATOS REFERENCIALES'!$C$4 -> 29986.875 | N26: =LOOKUP(C26,'TABLA ANTIG.'!$A$4:$A$39,'TABLA ANTIG.'!$B$4:$B$39)*(K26) -> 0 | O26: =(K26)*0.1 -> 2998.6875 | P26: ='DATOS REFERENCIALES'!$D$8 -> 12764 | Q26: =LOOKUP(C26,'TABLA ANTIG.'!$A$4:$A$39,'TABLA ANTIG.'!$B$4:$B$39)*(P26) -> 0 | R26: 0 | S26: =IF(C26>11,IF(H26>2069,'DATOS REFERENCIALES'!$D$18,'DATOS REFERENCIALES'!$D$18/2070*H26),0) -> 0 | T26: =K26+L26+M26+N26+O26+P26+Q26+R26+S26 -> 45749.562 | U26: =$T26*11% -> 5032.4519 | V26: =$T26*3% -> 1372.4869 | W26: =$T26*3% -> 1372.4869 | X26: =$T26*2% -> 914.99125 | Y26: =$T26*4.5% -> 2058.7303 | Z26: =SUM(U26:Y26) -> 10751.147 | AA26: =T26-Z26 -> 34998.415 | AB26: ='DATOS REFERENCIALES'!$D$10 -> 4540 | AC26: =IF(C26<12,IF(H26>2069,'DATOS REFERENCIALES'!$D$17,'DATOS REFERENCIALES'!$D$17/2070*H26),0) -> 5168 | AD26: =IF((IF(H26>2069,('DATOS REFERENCIALES'!$D$9-(T26-U26-V26-W26-X26-Y26+AB26+AC26)),(('DATOS REFERENCIALES'!$D$9/2070)*H26)-(K26+N26+O26+P26+Q26+S26-U26-V26-W26-X26-Y26+AB26+AC26)))<0,0,IF(H26>2070,(('DATOS REFERENCIALES'!$D$9)-(T26-U26-V26-W26-X26-Y26+AB26+AC26)),(('DATOS REFERENCIALES'!$D$9/2070)*H26)-(K26+N26+O26+P26+Q26+S26-U26-V26-W26-X26-Y26+AB26+AC26))) -> 12369.585 | AE26: =SUM(AA26:AD26) -> 57076 | AF26: ='DATOS REFERENCIALES'!$D$13 -> 2420 | AG26: =IF($H26>2042,'DATOS REFERENCIALES'!#REF!,'DATOS REFERENCIALES'!#REF!/2043*$H26) -> #REF! | AH26: =+AF26 -> 2420 | AI26: ='DATOS REFERENCIALES'!$D$12 -> 420 | AJ26: =+AE26+AE27+AF26+AI26+AH26 -> 67004.349 | AK26: ='DATOS REFERENCIALES'!D16 -> 4044.61 | AL26: =AK26*$AL$8 -> 950.48335 | AM26: =AK26-AL26 -> 3094.1267 | AN26: =AJ26+AM26 -> 70098.476
A27: 835 | B27: Director de Jardín de Infantes | C27: =IF(C26>0,C26,0) -> 0 | I27: =234.38/'DATOS REFERENCIALES'!$I$4*'DATOS REFERENCIALES'!$J$4 -> 390.63333 | J27: 1 turno y hasta 14 secciones. | L27: =I27*'DATOS REFERENCIALES'!$C$4 -> 3748.4393 | M27: =IF(J27='DATOS REFERENCIALES'!$C$31,INICIAL!K26*'DATOS REFERENCIALES'!$D$31,IF(J27='DATOS REFERENCIALES'!$C$32,('DATOS REFERENCIALES'!$D$32*INICIAL!K26),IF(J27='DATOS REFERENCIALES'!$C$33,('DATOS REFERENCIALES'!$D$33*INICIAL!K26),IF(J27='DATOS REFERENCIALES'!$C$34,('DATOS REFERENCIALES'!$D$34*INICIAL!K26),IF(J27='DATOS REFERENCIALES'!$C$35,('DATOS REFERENCIALES'!$D$35*INICIAL!K26),IF(J27='DATOS REFERENCIALES'!$C$36,('DATOS REFERENCIALES'!$D$36*INICIAL!K26),IF(J27='DATOS REFERENCIALES'!$C$37,('DATOS REFERENCIALES'!$D$37*INICIAL!K26),IF(J27='DATOS REFERENCIALES'!$C$38,('DATOS REFERENCIALES'!$D$38*INICIAL!K26),0)))))))) -> 1799.2125 | N27: =LOOKUP(C27,'TABLA ANTIG.'!$A$4:$A$39,'TABLA ANTIG.'!$B$4:$B$39)*(L27+M27) -> 0 | O27: =(L27+M27)*0.1 -> 554.76518 | T27: =K27+L27+M27+N27+O27+P27+Q27+R27 -> 6102.417 | U27: =$T27*11% -> 671.26587 | V27: =$T27*3% -> 183.07251 | W27: =$T27*3% -> 183.07251 | X27: =$T27*2% -> 122.04834 | Y27: =$T27*4.5% -> 274.60877 | Z27: =SUM(U27:Y27) -> 1434.068 | AA27: =T27-Z27 -> 4668.349 | AE27: =SUM(AA27:AD27) -> 4668.349
A28: 877 | B28: Vicedirector de Jardín de Infantes | C28: 0 | G28: 2667 | H28: =SUM(G28:G28) -> 2667 | K28: =H28*'DATOS REFERENCIALES'!$C$4 -> 25591.999 | N28: =LOOKUP(C28,'TABLA ANTIG.'!$A$4:$A$39,'TABLA ANTIG.'!$B$4:$B$39)*(K28) -> 0 | O28: =(K28)*0.1 -> 2559.1999 | P28: ='DATOS REFERENCIALES'!$D$8 -> 12764 | Q28: =LOOKUP(C28,'TABLA ANTIG.'!$A$4:$A$39,'TABLA ANTIG.'!$B$4:$B$39)*(P28) -> 0 | R28: 0 | S28: =IF(C28>11,IF(H28>2069,'DATOS REFERENCIALES'!$D$18,'DATOS REFERENCIALES'!$D$18/2070*H28),0) -> 0 | T28: =K28+L28+M28+N28+O28+P28+Q28+R28+S28 -> 40915.198 | U28: =$T28*11% -> 4500.6718 | V28: =$T28*3% -> 1227.456 | W28: =$T28*3% -> 1227.456 | X28: =$T28*2% -> 818.30397 | Y28: =$T28*4.5% -> 1841.1839 | Z28: =SUM(U28:Y28) -> 9615.0716 | AA28: =T28-Z28 -> 31300.127 | AB28: ='DATOS REFERENCIALES'!$D$10 -> 4540 | AC28: =IF(C28<12,IF(H28>2069,'DATOS REFERENCIALES'!$D$17,'DATOS REFERENCIALES'!$D$17/2070*H28),0) -> 5168 | AD28: =IF((IF(H28>2069,('DATOS REFERENCIALES'!$D$9-(T28-U28-V28-W28-X28-Y28+AB28+AC28)),(('DATOS REFERENCIALES'!$D$9/2070)*H28)-(K28+N28+O28+P28+Q28+S28-U28-V28-W28-X28-Y28+AB28+AC28)))<0,0,IF(H28>2070,(('DATOS REFERENCIALES'!$D$9)-(T28-U28-V28-W28-X28-Y28+AB28+AC28)),(('DATOS REFERENCIALES'!$D$9/2070)*H28)-(K28+N28+O28+P28+Q28+S28-U28-V28-W28-X28-Y28+AB28+AC28))) -> 16067.873 | AE28: =SUM(AA28:AD28) -> 57076 | AF28: ='DATOS REFERENCIALES'!$D$13 -> 2420 | AG28: =IF($H28>2042,'DATOS REFERENCIALES'!#REF!,'DATOS REFERENCIALES'!#REF!/2043*$H28) -> #REF! | AH28: =+AF28 -> 2420 | AI28: ='DATOS REFERENCIALES'!$D$12 -> 420 | AJ28: =+AE28+AE29+AF28+AI28+AH28 -> 65028.026 | AK28: ='DATOS REFERENCIALES'!D16 -> 4044.61 | AL28: =AK28*$AL$8 -> 950.48335 | AM28: =AK28-AL28 -> 3094.1267 | AN28: =AJ28+AM28 -> 68122.152
A29: 877 | B29: Vicedirector de Jardín de Infantes | C29: =IF(C28>0,C28,0) -> 0 | I29: =200.03/'DATOS REFERENCIALES'!$I$4*'DATOS REFERENCIALES'!$J$4 -> 333.38333 | L29: =I29*'DATOS REFERENCIALES'!$C$4 -> 3199.0798 | N29: =LOOKUP(C29,'TABLA ANTIG.'!$A$4:$A$39,'TABLA ANTIG.'!$B$4:$B$39)*(L29+M29) -> 0 | O29: =(L29+M29)*0.1 -> 319.90798 | T29: =K29+L29+M29+N29+O29+P29+Q29+R29 -> 3518.9878 | U29: =$T29*11% -> 387.08865 | V29: =$T29*3% -> 105.56963 | W29: =$T29*3% -> 105.56963 | X29: =$T29*2% -> 70.379755 | Y29: =$T29*4.5% -> 158.35445 | Z29: =SUM(U29:Y29) -> 826.96213 | AA29: =T29-Z29 -> 2692.0256 | AE29: =SUM(AA29:AD29) -> 2692.0256
A30: 838 | B30: Maestro Secretario | C30: 0 | G30: 2359 | H30: =SUM(G30:G30) -> 2359 | K30: =H30*'DATOS REFERENCIALES'!$C$4 -> 22636.492 | N30: =LOOKUP(C30,'TABLA ANTIG.'!$A$4:$A$39,'TABLA ANTIG.'!$B$4:$B$39)*(K30+L30+M30) -> 0 | O30: =(K30)*0.1 -> 2263.6492 | P30: ='DATOS REFERENCIALES'!$D$8 -> 12764 | Q30: =LOOKUP(C30,'TABLA ANTIG.'!$A$4:$A$39,'TABLA ANTIG.'!$B$4:$B$39)*(P30) -> 0 | R30: 0 | S30: =IF(C30>11,IF(H30>2069,'DATOS REFERENCIALES'!$D$18,'DATOS REFERENCIALES'!$D$18/2070*H30),0) -> 0 | T30: =K30+L30+M30+N30+O30+P30+Q30+R30+S30 -> 37664.141 | U30: =$T30*11% -> 4143.0556 | V30: =$T30*3% -> 1129.9242 | W30: =$T30*3% -> 1129.9242 | X30: =$T30*2% -> 753.28283 | Y30: =$T30*4.5% -> 1694.8864 | Z30: =SUM(U30:Y30) -> 8851.0732 | AA30: =T30-Z30 -> 28813.068 | AB30: ='DATOS REFERENCIALES'!$D$10 -> 4540 | AC30: =IF(C30<12,IF(H30>2069,'DATOS REFERENCIALES'!$D$17,'DATOS REFERENCIALES'!$D$17/2070*H30),0) -> 5168 | AD30: =IF((IF(H30>2069,('DATOS REFERENCIALES'!$D$9-(T30-U30-V30-W30-X30-Y30+AB30+AC30)),(('DATOS REFERENCIALES'!$D$9/2070)*H30)-(K30+N30+O30+P30+Q30+S30-U30-V30-W30-X30-Y30+AB30+AC30)))<0,0,IF(H30>2070,(('DATOS REFERENCIALES'!$D$9)-(T30-U30-V30-W30-X30-Y30+AB30+AC30)),(('DATOS REFERENCIALES'!$D$9/2070)*H30)-(K30+N30+O30+P30+Q30+S30-U30-V30-W30-X30-Y30+AB30+AC30))) -> 18554.932 | AE30: =SUM(AA30:AD30) -> 57076 | AF30: ='DATOS REFERENCIALES'!$D$13 -> 2420 | AG30: =IF($H30>2042,'DATOS REFERENCIALES'!#REF!,'DATOS REFERENCIALES'!#REF!/2043*$H30) -> #REF! | AH30: =+AF30 -> 2420 | AI30: ='DATOS REFERENCIALES'!$D$12 -> 420 | AJ30: =+AE30+AE31+AF30+AI30+AH30 -> 64717.143 | AK30: ='DATOS REFERENCIALES'!D16 -> 4044.61 | AL30: =AK30*$AL$8 -> 950.48335 | AM30: =AK30-AL30 -> 3094.1267 | AN30: =AJ30+AM30 -> 67811.27
A31: 838 | B31: Maestro Secretario | C31: =IF(C30>0,C30,0) -> 0 | I31: =176.93/'DATOS REFERENCIALES'!$I$4*'DATOS REFERENCIALES'!$J$4 -> 294.88333 | L31: =I31*'DATOS REFERENCIALES'!$C$4 -> 2829.6415 | N31: =LOOKUP(C31,'TABLA ANTIG.'!$A$4:$A$39,'TABLA ANTIG.'!$B$4:$B$39)*(K31+L31+M31) -> 0 | O31: =(L31+M31)*0.1 -> 282.96415 | T31: =K31+L31+M31+N31+O31+P31+Q31+R31 -> 3112.6056 | U31: =$T31*11% -> 342.38662 | V31: =$T31*3% -> 93.378169 | W31: =$T31*3% -> 93.378169 | X31: =$T31*2% -> 62.252113 | Y31: =$T31*4.5% -> 140.06725 | Z31: =SUM(U31:Y31) -> 731.46233 | AA31: =T31-Z31 -> 2381.1433 | AE31: =SUM(AA31:AD31) -> 2381.1433
A32: 906 | B32: Maestro Jardinera/Sección | C32: 0 | G32: 2240 | H32: =SUM(G32:G32) -> 2240 | K32: =H32*'DATOS REFERENCIALES'!$C$4 -> 21494.592 | N32: =LOOKUP(C32,'TABLA ANTIG.'!$A$4:$A$39,'TABLA ANTIG.'!$B$4:$B$39)*(K32+L32+M32) -> 0 | O32: =(K32+L32+M32)*0.1 -> 2149.4592 | P32: ='DATOS REFERENCIALES'!$D$8 -> 12764 | Q32: =LOOKUP(C32,'TABLA ANTIG.'!$A$4:$A$39,'TABLA ANTIG.'!$B$4:$B$39)*(P32) -> 0 | R32: 0 | S32: =IF(C32>11,IF(H32>2069,'DATOS REFERENCIALES'!$D$18,'DATOS REFERENCIALES'!$D$18/2070*H32),0) -> 0 | T32: =K32+L32+M32+N32+O32+P32+Q32+R32+S32 -> 36408.051 | U32: =$T32*11% -> 4004.8856 | V32: =$T32*3% -> 1092.2415 | W32: =$T32*3% -> 1092.2415 | X32: =$T32*2% -> 728.16102 | Y32: =$T32*4.5% -> 1638.3623 | Z32: =SUM(U32:Y32) -> 8555.892 | AA32: =T32-Z32 -> 27852.159 | AB32: ='DATOS REFERENCIALES'!$D$10 -> 4540 | AC32: =IF(C32<12,IF(H32>2069,'DATOS REFERENCIALES'!$D$17,'DATOS REFERENCIALES'!$D$17/2070*H32),0) -> 5168 | AD32: =IF((IF(H32>2069,('DATOS REFERENCIALES'!$D$9-(T32-U32-V32-W32-X32-Y32+AB32+AC32)),(('DATOS REFERENCIALES'!$D$9/2070)*H32)-(K32+N32+O32+P32+Q32+S32-U32-V32-W32-X32-Y32+AB32+AC32)))<0,0,IF(H32>2070,(('DATOS REFERENCIALES'!$D$9)-(T32-U32-V32-W32-X32-Y32+AB32+AC32)),(('DATOS REFERENCIALES'!$D$9/2070)*H32)-(K32+N32+O32+P32+Q32+S32-U32-V32-W32-X32-Y32+AB32+AC32))) -> 19515.841 | AE32: =SUM(AA32:AD32) -> 57076 | AF32: ='DATOS REFERENCIALES'!$D$13 -> 2420 | AG32: =IF($H32>2042,'DATOS REFERENCIALES'!#REF!,'DATOS REFERENCIALES'!#REF!/2043*$H32) -> #REF! | AH32: =+AF32 -> 2420 | AI32: ='DATOS REFERENCIALES'!$D$12 -> 420 | AJ32: =+AE32+AF32+AI32+AH32 -> 62336 | AK32: ='DATOS REFERENCIALES'!D16 -> 4044.61 | AL32: =AK32*$AL$8 -> 950.48335 | AM32: =AK32-AL32 -> 3094.1267 | AN32: =AJ32+AM32 -> 65430.127
A33: 566 | B33: Hora cátedra Maestro Especial | C33: 0 | D33: 1 | G33: 56 | H33: =SUM(G33:G33) -> 56 | K33: =(H33*'DATOS REFERENCIALES'!$C$4)*D33 -> 537.3648 | N33: =LOOKUP(C33,'TABLA ANTIG.'!$A$4:$A$39,'TABLA ANTIG.'!$B$4:$B$39)*(K33+L33+M33) -> 0 | O33: =(K33+L33+M33)*0.1 -> 53.73648 | P33: =IF(D33>48,'DATOS REFERENCIALES'!$D$8+('DATOS REFERENCIALES'!$F$8*10),IF(D33<39,'DATOS REFERENCIALES'!$E$8*D33,((D33-'DATOS REFERENCIALES'!$I$8)*'DATOS REFERENCIALES'!$F$8)+'DATOS REFERENCIALES'!$D$8)) -> 335.89474 | Q33: =LOOKUP(C33,'TABLA ANTIG.'!$A$4:$A$39,'TABLA ANTIG.'!$B$4:$B$39)*(P33) -> 0 | R33: 0 | S33: =IF(C33>11,IF(H33>1134,'DATOS REFERENCIALES'!$C$18,'DATOS REFERENCIALES'!$C$18/20*D33),0) -> 0 | T33: =K33+L33+M33+N33+O33+P33+Q33+R33+S33 -> 926.99602 | U33: =$T33*11% -> 101.96956 | V33: =$T33*3% -> 27.809881 | W33: =$T33*3% -> 27.809881 | X33: =$T33*2% -> 18.53992 | Y33: =$T33*4.5% -> 41.714821 | Z33: =SUM(U33:Y33) -> 217.84406 | AA33: =T33-Z33 -> 709.15195 | AB33: =IF(D33>38,'DATOS REFERENCIALES'!$D$10,'DATOS REFERENCIALES'!$E$10*D33) -> 119.47368 | AC33: =IF(C33<12,IF(H33>1134,'DATOS REFERENCIALES'!$C$17,'DATOS REFERENCIALES'!$C$17/20*D33),0) -> 129.2 | AD33: =IF(D33>41,IF((('DATOS REFERENCIALES'!$D$9)-((T33)+(AB33)+(AC33)))<0,0,((('DATOS REFERENCIALES'!$D$9)-((T33)-(Z33)+(AB33)+(AC33))))),IF((('DATOS REFERENCIALES'!$E$9*D33)-(((T33)+(AB33)+(AC33))))<0,0,('DATOS REFERENCIALES'!$E$9*D33)-((T33)-(Z33)+(AB33)+(AC33)))) -> 469.07436 | AE33: =SUM(AA33:AD33) -> 1426.9 | AF33: =IF(D33>'DATOS REFERENCIALES'!$I$13,'DATOS REFERENCIALES'!$D$13,('DATOS REFERENCIALES'!$E$13*D33)) -> 80.666667 | AG33: =IF(D33>'DATOS REFERENCIALES'!#REF!,'DATOS REFERENCIALES'!#REF!,('DATOS REFERENCIALES'!#REF!*D33)) -> #REF! | AH33: =+AF33 -> 80.666667 | AI33: =IF(D33>'DATOS REFERENCIALES'!$I$12,'DATOS REFERENCIALES'!$D$12,'DATOS REFERENCIALES'!$E$12*D33) -> 14 | AJ33: =+AE33+AF33+AI33+AH33 -> 1602.2333 | AK33: =IF(D33>'DATOS REFERENCIALES'!$I$16,'DATOS REFERENCIALES'!$D$16,'DATOS REFERENCIALES'!$E$16*D33) -> 134.82033 | AL33: =AK33*$AL$8 -> 31.682778 | AM33: =AK33-AL33 -> 103.13756 | AN33: =AJ33+AM33 -> 1705.3709

Sheet Hoja1
A4: 1
A5: 2
A6: 3
A7: 4
A8: 5
A9: 6
A10: 7
A11: 8
A12: 9
A13: 10
A14: 11
A15: 12
... A63: 60

Sheet PRIMARIA 
K3: UTILIZAR LA GRILLA A MODO DE EJEMPLO
A6: Grilla Salarial según ACTA PARITARIA desde MARZO 2020
A7: Ejemplos de liquidación salarial para cargos sin antigüedad en la docencia. Al incluir antigüedades, disminuye o desaparece el monto del C.M.G.
A8: Primaria Común - JORNADA SIMPLE | AE8: Primaria Común - JORNADA SIMPLE | AM8: 0.235
A9: Códigos | B9: Denominación del cargo | C9: AÑOS | D9: CANTIDAD DE HORAS | E9: SUBVENCIOANDO | F9: CAJA COMPL. | G9: INDICE del Sueldo básico Unificado | H9: TOTAL DE INDICES | I9: INDICES JERARQUIZACION | J9: PLUS DIFERENCIAL POR ESTABLECIMIENTO | K9: Valor Sueldo Básico Unificado RB | L9: PLUS DIFERENCIAL POR JERARQUIZACIÓN | M9: PLUS DIFERENCIAL POR ESTABLECIMIENTO | N9: Antigüedad Docente | O9: Asig. Estímulo Educ. R/ NB (Presentismo) | P9: DECRETO 243/08 RB | Q9: Antigüedad Decreto 243/08 | R9: Art. 128 Estatuto Docente R/ NB | S9: Suma Fija Remun. No Bonif | T9: Total Haberes Remunerat. | U9: Retenciones por aportes personales | Z9: Total Aportes | AA9: SUBTOTAL NETO SIN C.M.G. | AB9: MDM | AC9: Suma Fija No Remun. No Bonif | AD9: C.M.G. | AE9: Sub Total Neto a cobrar | AF9: FONID / RESOLUC. Nº 02/04 neto | AG9: Adelanto Cláusula de Seguimiento 2017 | AH9: SUMA FIJA NO REMUN.Y NO BONIF. POR UNICA VEZ | AI9: 1 CUOTA EXTRAORDINARIA DE FONID | AJ9: APORTE NAC. A MAT. DIDÁCTICO 2017 | AK9: TOTAL NETO A COBRAR | AL9: Adicional Especial Remun no Bonif. | AM9: Total Aportes | AN9: NETO DEL ADICIO-NAL | AO9: NETO A COBRAR
U10: Jubilación 11% | V10: Obra Social 3% | W10: INSSJP - Ley 19032 3% | X10: Ley 24.016 Dec. 137/05 2% | Y10: Caja Compl. 4,5%
A11: 585 | B11: Director | C11: 0 | G11: 1783 | H11: =SUM(G11:G11) -> 1783 | K11: =H11*'DATOS REFERENCIALES'!$C$4 -> 17109.311 | N11: =LOOKUP(C11,'TABLA ANTIG.'!$A$4:$A$39,'TABLA ANTIG.'!$B$4:$B$39)*(K11) -> 0 | O11: =K11*0.1 -> 1710.9311 | P11: ='DATOS REFERENCIALES'!$C$8 -> 6382 | Q11: =LOOKUP(C11,'TABLA ANTIG.'!$A$4:$A$39,'TABLA ANTIG.'!$B$4:$B$39)*(P11) -> 0 | R11: 0 | S11: =IF(C11>11,IF(H11>1134,'DATOS REFERENCIALES'!$C$18,'DATOS REFERENCIALES'!$C$18/1135*H11),0) -> 0 | T11: =K11+N11+O11+P11+Q11+R11+S11 -> 25202.243 | U11: =$T11*11% -> 2772.2467 | V11: =$T11*3% -> 756.06728 | W11: =$T11*3% -> 756.06728 | X11: =$T11*2% -> 504.04485 | Y11: =$T11*4.5% -> 1134.1009 | Z11: =SUM(U11:Y11) -> 5922.527 | AA11: =T11-Z11 -> 19279.716 | AB11: ='DATOS REFERENCIALES'!$C$10 -> 2270 | AC11: =IF(C11<12,IF(H11>1134,'DATOS REFERENCIALES'!$C$17,'DATOS REFERENCIALES'!$C$17/1135*H11),0) -> 2584 | AD11: =IF((IF(H11>1134,('DATOS REFERENCIALES'!$C$9-(T11-U11-V11-W11-X11-Y11+AB11+AC11-L11-L11*0.235)),(('DATOS REFERENCIALES'!$C$9/1135)*H11)-(K11+N11+O11+P11+Q11+S11-U11-V11-W11-X11-Y11+AB11+AC11-(L11-L11*0.235))))<0,0,IF(H11>1134,(('DATOS REFERENCIALES'!$C$9)-(T11-U11-V11-W11-X11-Y11+AB11+AC11-(L11-L11*0.235))),(('DATOS REFERENCIALES'!$C$9/1135)*H11)-(K11+N11+O11+P11+Q11+S11-U11-V11-W11-X11-Y11+AB11+AC11-(L11-L11*0.235)))) -> 4404.2845 | AE11: =SUM(AA11:AD11) -> 28538 | AF11: ='DATOS REFERENCIALES'!$C$13 -> 1210 | AH11: =IF($H11>1134,'DATOS REFERENCIALES'!#REF!,'DATOS REFERENCIALES'!#REF!/1135*$H11) -> #REF! | AI11: =+AF11 -> 1210 | AJ11: ='DATOS REFERENCIALES'!$C$12 -> 210 | AK11: =+AE11+AE12+AF11+AI11+AJ11 -> 33831.602 | AL11: ='DATOS REFERENCIALES'!C16 -> 2022.305 | AM11: =AL11*$AM$8 -> 475.24167 | AN11: =AL11-AM11 -> 1547.0633 | AO11: =AK11+AN11 -> 35378.665
A12: 585 | B12: Director | C12: =IF(C11>0,C11,0) -> 0 | I12: =133.73/'DATOS REFERENCIALES'!$I$4*'DATOS REFERENCIALES'!$J$4 -> 222.88333 | J12: 1 turno y hasta 14 secciones. | L12: =I12*'DATOS REFERENCIALES'!$C$4 -> 2138.7439 | M12: =IF(J12='DATOS REFERENCIALES'!$C$31,K11*'DATOS REFERENCIALES'!$D$31,IF(J12='DATOS REFERENCIALES'!$C$32,('DATOS REFERENCIALES'!$D$32*K11),IF(J12='DATOS REFERENCIALES'!$C$33,('DATOS REFERENCIALES'!$D$33*K11),IF(J12='DATOS REFERENCIALES'!$C$34,('DATOS REFERENCIALES'!$D$34*K11),IF(J12='DATOS REFERENCIALES'!$C$35,('DATOS REFERENCIALES'!$D$35*K11),IF(J12='DATOS REFERENCIALES'!$C$36,('DATOS REFERENCIALES'!$D$36*K11),IF(J12='DATOS REFERENCIALES'!$C$37,('DATOS REFERENCIALES'!$D$37*K11),IF(J12='DATOS REFERENCIALES'!$C$38,('DATOS REFERENCIALES'!$D$38*K11),0)))))))) -> 1026.5587 | N12: =LOOKUP(C12,'TABLA ANTIG.'!$A$4:$A$39,'TABLA ANTIG.'!$B$4:$B$39)*(L12+M12) -> 0 | O12: =(L12+M12)*0.1 -> 316.53026 | T12: =L12+M12+N12+O12+P12+Q12+R12 -> 3481.8328 | U12: =$T12*11% -> 383.00161 | V12: =$T12*3% -> 104.45498 | W12: =$T12*3% -> 104.45498 | X12: =$T12*2% -> 69.636657 | Y12: =$T12*4.5% -> 156.68248 | Z12: =SUM(U12:Y12) -> 818.23072 | AA12: =T12-Z12 -> 2663.6021 | AE12: =SUM(AA12:AD12) -> 2663.6021
A13: 840 | B13: Vicedirector | C13: 0 | G13: 1545 | H13: =SUM(G13:G13) -> 1545 | K13: =H13*'DATOS REFERENCIALES'!$C$4 -> 14825.511 | N13: =LOOKUP(C13,'TABLA ANTIG.'!$A$4:$A$39,'TABLA ANTIG.'!$B$4:$B$39)*(K13) -> 0 | O13: =K13*0.1 -> 1482.5511 | P13: ='DATOS REFERENCIALES'!$C$8 -> 6382 | Q13: =LOOKUP(C13,'TABLA ANTIG.'!$A$4:$A$39,'TABLA ANTIG.'!$B$4:$B$39)*(P13) -> 0 | R13: 0 | S13: =IF(C13>11,IF(H13>1134,'DATOS REFERENCIALES'!$C$18,'DATOS REFERENCIALES'!$C$18/1135*H13),0) -> 0 | T13: =K13+N13+O13+P13+Q13+R13+S13 -> 22690.062 | U13: =$T13*11% -> 2495.9068 | V13: =$T13*3% -> 680.70186 | W13: =$T13*3% -> 680.70186 | X13: =$T13*2% -> 453.80124 | Y13: =$T13*4.5% -> 1021.0528 | Z13: =SUM(U13:Y13) -> 5332.1646 | AA13: =T13-Z13 -> 17357.898 | AB13: ='DATOS REFERENCIALES'!$C$10 -> 2270 | AC13: =IF(C13<12,IF(H13>1134,'DATOS REFERENCIALES'!$C$17,'DATOS REFERENCIALES'!$C$17/1135*H13),0) -> 2584 | AD13: =IF((IF(H13>1134,('DATOS REFERENCIALES'!$C$9-(T13-U13-V13-W13-X13-Y13+AB13+AC13-L13-L13*0.235)),(('DATOS REFERENCIALES'!$C$9/1135)*H13)-(K13+N13+O13+P13+Q13+S13-U13-V13-W13-X13-Y13+AB13+AC13-(L13-L13*0.235))))<0,0,IF(H13>1134,(('DATOS REFERENCIALES'!$C$9)-(T13-U13-V13-W13-X13-Y13+AB13+AC13-(L13-L13*0.235))),(('DATOS REFERENCIALES'!$C$9/1135)*H13)-(K13+N13+O13+P13+Q13+S13-U13-V13-W13-X13-Y13+AB13+AC13-(L13-L13*0.235)))) -> 6326.1025 | AE13: =SUM(AA13:AD13) -> 28538 | AF13: ='DATOS REFERENCIALES'!$C$13 -> 1210 | AH13: =IF($H13>1134,'DATOS REFERENCIALES'!#REF!,'DATOS REFERENCIALES'!#REF!/1135*$H13) -> #REF! | AI13: =+AF13 -> 1210 | AJ13: ='DATOS REFERENCIALES'!$C$12 -> 210 | AK13: =+AE13+AE14+AF13+AI13+AJ13 -> 32727.526 | AL13: ='DATOS REFERENCIALES'!C16 -> 2022.305 | AM13: =AL13*$AM$8 -> 475.24167 | AN13: =AL13-AM13 -> 1547.0633 | AO13: =AK13+AN13 -> 34274.589
A14: 840 | B14: Vicedirector | C14: =IF(C13>0,C13,0) -> 0 | I14: =115.88/'DATOS REFERENCIALES'!$I$4*'DATOS REFERENCIALES'!$J$4 -> 193.13333 | L14: =I14*'DATOS REFERENCIALES'!$C$4 -> 1853.2688 | N14: =LOOKUP(C14,'TABLA ANTIG.'!$A$4:$A$39,'TABLA ANTIG.'!$B$4:$B$39)*(L14+M14) -> 0 | O14: =(L14+M14)*0.1 -> 185.32688 | T14: =L14+M14+N14+O14+P14+Q14+R14 -> 2038.5957 | U14: =$T14*11% -> 224.24553 | V14: =$T14*3% -> 61.157872 | W14: =$T14*3% -> 61.157872 | X14: =$T14*2% -> 40.771914 | Y14: =$T14*4.5% -> 91.736808 | Z14: =SUM(U14:Y14) -> 479.07 | AA14: =T14-Z14 -> 1559.5257 | AE14: =SUM(AA14:AD14) -> 1559.5257
A15: 846 | B15: Maestro Secretario | C15: 0 | G15: 1307 | H15: =SUM(G15:G15) -> 1307 | K15: =H15*'DATOS REFERENCIALES'!$C$4 -> 12541.711 | N15: =LOOKUP(C15,'TABLA ANTIG.'!$A$4:$A$39,'TABLA ANTIG.'!$B$4:$B$39)*(K15) -> 0 | O15: =K15*0.1 -> 1254.1711 | P15: ='DATOS REFERENCIALES'!$C$8 -> 6382 | Q15: =LOOKUP(C15,'TABLA ANTIG.'!$A$4:$A$39,'TABLA ANTIG.'!$B$4:$B$39)*(P15) -> 0 | R15: 0 | S15: =IF(C15>11,IF(H15>1134,'DATOS REFERENCIALES'!$C$18,'DATOS REFERENCIALES'!$C$18/1135*H15),0) -> 0 | T15: =K15+N15+O15+P15+Q15+R15+S15 -> 20177.882 | U15: =$T15*11% -> 2219.567 | V15: =$T15*3% -> 605.33645 | W15: =$T15*3% -> 605.33645 | X15: =$T15*2% -> 403.55763 | Y15: =$T15*4.5% -> 908.00467 | Z15: =SUM(U15:Y15) -> 4741.8022 | AA15: =T15-Z15 -> 15436.079 | AB15: ='DATOS REFERENCIALES'!$C$10 -> 2270 | AC15: =IF(C15<12,IF(H15>1134,'DATOS REFERENCIALES'!$C$17,'DATOS REFERENCIALES'!$C$17/1135*H15),0) -> 2584 | AD15: =IF((IF(H15>1134,('DATOS REFERENCIALES'!$C$9-(T15-U15-V15-W15-X15-Y15+AB15+AC15-L15-L15*0.235)),(('DATOS REFERENCIALES'!$C$9/1135)*H15)-(K15+N15+O15+P15+Q15+S15-U15-V15-W15-X15-Y15+AB15+AC15-(L15-L15*0.235))))<0,0,IF(H15>1134,(('DATOS REFERENCIALES'!$C$9)-(T15-U15-V15-W15-X15-Y15+AB15+AC15-(L15-L15*0.235))),(('DATOS REFERENCIALES'!$C$9/1135)*H15)-(K15+N15+O15+P15+Q15+S15-U15-V15-W15-X15-Y15+AB15+AC15-(L15-L15*0.235)))) -> 8247.9205 | AE15: =SUM(AA15:AD15) -> 28538 | AF15: ='DATOS REFERENCIALES'!$C$13 -> 1210 | AH15: =IF($H15>1134,'DATOS REFERENCIALES'!#REF!,'DATOS REFERENCIALES'!#REF!/1135*$H15) -> #REF! | AI15: =+AF15 -> 1210 | AJ15: ='DATOS REFERENCIALES'!$C$12 -> 210 | AK15: =+AE15+AE16+AF15+AI15+AJ15 -> 32487.298 | AL15: ='DATOS REFERENCIALES'!C16 -> 2022.305 | AM15: =AL15*$AM$8 -> 475.24167 | AN15: =AL15-AM15 -> 1547.0633 | AO15: =AK15+AN15 -> 34034.362
A16: 846 | B16: Maestro Secretario | C16: =IF(C15>0,C15,0) -> 0 | I16: =98.03/'DATOS REFERENCIALES'!$I$4*'DATOS REFERENCIALES'!$J$4 -> 163.38333 | L16: =I16*'DATOS REFERENCIALES'!$C$4 -> 1567.7938 | N16: =LOOKUP(C16,'TABLA ANTIG.'!$A$4:$A$39,'TABLA ANTIG.'!$B$4:$B$39)*(L16+M16) -> 0 | O16: =(L16+M16)*0.1 -> 156.77938 | T16: =L16+M16+N16+O16+P16+Q16+R16 -> 1724.5732 | U16: =$T16*11% -> 189.70305 | V16: =$T16*3% -> 51.737195 | W16: =$T16*3% -> 51.737195 | X16: =$T16*2% -> 34.491463 | Y16: =$T16*4.5% -> 77.605793 | Z16: =SUM(U16:Y16) -> 405.27469 | AA16: =T16-Z16 -> 1319.2985 | AE16: =SUM(AA16:AD16) -> 1319.2985
A17: 847 | B17: Maestro de Apoyo | C17: 0 | G17: 1120 | H17: 1135 | K17: =H17*'DATOS REFERENCIALES'!$C$4 -> 10891.233 | N17: =LOOKUP(C17,'TABLA ANTIG.'!$A$4:$A$39,'TABLA ANTIG.'!$B$4:$B$39)*(K17) -> 0 | O17: =K17*0.1 -> 1089.1233 | P17: ='DATOS REFERENCIALES'!$C$8 -> 6382 | Q17: =LOOKUP(C17,'TABLA ANTIG.'!$A$4:$A$39,'TABLA ANTIG.'!$B$4:$B$39)*(P17) -> 0 | R17: 0 | S17: =IF(C17>11,IF(H17>1134,'DATOS REFERENCIALES'!$C$18,'DATOS REFERENCIALES'!$C$18/1135*H17),0) -> 0 | T17: =K17+N17+O17+P17+Q17+R17+S17 -> 18362.356 | U17: =$T17*11% -> 2019.8592 | V17: =$T17*3% -> 550.87069 | W17: =$T17*3% -> 550.87069 | X17: =$T17*2% -> 367.24713 | Y17: =$T17*4.5% -> 826.30603 | Z17: =SUM(U17:Y17) -> 4315.1537 | AA17: =T17-Z17 -> 14047.203 | AB17: ='DATOS REFERENCIALES'!$C$10 -> 2270 | AC17: =IF(C17<12,IF(H17>1134,'DATOS REFERENCIALES'!$C$17,'DATOS REFERENCIALES'!$C$17/1135*H17),0) -> 2584 | AD17: =IF((IF(H17>1134,('DATOS REFERENCIALES'!$C$9-(T17-U17-V17-W17-X17-Y17+AB17+AC17-L17-L17*0.235)),(('DATOS REFERENCIALES'!$C$9/1135)*H17)-(K17+N17+O17+P17+Q17+S17-U17-V17-W17-X17-Y17+AB17+AC17-(L17-L17*0.235))))<0,0,IF(H17>1134,(('DATOS REFERENCIALES'!$C$9)-(T17-U17-V17-W17-X17-Y17+AB17+AC17-(L17-L17*0.235))),(('DATOS REFERENCIALES'!$C$9/1135)*H17)-(K17+N17+O17+P17+Q17+S17-U17-V17-W17-X17-Y17+AB17+AC17-(L17-L17*0.235)))) -> 9636.7974 | AE17: =SUM(AA17:AD17) -> 28538 | AF17: ='DATOS REFERENCIALES'!$C$13 -> 1210 | AH17: =IF($H17>1134,'DATOS REFERENCIALES'!#REF!,'DATOS REFERENCIALES'!#REF!/1135*$H17) -> #REF! | AI17: =+AF17 -> 1210 | AJ17: ='DATOS REFERENCIALES'!$C$12 -> 210 | AK17: =+AE17+AF17+AI17+AJ17 -> 31168 | AL17: ='DATOS REFERENCIALES'!$C$16 -> 2022.305 | AM17: =AL17*$AM$8 -> 475.24167 | AN17: =AL17-AM17 -> 1547.0633 | AO17: =AK17+AN17 -> 32715.063
A18: 848 | B18: Maestro de Apoyo para la integración | C18: 0 | G18: 1120 | H18: 1135 | K18: =H18*'DATOS REFERENCIALES'!$C$4 -> 10891.233 | N18: =LOOKUP(C18,'TABLA ANTIG.'!$A$4:$A$39,'TABLA ANTIG.'!$B$4:$B$39)*(K18) -> 0 | O18: =K18*0.1 -> 1089.1233 | P18: ='DATOS REFERENCIALES'!$C$8 -> 6382 | Q18: =LOOKUP(C18,'TABLA ANTIG.'!$A$4:$A$39,'TABLA ANTIG.'!$B$4:$B$39)*(P18) -> 0 | R18: 0 | S18: =IF(C18>11,IF(H18>1134,'DATOS REFERENCIALES'!$C$18,'DATOS REFERENCIALES'!$C$18/1135*H18),0) -> 0 | T18: =K18+N18+O18+P18+Q18+R18+S18 -> 18362.356 | U18: =$T18*11% -> 2019.8592 | V18: =$T18*3% -> 550.87069 | W18: =$T18*3% -> 550.87069 | X18: =$T18*2% -> 367.24713 | Y18: =$T18*4.5% -> 826.30603 | Z18: =SUM(U18:Y18) -> 4315.1537 | AA18: =T18-Z18 -> 14047.203 | AB18: ='DATOS REFERENCIALES'!$C$10 -> 2270 | AC18: =IF(C18<12,IF(H18>1134,'DATOS REFERENCIALES'!$C$17,'DATOS REFERENCIALES'!$C$17/1135*H18),0) -> 2584 | AD18: =IF((IF(H18>1134,('DATOS REFERENCIALES'!$C$9-(T18-U18-V18-W18-X18-Y18+AB18+AC18-L18-L18*0.235)),(('DATOS REFERENCIALES'!$C$9/1135)*H18)-(K18+N18+O18+P18+Q18+S18-U18-V18-W18-X18-Y18+AB18+AC18-(L18-L18*0.235))))<0,0,IF(H18>1134,(('DATOS REFERENCIALES'!$C$9)-(T18-U18-V18-W18-X18-Y18+AB18+AC18-(L18-L18*0.235))),(('DATOS REFERENCIALES'!$C$9/1135)*H18)-(K18+N18+O18+P18+Q18+S18-U18-V18-W18-X18-Y18+AB18+AC18-(L18-L18*0.235)))) -> 9636.7974 | AE18: =SUM(AA18:AD18) -> 28538 | AF18: ='DATOS REFERENCIALES'!$C$13 -> 1210 | AH18: =IF($H18>1134,'DATOS REFERENCIALES'!#REF!,'DATOS REFERENCIALES'!#REF!/1135*$H18) -> #REF! | AI18: =+AF18 -> 1210 | AJ18: ='DATOS REFERENCIALES'!$C$12 -> 210 | AK18: =+AE18+AF18+AI18+AJ18 -> 31168 | AL18: ='DATOS REFERENCIALES'!$C$16 -> 2022.305 | AM18: =AL18*$AM$8 -> 475.24167 | AN18: =AL18-AM18 -> 1547.0633 | AO18: =AK18+AN18 -> 32715.063
A19: 875 | B19: Maestro Bibliotecario (adultos tmb) | C19: 0 | G19: 1120 | H19: 1135 | K19: =H19*'DATOS REFERENCIALES'!$C$4 -> 10891.233 | N19: =LOOKUP(C19,'TABLA ANTIG.'!$A$4:$A$39,'TABLA ANTIG.'!$B$4:$B$39)*(K19) -> 0 | O19: =K19*0.1 -> 1089.1233 | P19: ='DATOS REFERENCIALES'!$C$8 -> 6382 | Q19: =LOOKUP(C19,'TABLA ANTIG.'!$A$4:$A$39,'TABLA ANTIG.'!$B$4:$B$39)*(P19) -> 0 | R19: 0 | S19: =IF(C19>11,IF(H19>1134,'DATOS REFERENCIALES'!$C$18,'DATOS REFERENCIALES'!$C$18/1135*H19),0) -> 0 | T19: =K19+N19+O19+P19+Q19+R19+S19 -> 18362.356 | U19: =$T19*11% -> 2019.8592 | V19: =$T19*3% -> 550.87069 | W19: =$T19*3% -> 550.87069 | X19: =$T19*2% -> 367.24713 | Y19: =$T19*4.5% -> 826.30603 | Z19: =SUM(U19:Y19) -> 4315.1537 | AA19: =T19-Z19 -> 14047.203 | AB19: ='DATOS REFERENCIALES'!$C$10 -> 2270 | AC19: =IF(C19<12,IF(H19>1134,'DATOS REFERENCIALES'!$C$17,'DATOS REFERENCIALES'!$C$17/1135*H19),0) -> 2584 | AD19: =IF((IF(H19>1134,('DATOS REFERENCIALES'!$C$9-(T19-U19-V19-W19-X19-Y19+AB19+AC19-L19-L19*0.235)),(('DATOS REFERENCIALES'!$C$9/1135)*H19)-(K19+N19+O19+P19+Q19+S19-U19-V19-W19-X19-Y19+AB19+AC19-(L19-L19*0.235))))<0,0,IF(H19>1134,(('DATOS REFERENCIALES'!$C$9)-(T19-U19-V19-W19-X19-Y19+AB19+AC19-(L19-L19*0.235))),(('DATOS REFERENCIALES'!$C$9/1135)*H19)-(K19+N19+O19+P19+Q19+S19-U19-V19-W19-X19-Y19+AB19+AC19-(L19-L19*0.235)))) -> 9636.7974 | AE19: =SUM(AA19:AD19) -> 28538 | AF19: ='DATOS REFERENCIALES'!$C$13 -> 1210 | AH19: =IF($H19>1134,'DATOS REFERENCIALES'!#REF!,'DATOS REFERENCIALES'!#REF!/1135*$H19) -> #REF! | AI19: =+AF19 -> 1210 | AJ19: ='DATOS REFERENCIALES'!$C$12 -> 210 | AK19: =+AE19+AF19+AI19+AJ19 -> 31168 | AL19: ='DATOS REFERENCIALES'!$C$16 -> 2022.305 | AM19: =AL19*$AM$8 -> 475.24167 | AN19: =AL19-AM19 -> 1547.0633 | AO19: =AK19+AN19 -> 32715.063
A20: 845 | B20: Maestro de Grado | C20: 0 | G20: 1120 | H20: 1135 | K20: =H20*'DATOS REFERENCIALES'!$C$4 -> 10891.233 | N20: =LOOKUP(C20,'TABLA ANTIG.'!$A$4:$A$39,'TABLA ANTIG.'!$B$4:$B$39)*(K20) -> 0 | O20: =K20*0.1 -> 1089.1233 | P20: ='DATOS REFERENCIALES'!$C$8 -> 6382 | Q20: =LOOKUP(C20,'TABLA ANTIG.'!$A$4:$A$39,'TABLA ANTIG.'!$B$4:$B$39)*(P20) -> 0 | R20: 0 | S20: =IF(C20>11,IF(H20>1134,'DATOS REFERENCIALES'!$C$18,'DATOS REFERENCIALES'!$C$18/1135*H20),0) -> 0 | T20: =K20+N20+O20+P20+Q20+R20+S20 -> 18362.356 | U20: =$T20*11% -> 2019.8592 | V20: =$T20*3% -> 550.87069 | W20: =$T20*3% -> 550.87069 | X20: =$T20*2% -> 367.24713 | Y20: =$T20*4.5% -> 826.30603 | Z20: =SUM(U20:Y20) -> 4315.1537 | AA20: =T20-Z20 -> 14047.203 | AB20: ='DATOS REFERENCIALES'!$C$10 -> 2270 | AC20: =IF(C20<12,IF(H20>1134,'DATOS REFERENCIALES'!$C$17,'DATOS REFERENCIALES'!$C$17/1135*H20),0) -> 2584 | AD20: =IF((IF(H20>1134,('DATOS REFERENCIALES'!$C$9-(T20-U20-V20-W20-X20-Y20+AB20+AC20-L20-L20*0.235)),(('DATOS REFERENCIALES'!$C$9/1135)*H20)-(K20+N20+O20+P20+Q20+S20-U20-V20-W20-X20-Y20+AB20+AC20-(L20-L20*0.235))))<0,0,IF(H20>1134,(('DATOS REFERENCIALES'!$C$9)-(T20-U20-V20-W20-X20-Y20+AB20+AC20-(L20-L20*0.235))),(('DATOS REFERENCIALES'!$C$9/1135)*H20)-(K20+N20+O20+P20+Q20+S20-U20-V20-W20-X20-Y20+AB20+AC20-(L20-L20*0.235)))) -> 9636.7974 | AE20: =SUM(AA20:AD20) -> 28538 | AF20: ='DATOS REFERENCIALES'!$C$13 -> 1210 | AH20: =IF($H20>1134,'DATOS REFERENCIALES'!#REF!,'DATOS REFERENCIALES'!#REF!/1135*$H20) -> #REF! | AI20: =+AF20 -> 1210 | AJ20: ='DATOS REFERENCIALES'!$C$12 -> 210 | AK20: =+AE20+AF20+AI20+AJ20 -> 31168 | AL20: ='DATOS REFERENCIALES'!$C$16 -> 2022.305 | AM20: =AL20*$AM$8 -> 475.24167 | AN20: =AL20-AM20 -> 1547.0633 | AO20: =AK20+AN20 -> 32715.063
A21: 5566 | B21: Hora cátedra Maestro Especial | C21: 0 | D21: 1 | G21: 56 | H21: =SUM(G21:G21) -> 56 | K21: =(H21*'DATOS REFERENCIALES'!$C$4)*D21 -> 537.3648 | N21: =LOOKUP(C21,'TABLA ANTIG.'!$A$4:$A$39,'TABLA ANTIG.'!$B$4:$B$39)*(K21) -> 0 | O21: =K21*0.1 -> 53.73648 | P21: =IF(D21>48,'DATOS REFERENCIALES'!D8+('DATOS REFERENCIALES'!F8*10),IF(D21<39,'DATOS REFERENCIALES'!$E$8*D21,((D21-'DATOS REFERENCIALES'!$I$8)*'DATOS REFERENCIALES'!$F$8)+'DATOS REFERENCIALES'!D8)) -> 335.89474 | Q21: =LOOKUP(C21,'TABLA ANTIG.'!$A$4:$A$39,'TABLA ANTIG.'!$B$4:$B$39)*(P21) -> 0 | R21: 0 | S21: =IF(C21>11,IF(H21>1134,'DATOS REFERENCIALES'!$C$18,'DATOS REFERENCIALES'!$C$18/20*D21),0) -> 0 | T21: =K21+N21+O21+P21+Q21+R21+S21 -> 926.99602 | U21: =$T21*11% -> 101.96956 | V21: =$T21*3% -> 27.809881 | W21: =$T21*3% -> 27.809881 | X21: =$T21*2% -> 18.53992 | Y21: =$T21*4.5% -> 41.714821 | Z21: =SUM(U21:Y21) -> 217.84406 | AA21: =T21-Z21 -> 709.15195 | AB21: =IF(D21>38,'DATOS REFERENCIALES'!$D$10,'DATOS REFERENCIALES'!$E$10*D21) -> 119.47368 | AC21: =IF(C21<12,IF(H21>1134,'DATOS REFERENCIALES'!$C$17,'DATOS REFERENCIALES'!$C$17/20*D21),0) -> 129.2 | AD21: =IF(D21>41,IF((('DATOS REFERENCIALES'!$D$9)-((T21)+(AB21)+(AC21)))<0,0,((('DATOS REFERENCIALES'!$D$9)-((T21)-(Z21)+(AB21)+(AC21))))),IF((('DATOS REFERENCIALES'!$E$9*D21)-(((T21)+(AB21)+(AC21))))<0,0,('DATOS REFERENCIALES'!$E$9*D21)-((T21)-(Z21)+(AB21)+(AC21)))) -> 469.07436 | AE21: =SUM(AA21:AD21) -> 1426.9 | AF21: =IF(D21>30,'DATOS REFERENCIALES'!$D$13,('DATOS REFERENCIALES'!$E$13*D21)) -> 80.666667 | AH21: =IF(D21>'DATOS REFERENCIALES'!#REF!,'DATOS REFERENCIALES'!#REF!,('DATOS REFERENCIALES'!#REF!*D21)) -> #REF! | AI21: =+AF21 -> 80.666667 | AJ21: =IF(D21>'DATOS REFERENCIALES'!$I$12,'DATOS REFERENCIALES'!$D$12,'DATOS REFERENCIALES'!$E$12*D21) -> 14 | AK21: =+AE21+AF21+AI21+AJ21 -> 1602.2333 | AL21: =IF(D21>'DATOS REFERENCIALES'!$I$16,'DATOS REFERENCIALES'!$D$16,'DATOS REFERENCIALES'!$E$16*D21) -> 134.82033 | AM21: =AL21*$AM$8 -> 31.682778 | AN21: =AL21-AM21 -> 103.13756 | AO21: =AK21+AN21 -> 1705.3709
A23: Primaria Común - JORNADA COMPLETA | AE23: Primaria Común - JORNADA COMPLETA
A24: Códigos | B24: Denominación del cargo | C24: AÑOS | D24: CANTIDAD DE HORAS | E24: SUBVENCIOANDO | F24: CAJA COMPL. | G24: INDICE del Sueldo básico Unificado | H24: TOTAL DE INDICES | I24: INDICES JERARQUIZACION | J24: PLUS DIFERENCIAL POR ESTABLECIMIENTO | K24: Valor Sueldo Básico Unificado RB | L24: PLUS DIFERENCIAL POR JERARQUIZACIÓN | M24: PLUS DIFERENCIAL POR ESTABLECIMIENTO | N24: Antigüedad Docente | O24: Asig. Estímulo Educ. R/ NB (Presentismo) | P24: DECRETO 243/08 RB | Q24: Antigüedad Decreto 243/08 | R24: Art. 128 Estatuto Docente R/ NB | S24: Suma Fija Remun. No Bonif | T24: Total Haberes Remunerat. | U24: Retenciones por aportes personales | Z24: Total Aportes | AA24: SUBTOTAL NETO SIN C.M.G. | AB24: MDM | AC24: Suma Fija No Remun. No Bonif | AD24: C.M.G. | AE24: Sub Total Neto a cobrar | AF24: FONID / RESOLUC. Nº 02/04 neto | AG24: Adelanto Cláusula de Seguimiento 2017 | AH24: SUMA FIJA NO REMUN.Y NO BONIF. POR UNICA VEZ | AI24: 1 CUOTA EXTRAORDINARIA DE FONID | AJ24: APORTE NAC. A MAT. DIDÁCTICO 2017 de 08/17 a 12/17 | AK24: TOTAL NETO A COBRAR | AL24: Adicional Especial Remun no Bonif. | AM24: Total Aportes | AN24: NETO DEL ADICIO-NAL | AO24: NETO A COBRAR
U25: Jubilación 11% | V25: Obra Social 3% | W25: INSSJP - Ley 19032 3% | X25: Ley 24.016 Dec. 137/05 2% | Y25: Caja Compl. 4,5%
A26: 834 | B26: Director | C26: 0 | G26: 3125 | H26: =SUM(G26:G26) -> 3125 | K26: =H26*'DATOS REFERENCIALES'!$C$4 -> 29986.875 | N26: =LOOKUP(C26,'TABLA ANTIG.'!$A$4:$A$39,'TABLA ANTIG.'!$B$4:$B$39)*(K26) -> 0 | O26: =K26*0.1 -> 2998.6875 | P26: ='DATOS REFERENCIALES'!$D$8 -> 12764 | Q26: =LOOKUP(C26,'TABLA ANTIG.'!$A$4:$A$39,'TABLA ANTIG.'!$B$4:$B$39)*(P26) -> 0 | R26: 0 | S26: =IF(C26>11,IF(H26>2069,'DATOS REFERENCIALES'!$D$18,'DATOS REFERENCIALES'!$D$18/2070*H26),0) -> 0 | T26: =K26+N26+O26+P26+Q26+R26+S26 -> 45749.562 | U26: =$T26*11% -> 5032.4519 | V26: =$T26*3% -> 1372.4869 | W26: =$T26*3% -> 1372.4869 | X26: =$T26*2% -> 914.99125 | Y26: =$T26*4.5% -> 2058.7303 | Z26: =SUM(U26:Y26) -> 10751.147 | AA26: =T26-Z26 -> 34998.415 | AB26: ='DATOS REFERENCIALES'!$D$10 -> 4540 | AC26: =IF(C26<12,IF(H26>2069,'DATOS REFERENCIALES'!$D$17,'DATOS REFERENCIALES'!$D$17/2070*H26),0) -> 5168 | AD26: =IF((IF(H26>2069,('DATOS REFERENCIALES'!$D$9-(T26-U26-V26-W26-X26-Y26+AB26+AC26)),(('DATOS REFERENCIALES'!$D$9/2070)*H26)-(K26+N26+O26+P26+Q26+S26-U26-V26-W26-X26-Y26+AB26+AC26)))<0,0,IF(H26>2069,(('DATOS REFERENCIALES'!$D$9)-(T26-U26-V26-W26-X26-Y26+AB26+AC26)),(('DATOS REFERENCIALES'!$D$9/2070)*H26)-(K26+N26+O26+P26+Q26+S26-U26-V26-W26-X26-Y26+AB26+AC26))) -> 12369.585 | AE26: =SUM(AA26:AD26) -> 57076 | AF26: ='DATOS REFERENCIALES'!$D$13 -> 2420 | AH26: =IF($H26>2042,'DATOS REFERENCIALES'!#REF!,'DATOS REFERENCIALES'!#REF!/2043*$H26) -> #REF! | AI26: =+AF26 -> 2420 | AJ26: ='DATOS REFERENCIALES'!$D$12 -> 420 | AK26: =+AE26+AE27+AF26+AI26+AJ26 -> 67004.349 | AL26: ='DATOS REFERENCIALES'!$D$16 -> 4044.61 | AM26: =AL26*$AM$8 -> 950.48335 | AN26: =AL26-AM26 -> 3094.1267 | AO26: =AK26+AN26 -> 70098.476
A27: 834 | B27: Director | C27: =IF(C26>0,C26,0) -> 0 | I27: =234.38/'DATOS REFERENCIALES'!$I$4*'DATOS REFERENCIALES'!$J$4 -> 390.63333 | J27: 1 turno y hasta 14 secciones. | L27: =I27*'DATOS REFERENCIALES'!$C$4 -> 3748.4393 | M27: =IF(J27='DATOS REFERENCIALES'!$C$31,K26*'DATOS REFERENCIALES'!$D$31,IF(J27='DATOS REFERENCIALES'!$C$32,('DATOS REFERENCIALES'!$D$32*K26),IF(J27='DATOS REFERENCIALES'!$C$33,('DATOS REFERENCIALES'!$D$33*K26),IF(J27='DATOS REFERENCIALES'!$C$34,('DATOS REFERENCIALES'!$D$34*K26),IF(J27='DATOS REFERENCIALES'!$C$35,('DATOS REFERENCIALES'!$D$35*K26),IF(J27='DATOS REFERENCIALES'!$C$36,('DATOS REFERENCIALES'!$D$36*K26),IF(J27='DATOS REFERENCIALES'!$C$37,('DATOS REFERENCIALES'!$D$37*K26),IF(J27='DATOS REFERENCIALES'!$C$38,('DATOS REFERENCIALES'!$D$38*K26),0)))))))) -> 1799.2125 | N27: =LOOKUP(C27,'TABLA ANTIG.'!$A$4:$A$39,'TABLA ANTIG.'!$B$4:$B$39)*(L27+M27) -> 0 | O27: =(L27+M27)*0.1 -> 554.76518 | T27: =L27+M27+N27+O27+P27+Q27+R27 -> 6102.417 | U27: =$T27*11% -> 671.26587 | V27: =$T27*3% -> 183.07251 | W27: =$T27*3% -> 183.07251 | X27: =$T27*2% -> 122.04834 | Y27: =$T27*4.5% -> 274.60877 | Z27: =SUM(U27:Y27) -> 1434.068 | AA27: =T27-Z27 -> 4668.349 | AE27: =SUM(AA27:AD27) -> 4668.349
A28: 870 | B28: Vicedirector | C28: 0 | G28: 2667 | H28: =SUM(G28:G28) -> 2667 | K28: =H28*'DATOS REFERENCIALES'!$C$4 -> 25591.999 | N28: =LOOKUP(C28,'TABLA ANTIG.'!$A$4:$A$39,'TABLA ANTIG.'!$B$4:$B$39)*(K28) -> 0 | O28: =K28*0.1 -> 2559.1999 | P28: ='DATOS REFERENCIALES'!$D$8 -> 12764 | Q28: =LOOKUP(C28,'TABLA ANTIG.'!$A$4:$A$39,'TABLA ANTIG.'!$B$4:$B$39)*(P28) -> 0 | R28: 0 | S28: =IF(C28>11,IF(H28>2069,'DATOS REFERENCIALES'!$D$18,'DATOS REFERENCIALES'!$D$18/2070*H28),0) -> 0 | T28: =K28+N28+O28+P28+Q28+R28+S28 -> 40915.198 | U28: =$T28*11% -> 4500.6718 | V28: =$T28*3% -> 1227.456 | W28: =$T28*3% -> 1227.456 | X28: =$T28*2% -> 818.30397 | Y28: =$T28*4.5% -> 1841.1839 | Z28: =SUM(U28:Y28) -> 9615.0716 | AA28: =T28-Z28 -> 31300.127 | AB28: ='DATOS REFERENCIALES'!$D$10 -> 4540 | AC28: =IF(C28<12,IF(H28>2069,'DATOS REFERENCIALES'!$D$17,'DATOS REFERENCIALES'!$D$17/2070*H28),0) -> 5168 | AD28: =IF((IF(H28>2069,('DATOS REFERENCIALES'!$D$9-(T28-U28-V28-W28-X28-Y28+AB28+AC28)),(('DATOS REFERENCIALES'!$D$9/2070)*H28)-(K28+N28+O28+P28+Q28+S28-U28-V28-W28-X28-Y28+AB28+AC28)))<0,0,IF(H28>2069,(('DATOS REFERENCIALES'!$D$9)-(T28-U28-V28-W28-X28-Y28+AB28+AC28)),(('DATOS REFERENCIALES'!$D$9/2070)*H28)-(K28+N28+O28+P28+Q28+S28-U28-V28-W28-X28-Y28+AB28+AC28))) -> 16067.873 | AE28: =SUM(AA28:AD28) -> 57076 | AF28: ='DATOS REFERENCIALES'!$D$13 -> 2420 | AH28: =IF($H28>2042,'DATOS REFERENCIALES'!#REF!,'DATOS REFERENCIALES'!#REF!/2043*$H28) -> #REF! | AI28: =+AF28 -> 2420 | AJ28: ='DATOS REFERENCIALES'!$D$12 -> 420 | AK28: =+AE28+AE29+AF28+AI28+AJ28 -> 65028.026 | AL28: ='DATOS REFERENCIALES'!$D$16 -> 4044.61 | AM28: =AL28*$AM$8 -> 950.48335 | AN28: =AL28-AM28 -> 3094.1267 | AO28: =AK28+AN28 -> 68122.152
A29: 870 | B29: Vicedirector | C29: =IF(C28>0,C28,0) -> 0 | I29: =200.03/'DATOS REFERENCIALES'!$I$4*'DATOS REFERENCIALES'!$J$4 -> 333.38333 | L29: =I29*'DATOS REFERENCIALES'!$C$4 -> 3199.0798 | N29: =LOOKUP(C29,'TABLA ANTIG.'!$A$4:$A$39,'TABLA ANTIG.'!$B$4:$B$39)*(L29+M29) -> 0 | O29: =(L29+M29)*0.1 -> 319.90798 | T29: =L29+M29+N29+O29+P29+Q29+R29 -> 3518.9878 | U29: =$T29*11% -> 387.08865 | V29: =$T29*3% -> 105.56963 | W29: =$T29*3% -> 105.56963 | X29: =$T29*2% -> 70.379755 | Y29: =$T29*4.5% -> 158.35445 | Z29: =SUM(U29:Y29) -> 826.96213 | AA29: =T29-Z29 -> 2692.0256 | AE29: =SUM(AA29:AD29) -> 2692.0256
A30: 849 | B30: Maestro Secretario | C30: 0 | G30: 2359 | H30: =SUM(G30:G30) -> 2359 | K30: =H30*'DATOS REFERENCIALES'!$C$4 -> 22636.492 | N30: =LOOKUP(C30,'TABLA ANTIG.'!$A$4:$A$39,'TABLA ANTIG.'!$B$4:$B$39)*(K30) -> 0 | O30: =K30*0.1 -> 2263.6492 | P30: ='DATOS REFERENCIALES'!$D$8 -> 12764 | Q30: =LOOKUP(C30,'TABLA ANTIG.'!$A$4:$A$39,'TABLA ANTIG.'!$B$4:$B$39)*(P30) -> 0 | R30: 0 | S30: =IF(C30>11,IF(H30>2069,'DATOS REFERENCIALES'!$D$18,'DATOS REFERENCIALES'!$D$18/2070*H30),0) -> 0 | T30: =K30+N30+O30+P30+Q30+R30+S30 -> 37664.141 | U30: =$T30*11% -> 4143.0556 | V30: =$T30*3% -> 1129.9242 | W30: =$T30*3% -> 1129.9242 | X30: =$T30*2% -> 753.28283 | Y30: =$T30*4.5% -> 1694.8864 | Z30: =SUM(U30:Y30) -> 8851.0732 | AA30: =T30-Z30 -> 28813.068 | AB30: ='DATOS REFERENCIALES'!$D$10 -> 4540 | AC30: =IF(C30<12,IF(H30>2069,'DATOS REFERENCIALES'!$D$17,'DATOS REFERENCIALES'!$D$17/2070*H30),0) -> 5168 | AD30: =IF((IF(H30>2069,('DATOS REFERENCIALES'!$D$9-(T30-U30-V30-W30-X30-Y30+AB30+AC30)),(('DATOS REFERENCIALES'!$D$9/2070)*H30)-(K30+N30+O30+P30+Q30+S30-U30-V30-W30-X30-Y30+AB30+AC30)))<0,0,IF(H30>2069,(('DATOS REFERENCIALES'!$D$9)-(T30-U30-V30-W30-X30-Y30+AB30+AC30)),(('DATOS REFERENCIALES'!$D$9/2070)*H30)-(K30+N30+O30+P30+Q30+S30-U30-V30-W30-X30-Y30+AB30+AC30))) -> 18554.932 | AE30: =SUM(AA30:AD30) -> 57076 | AF30: ='DATOS REFERENCIALES'!$D$13 -> 2420 | AH30: =IF($H30>2042,'DATOS REFERENCIALES'!#REF!,'DATOS REFERENCIALES'!#REF!/2043*$H30) -> #REF! | AI30: =+AF30 -> 2420 | AJ30: ='DATOS REFERENCIALES'!$D$12 -> 420 | AK30: =+AE30+AE31+AF30+AI30+AJ30 -> 64717.143 | AL30: ='DATOS REFERENCIALES'!$D$16 -> 4044.61 | AM30: =AL30*$AM$8 -> 950.48335 | AN30: =AL30-AM30 -> 3094.1267 | AO30: =AK30+AN30 -> 67811.27
A31: 849 | B31: Maestro Secretario | C31: =IF(C30>0,C30,0) -> 0 | I31: =176.93/'DATOS REFERENCIALES'!$I$4*'DATOS REFERENCIALES'!$J$4 -> 294.88333 | L31: =I31*'DATOS REFERENCIALES'!$C$4 -> 2829.6415 | N31: =LOOKUP(C31,'TABLA ANTIG.'!$A$4:$A$39,'TABLA ANTIG.'!$B$4:$B$39)*(L31+M31) -> 0 | O31: =(L31+M31)*0.1 -> 282.96415 | T31: =L31+M31+N31+O31+P31+Q31+R31 -> 3112.6056 | U31: =$T31*11% -> 342.38662 | V31: =$T31*3% -> 93.378169 | W31: =$T31*3% -> 93.378169 | X31: =$T31*2% -> 62.252113 | Y31: =$T31*4.5% -> 140.06725 | Z31: =SUM(U31:Y31) -> 731.46233 | AA31: =T31-Z31 -> 2381.1433 | AE31: =SUM(AA31:AD31) -> 2381.1433
