Workbook
Name HORAS: Hoja1!$A$4:$A$43
Name OLE_LINK11: SUPERIOR!$AE$34

Sheet INICIAL
K3: UTILIZAR LA GRILLA A MODO DE EJEMPLO
A6: Grilla Salarial según ACTA PARITARIA desde MARZO 2020
A7: Ejemplos de liquidación salarial para cargos sin antigüedad en la docencia. Al incluir antigüedades, disminuye o desaparece el monto del C.M.G.
A8: Jardín de Infantes Común / Nivel Inicial - JORNADA SIMPLE | AB8: Jardín de Infantes Común / Nivel Inicial - JORNADA SIMPLE | AL8: 0.235
A9: Códigos | B9: Denominación del cargo | C9: AÑOS | D9: CANTIDAD DE HORAS | E9: SUBVENCIONADO | F9: CAJA COMPL. | G9: INDICE del Sueldo básico Unificado | H9: TOTAL DE INDICES | I9: INDICES JERARQUIZACION | J9: PLUS DIFERENCIAL POR ESTABLECIMIENTO | K9: Valor Sueldo Básico Unificado RB | L9: PLUS DIFERENCIAL POR JERARQUIZACIÓN | M9: PLUS DIFERENCIAL POR ESTABLECIMIENTO | N9: Antigüedad Docente | O9: Asig. Estímulo Educ. R/ NB (Presentismo) | P9: DECRETO 243/08 RB | Q9: Antigüedad Decreto 243/08 | R9: Art. 128 Estatuto Docente R/ NB | S9: Suma Fija Remun. No Bonif. | T9: Total Haberes Remunerat. | U9: Retenciones por aportes personales | Z9: Total Aportes | AA9: SUBTOTAL NETO SIN C.M.G. | AB9: MDM | AC9: Suma Fija No Remun. No Bonif. | AD9: C.M.G. | AE9: Sub Total Neto a cobrar | AF9: FONID / RESOLUC. Nº 02/04 neto | AG9: SUMA FIJA NO REMUN.Y NO BONIF. POR UNICA VEZ | AH9: 1 CUOTA EXTRAORDINARIA DE FONID | AI9: APORTE NAC. A MAT. DIDÁCTICO 2017 | AJ9: TOTAL NETO A COBRAR | AK9: Adicional Especial Remun no Bonif. | AL9: Total Aportes | AM9: NETO DEL ADICIO-NAL | AN9: NETO A COBRAR
U10: Jubilación 11% | V10: Obra Social 3% | W10: INSSJP - Ley 19032 3% | X10: Ley 24.016 Dec. 137/05 2% | Y10: Caja Compl. 4,5%
A11: 528 | B11: Director de Jardín de Infantes Independeniente | C11: 0 | G11: 1783 | H11: =SUM(G11:G11) -> 1783 | K11: =H11*'DATOS REFERENCIALES'!$C$4 -> 17109.311 | N11: =LOOKUP(C11,'TABLA ANTIG.'!$A$4:$A$39,'TABLA ANTIG.'!$B$4:$B$39)*(K11) -> 0 | O11: =(K11)*0.1 -> 1710.9311 | P11: ='DATOS REFERENCIALES'!$C$8 -> 6382 | Q11: =LOOKUP(C11,'TABLA ANTIG.'!$A$4:$A$39,'TABLA ANTIG.'!$B$4:$B$39)*(P11) -> 0 | R11: 0 | S11: =IF(C11>11,IF(H11>1134,'DATOS REFERENCIALES'!$C$18,'DATOS REFERENCIALES'!$C$18/1135*H11),0) -> 0 | T11: =K11+L11+M11+N11+O11+P11+Q11+R11+S11 -> 25202.243 | U11: =$T11*11% -> 2772.2467 | V11: =$T11*3% -> 756.06728 | W11: =$T11*3% -> 756.06728 | X11: =$T11*2% -> 504.04485 | Y11: =$T11*4.5% -> 1134.1009 | Z11: =SUM(U11:Y11) -> 5922.527 | AA11: =T11-Z11 -> 19279.716 | AB11: ='DATOS REFERENCIALES'!$C$10 -> 2270 | AC11: =IF(C11<12,IF(H11>1134,'DATOS REFERENCIALES'!$C$17,'DATOS REFERENCIALES'!$C$17/1135*H11),0) -> 2584 | AD11: =IF((IF(H11>1134,('DATOS REFERENCIALES'!$C$9-(T11-U11-V11-W11-X11-Y11+AB11+AC11)),(('DATOS REFERENCIALES'!$C$9/1135)*H11)-(K11+N11+O11+P11+Q11+S11-U11-V11-W11-X11-Y11+AB11+AC11)))<0,0,IF(H11>1134,(('DATOS REFERENCIALES'!$C$9)-(T11-U11-V11-W11-X11-Y11+AB11+AC11)),(('DATOS REFERENCIALES'!$C$9/1135)*H11)-(K11+N11+O11+P11+Q11+S11-U11-V11-W11-X11-Y11+AB11+AC11))) -> 4404.2845 | AE11: =SUM(AA11:AD11) -> 28538 | AF11: ='DATOS REFERENCIALES'!$C$13 -> 1210 | AG11: =IF($H11>1119,'DATOS REFERENCIALES'!#REF!,'DATOS REFERENCIALES'!#REF!/1120*$H11) -> #REF! | AH11: =+AF11 -> 1210 | AI11: ='DATOS REFERENCIALES'!$C$12 -> 210 | AJ11: =+AE11+AE12+AF11+AI11+AH11 -> 33831.602 | AK11: ='DATOS REFERENCIALES'!C16 -> 2022.305 | AL11: =AK11*$AL$8 -> 475.24167 | AM11: =AK11-AL11 -> 1547.0633 | AN11: =AJ11+AM11 -> 35378.665 | AO11: Para los cargos de Jardín se debe abonar un "suplememto no remunerativo y complementario" para quienes cobren 50% de las AAFF
A12: 528 | B12: Director de Jardín de Infantes Independeniente | C12: =IF(C11>0,C11,0) -> 0 | G12: 1783 | I12: =133.73/'DATOS REFERENCIALES'!$I$4*'DATOS REFERENCIALES'!$J$4 -> 222.88333 | J12: 1 turno y hasta 14 secciones. | L12: =I12*'DATOS REFERENCIALES'!$C$4 -> 2138.7439 | M12: =IF(J12='DATOS REFERENCIALES'!$C$31,INICIAL!K11*'DATOS REFERENCIALES'!$D$31,IF(J12='DATOS REFERENCIALES'!$C$32,('DATOS REFERENCIALES'!$D$32*INICIAL!K11),IF(J12='DATOS REFERENCIALES'!$C$33,('DATOS REFERENCIALES'!$D$33*INICIAL!K11),IF(J12='DATOS REFERENCIALES'!$C$34,('DATOS REFERENCIALES'!$D$34*INICIAL!K11),IF(J12='DATOS REFERENCIALES'!$C$35,('DATOS REFERENCIALES'!$D$35*INICIAL!K11),IF(J12='DATOS REFERENCIALES'!$C$36,('DATOS REFERENCIALES'!$D$36*INICIAL!K11),IF(J12='DATOS REFERENCIALES'!$C$37,('DATOS REFERENCIALES'!$D$37*INICIAL!K11),IF(J12='DATOS REFERENCIALES'!$C$38,('DATOS REFERENCIALES'!$D$38*INICIAL!K11),0)))))))) -> 1026.5587 | N12: =LOOKUP(C12,'TABLA ANTIG.'!$A$4:$A$39,'TABLA ANTIG.'!$B$4:$B$39)*(L12+M12) -> 0 | O12: =(L12+M12)*0.1 -> 316.53026 | T12: =L12+M12+O12+N12+P12+Q12+R12+S12 -> 3481.8328 | U12: =$T12*11% -> 383.00161 | V12: =$T12*3% -> 104.45498 | W12: =$T12*3% -> 104.45498 | X12: =$T12*2% -> 69.636657 | Y12: =$T12*4.5% -> 156.68248 | Z12: =SUM(U12:Y12) -> 818.23072 | AA12: =T12-Z12 -> 2663.6021 | AE12: =SUM(AA12:AD12) -> 2663.6021
A13: 579 | B13: Vicedirector | C13: 0 | G13: 1545 | H13: =SUM(G13:G13) -> 1545 | K13: =H13*'DATOS REFERENCIALES'!$C$4 -> 14825.511 | N13: =LOOKUP(C13,'TABLA ANTIG.'!$A$4:$A$39,'TABLA ANTIG.'!$B$4:$B$39)*(K13) -> 0 | O13: =(K13)*0.1 -> 1482.5511 | P13: ='DATOS REFERENCIALES'!$C$8 -> 6382 | Q13: =LOOKUP(C13,'TABLA ANTIG.'!$A$4:$A$39,'TABLA ANTIG.'!$B$4:$B$39)*(P13) -> 0 | R13: 0 | S13: =IF(C13>11,IF(H13>1134,'DATOS REFERENCIALES'!$C$18,'DATOS REFERENCIALES'!$C$18/1135*H13),0) -> 0 | T13: =K13+L13+M13+N13+O13+P13+Q13+R13+S13 -> 22690.062 | U13: =$T13*11% -> 2495.9068 | V13: =$T13*3% -> 680.70186 | W13: =$T13*3% -> 680.70186 | X13: =$T13*2% -> 453.80124 | Y13: =$T13*4.5% -> 1021.0528 | Z13: =SUM(U13:Y13) -> 5332.1646 | AA13: =T13-Z13 -> 17357.898 | AB13: ='DATOS REFERENCIALES'!$C$10 -> 2270 | AC13: =IF(C13<12,IF(H13>1134,'DATOS REFERENCIALES'!$C$17,'DATOS REFERENCIALES'!$C$17/1135*H13),0) -> 2584 | AD13: =IF((IF(H13>1134,('DATOS REFERENCIALES'!$C$9-(T13-U13-V13-W13-X13-Y13+AB13+AC13)),(('DATOS REFERENCIALES'!$C$9/1135)*H13)-(K13+N13+O13+P13+Q13+S13-U13-V13-W13-X13-Y13+AB13+AC13)))<0,0,IF(H13>1134,(('DATOS REFERENCIALES'!$C$9)-(T13-U13-V13-W13-X13-Y13+AB13+AC13)),(('DATOS REFERENCIALES'!$C$9/1135)*H13)-(K13+N13+O13+P13+Q13+S13-U13-V13-W13-X13-Y13+AB13+AC13))) -> 6326.1025 | AE13: =SUM(AA13:AD13) -> 28538 | AF13: ='DATOS REFERENCIALES'!$C$13 -> 1210 | AG13: =IF($H13>1119,'DATOS REFERENCIALES'!#REF!,'DATOS REFERENCIALES'!#REF!/1120*$H13) -> #REF! | AH13: =+AF13 -> 1210 | AI13: ='DATOS REFERENCIALES'!$C$12 -> 210 | AJ13: =+AE13+AE14+AF13+AI13+AH13 -> 32727.526 | AK13: ='DATOS REFERENCIALES'!C16 -> 2022.305 | AL13: =AK13*$AL$8 -> 475.24167 | AM13: =AK13-AL13 -> 1547.0633 | AN13: =AJ13+AM13 -> 34274.589
A14: 579 | B14: Vicedirector | C14: =IF(C13>0,C13,0) -> 0 | G14: 1545 | I14: =115.88/'DATOS REFERENCIALES'!$I$4*'DATOS REFERENCIALES'!$J$4 -> 193.13333 | L14: =I14*'DATOS REFERENCIALES'!$C$4 -> 1853.2688 | N14: =LOOKUP(C14,'TABLA ANTIG.'!$A$4:$A$39,'TABLA ANTIG.'!$B$4:$B$39)*(L14+M14) -> 0 | O14: =(L14+M14)*0.1 -> 185.32688 | T14: =K14+L14+M14+N14+O14+P14+Q14+R14+S14 -> 2038.5957 | U14: =$T14*11% -> 224.24553 | V14: =$T14*3% -> 61.157872 | W14: =$T14*3% -> 61.157872 | X14: =$T14*2% -> 40.771914 | Y14: =$T14*4.5% -> 91.736808 | Z14: =SUM(U14:Y14) -> 479.07 | AA14: =T14-Z14 -> 1559.5257 | AE14: =SUM(AA14:AD14) -> 1559.5257
A15: 544 | B15: Maestro Secretario | C15: 0 | G15: 1307 | H15: =SUM(G15:G15) -> 1307 | K15: =H15*'DATOS REFERENCIALES'!$C$4 -> 12541.711 | N15: =LOOKUP(C15,'TABLA ANTIG.'!$A$4:$A$39,'TABLA ANTIG.'!$B$4:$B$39)*(K15) -> 0 | O15: =(K15)*0.1 -> 1254.1711 | P15: ='DATOS REFERENCIALES'!$C$8 -> 6382 | Q15: =LOOKUP(C15,'TABLA ANTIG.'!$A$4:$A$39,'TABLA ANTIG.'!$B$4:$B$39)*(P15) -> 0 | R15: 0 | S15: =IF(C15>11,IF(H15>1134,'DATOS REFERENCIALES'!$C$18,'DATOS REFERENCIALES'!$C$18/1135*H15),0) -> 0 | T15: =K15+L15+M15+N15+O15+P15+Q15+R15+S15 -> 20177.882 | U15: =$T15*11% -> 2219.567 | V15: =$T15*3% -> 605.33645 | W15: =$T15*3% -> 605.33645 | X15: =$T15*2% -> 403.55763 | Y15: =$T15*4.5% -> 908.00467 | Z15: =SUM(U15:Y15) -> 4741.8022 | AA15: =T15-Z15 -> 15436.079 | AB15: ='DATOS REFERENCIALES'!$C$10 -> 2270 | AC15: =IF(C15<12,IF(H15>1134,'DATOS REFERENCIALES'!$C$17,'DATOS REFERENCIALES'!$C$17/1135*H15),0) -> 2584 | AD15: =IF((IF(H15>1134,('DATOS REFERENCIALES'!$C$9-(T15-U15-V15-W15-X15-Y15+AB15+AC15)),(('DATOS REFERENCIALES'!$C$9/1135)*H15)-(K15+N15+O15+P15+Q15+S15-U15-V15-W15-X15-Y15+AB15+AC15)))<0,0,IF(H15>1134,(('DATOS REFERENCIALES'!$C$9)-(T15-U15-V15-W15-X15-Y15+AB15+AC15)),(('DATOS REFERENCIALES'!$C$9/1135)*H15)-(K15+N15+O15+P15+Q15+S15-U15-V15-W15-X15-Y15+AB15+AC15))) -> 8247.9205 | AE15: =SUM(AA15:AD15) -> 28538 | AF15: ='DATOS REFERENCIALES'!$C$13 -> 1210 | AG15: =IF($H15>1119,'DATOS REFERENCIALES'!#REF!,'DATOS REFERENCIALES'!#REF!/1120*$H15) -> #REF! | AH15: =+AF15 -> 1210 | AI15: ='DATOS REFERENCIALES'!$C$12 -> 210 | AJ15: =+AE15+AE16+AF15+AI15+AH15 -> 32487.298 | AK15: ='DATOS REFERENCIALES'!C16 -> 2022.305 | AL15: =AK15*$AL$8 -> 475.24167 | AM15: =AK15-AL15 -> 1547.0633 | AN15: =AJ15+AM15 -> 34034.362
A16: 544 | B16: Maestro Secretario | C16: =IF(C15>0,C15,0) -> 0 | G16: 1307 | I16: =98.03/'DATOS REFERENCIALES'!$I$4*'DATOS REFERENCIALES'!$J$4 -> 163.38333 | L16: =I16*'DATOS REFERENCIALES'!$C$4 -> 1567.7938 | N16: =LOOKUP(C16,'TABLA ANTIG.'!$A$4:$A$39,'TABLA ANTIG.'!$B$4:$B$39)*(L16+M16) -> 0 | O16: =(L16+M16)*0.1 -> 156.77938 | T16: =K16+L16+M16+N16+O16+P16+Q16+R16+S16 -> 1724.5732 | U16: =$T16*11% -> 189.70305 | V16: =$T16*3% -> 51.737195 | W16: =$T16*3% -> 51.737195 | X16: =$T16*2% -> 34.491463 | Y16: =$T16*4.5% -> 77.605793 | Z16: =SUM(U16:Y16) -> 405.27469 | AA16: =T16-Z16 -> 1319.2985 | AE16: =SUM(AA16:AD16) -> 1319.2985
A17: 543 | B17: Maestro Jardinera/Sección | C17: 0 | G17: 1120 | H17: 1135 | K17: =H17*'DATOS REFERENCIALES'!$C$4 -> 10891.233 | N17: =LOOKUP(C17,'TABLA ANTIG.'!$A$4:$A$39,'TABLA ANTIG.'!$B$4:$B$39)*(K17+L17+M17) -> 0 | O17: =(K17+L17+M17)*0.1 -> 1089.1233 | P17: ='DATOS REFERENCIALES'!$C$8 -> 6382 | Q17: =LOOKUP(C17,'TABLA ANTIG.'!$A$4:$A$39,'TABLA ANTIG.'!$B$4:$B$39)*(P17) -> 0 | R17: 0 | S17: =IF(C17>11,IF(H17>1134,'DATOS REFERENCIALES'!$C$18,'DATOS REFERENCIALES'!$C$18/1135*H17),0) -> 0 | T17: =K17+L17+M17+N17+O17+P17+Q17+R17+S17 -> 18362.356 | U17: =$T17*11% -> 2019.8592 | V17: =$T17*3% -> 550.87069 | W17: =$T17*3% -> 550.87069 | X17: =$T17*2% -> 367.24713 | Y17: =$T17*4.5% -> 826.30603 | Z17: =SUM(U17:Y17) -> 4315.1537 | AA17: =T17-Z17 -> 14047.203 | AB17: ='DATOS REFERENCIALES'!$C$10 -> 2270 | AC17: =IF(C17<12,IF(H17>1134,'DATOS REFERENCIALES'!$C$17,'DATOS REFERENCIALES'!$C$17/1135*H17),0) -> 2584 | AD17: =IF((IF(H17>1134,('DATOS REFERENCIALES'!$C$9-(T17-U17-V17-W17-X17-Y17+AB17+AC17)),(('DATOS REFERENCIALES'!$C$9/1135)*H17)-(K17+N17+O17+P17+Q17+S17-U17-V17-W17-X17-Y17+AB17+AC17)))<0,0,IF(H17>1134,(('DATOS REFERENCIALES'!$C$9)-(T17-U17-V17-W17-X17-Y17+AB17+AC17)),(('DATOS REFERENCIALES'!$C$9/1135)*H17)-(K17+N17+O17+P17+Q17+S17-U17-V17-W17-X17-Y17+AB17+AC17))) -> 9636.7974 | AE17: =SUM(AA17:AD17) -> 28538 | AF17: ='DATOS REFERENCIALES'!$C$13 -> 1210 | AG17: =IF(H17>1119,'DATOS REFERENCIALES'!#REF!,'DATOS REFERENCIALES'!#REF!/1120*H17) -> #REF! | AH17: =+AF17 -> 1210 | AI17: ='DATOS REFERENCIALES'!$C$12 -> 210 | AJ17: =+AE17+AF17+AI17+AH17 -> 31168 | AK17: ='DATOS REFERENCIALES'!$C$16 -> 2022.305 | AL17: =AK17*$AL$8 -> 475.24167 | AM17: =AK17-AL17 -> 1547.0633 | AN17: =AJ17+AM17 -> 32715.063
A18: 906 | B18: Maestro de Apoyo | C18: 0 | G18: 1120 | H18: 1135 | K18: =H18*'DATOS REFERENCIALES'!$C$4 -> 10891.233 | N18: =LOOKUP(C18,'TABLA ANTIG.'!$A$4:$A$39,'TABLA ANTIG.'!$B$4:$B$39)*(K18+L18+M18) -> 0 | O18: =(K18+L18+M18)*0.1 -> 1089.1233 | P18: ='DATOS REFERENCIALES'!$C$8 -> 6382 | Q18: =LOOKUP(C18,'TABLA ANTIG.'!$A$4:$A$39,'TABLA ANTIG.'!$B$4:$B$39)*(P18) -> 0 | R18: 0 | S18: =IF(C18>11,IF(H18>1134,'DATOS REFERENCIALES'!$C$18,'DATOS REFERENCIALES'!$C$18/1135*H18),0) -> 0 | T18: =K18+L18+M18+N18+O18+P18+Q18+R18+S18 -> 18362.356 | U18: =$T18*11% -> 2019.8592 | V18: =$T18*3% -> 550.87069 | W18: =$T18*3% -> 550.87069 | X18: =$T18*2% -> 367.24713 | Y18: =$T18*4.5% -> 826.30603 | Z18: =SUM(U18:Y18) -> 4315.1537 | AA18: =T18-Z18 -> 14047.203 | AB18: ='DATOS REFERENCIALES'!$C$10 -> 2270 | AC18: =IF(C18<12,IF(H18>1134,'DATOS REFERENCIALES'!$C$17,'DATOS REFERENCIALES'!$C$17/1135*H18),0) -> 2584 | AD18: =IF((IF(H18>1134,('DATOS REFERENCIALES'!$C$9-(T18-U18-V18-W18-X18-Y18+AB18+AC18)),(('DATOS REFERENCIALES'!$C$9/1135)*H18)-(K18+N18+O18+P18+Q18+S18-U18-V18-W18-X18-Y18+AB18+AC18)))<0,0,IF(H18>1134,(('DATOS REFERENCIALES'!$C$9)-(T18-U18-V18-W18-X18-Y18+AB18+AC18)),(('DATOS REFERENCIALES'!$C$9/1135)*H18)-(K18+N18+O18+P18+Q18+S18-U18-V18-W18-X18-Y18+AB18+AC18))) -> 9636.7974 | AE18: =SUM(AA18:AD18) -> 28538 | AF18: ='DATOS REFERENCIALES'!$C$13 -> 1210 | AG18: =IF(H18>1119,'DATOS REFERENCIALES'!#REF!,'DATOS REFERENCIALES'!#REF!/1120*H18) -> #REF! | AH18: =+AF18 -> 1210 | AI18: ='DATOS REFERENCIALES'!$C$12 -> 210 | AJ18: =+AE18+AF18+AI18+AH18 -> 31168 | AK18: ='DATOS REFERENCIALES'!$C$16 -> 2022.305 | AL18: =AK18*$AL$8 -> 475.24167 | AM18: =AK18-AL18 -> 1547.0633 | AN18: =AJ18+AM18 -> 32715.063
A19: 907 | B19: Maestro de Apoyo para la integración | C19: 0 | G19: 1120 | H19: 1135 | K19: =H19*'DATOS REFERENCIALES'!$C$4 -> 10891.233 | N19: =LOOKUP(C19,'TABLA ANTIG.'!$A$4:$A$39,'TABLA ANTIG.'!$B$4:$B$39)*(K19+L19+M19) -> 0 | O19: =(K19+L19+M19)*0.1 -> 1089.1233 | P19: ='DATOS REFERENCIALES'!$C$8 -> 6382 | Q19: =LOOKUP(C19,'TABLA ANTIG.'!$A$4:$A$39,'TABLA ANTIG.'!$B$4:$B$39)*(P19) -> 0 | R19: 0 | S19: =IF(C19>11,IF(H19>1134,'DATOS REFERENCIALES'!$C$18,'DATOS REFERENCIALES'!$C$18/1135*H19),0) -> 0 | T19: =K19+L19+M19+N19+O19+P19+Q19+R19+S19 -> 18362.356 | U19: =$T19*11% -> 2019.8592 | V19: =$T19*3% -> 550.87069 | W19: =$T19*3% -> 550.87069 | X19: =$T19*2% -> 367.24713 | Y19: =$T19*4.5% -> 826.30603 | Z19: =SUM(U19:Y19) -> 4315.1537 | AA19: =T19-Z19 -> 14047.203 | AB19: ='DATOS REFERENCIALES'!$C$10 -> 2270 | AC19: =IF(C19<12,IF(H19>1134,'DATOS REFERENCIALES'!$C$17,'DATOS REFERENCIALES'!$C$17/1135*H19),0) -> 2584 | AD19: =IF((IF(H19>1134,('DATOS REFERENCIALES'!$C$9-(T19-U19-V19-W19-X19-Y19+AB19+AC19)),(('DATOS REFERENCIALES'!$C$9/1135)*H19)-(K19+N19+O19+P19+Q19+S19-U19-V19-W19-X19-Y19+AB19+AC19)))<0,0,IF(H19>1134,(('DATOS REFERENCIALES'!$C$9)-(T19-U19-V19-W19-X19-Y19+AB19+AC19)),(('DATOS REFERENCIALES'!$C$9/1135)*H19)-(K19+N19+O19+P19+Q19+S19-U19-V19-W19-X19-Y19+AB19+AC19))) -> 9636.7974 | AE19: =SUM(AA19:AD19) -> 28538 | AF19: ='DATOS REFERENCIALES'!$C$13 -> 1210 | AG19: =IF(H19>1119,'DATOS REFERENCIALES'!#REF!,'DATOS REFERENCIALES'!#REF!/1120*H19) -> #REF! | AH19: =+AF19 -> 1210 | AI19: ='DATOS REFERENCIALES'!$C$12 -> 210 | AJ19: =+AE19+AF19+AI19+AH19 -> 31168 | AK19: ='DATOS REFERENCIALES'!$C$16 -> 2022.305 | AL19: =AK19*$AL$8 -> 475.24167 | AM19: =AK19-AL19 -> 1547.0633 | AN19: =AJ19+AM19 -> 32715.063
A20: 889 | B20: Maestro Celador | C20: 0 | G20: 981.5 | H20: =SUM(G20:G20) -> 981.5 | K20: =H20*'DATOS REFERENCIALES'!$C$4 -> 9418.2777 | N20: =LOOKUP(C20,'TABLA ANTIG.'!$A$4:$A$39,'TABLA ANTIG.'!$B$4:$B$39)*(K20+L20+M20) -> 0 | O20: =(K20+L20+M20)*0.1 -> 941.82777 | P20: ='DATOS REFERENCIALES'!$C$8 -> 6382 | Q20: =LOOKUP(C20,'TABLA ANTIG.'!$A$4:$A$39,'TABLA ANTIG.'!$B$4:$B$39)*(P20) -> 0 | R20: 0 | S20: =IF(C20>11,IF(H20>1134,'DATOS REFERENCIALES'!$C$18,'DATOS REFERENCIALES'!$C$18/1135*H20),0) -> 0 | T20: =K20+L20+M20+N20+O20+P20+Q20+R20+S20 -> 16742.105 | U20: =$T20*11% -> 1841.6316 | V20: =$T20*3% -> 502.26316 | W20: =$T20*3% -> 502.26316 | X20: =$T20*2% -> 334.84211 | Y20: =$T20*4.5% -> 753.39475 | Z20: =SUM(U20:Y20) -> 3934.3948 | AA20: =T20-Z20 -> 12807.711 | AB20: ='DATOS REFERENCIALES'!$C$10 -> 2270 | AC20: =IF(C20<12,IF(H20>1134,'DATOS REFERENCIALES'!$C$17,'DATOS REFERENCIALES'!$C$17/1135*H20),0) -> 2234.5339 | AD20: =IF((IF(H20>1134,('DATOS REFERENCIALES'!$C$9-(T20-U20-V20-W20-X20-Y20+AB20+AC20)),(('DATOS REFERENCIALES'!$C$9/1135)*H20)-(K20+N20+O20+P20+Q20+S20-U20-V20-W20-X20-Y20+AB20+AC20)))<0,0,IF(H20>1134,(('DATOS REFERENCIALES'!$C$9)-(T20-U20-V20-W20-X20-Y20+AB20+AC20)),(('DATOS REFERENCIALES'!$C$9/1135)*H20)-(K20+N20+O20+P20+Q20+S20-U20-V20-W20-X20-Y20+AB20+AC20))) -> 7366.2109 | AE20: =SUM(AA20:AD20) -> 24678.456 | AF20: ='DATOS REFERENCIALES'!$C$13 -> 1210 | AG20: =IF(H20>1119,'DATOS REFERENCIALES'!#REF!,'DATOS REFERENCIALES'!#REF!/1120*H20) -> #REF! | AH20: =+AF20 -> 1210 | AI20: ='DATOS REFERENCIALES'!$C$12 -> 210 | AJ20: =+AE20+AF20+AI20+AH20 -> 27308.456 | AK20: ='DATOS REFERENCIALES'!$C$16 -> 2022.305 | AL20: =AK20*$AL$8 -> 475.24167 | AM20: =AK20-AL20 -> 1547.0633 | AN20: =AJ20+AM20 -> 28855.519
A21: 566 | B21: Hora cátedra Maestro Especial | C21: 0 | D21: 1 | G21: 56 | H21: =SUM(G21:G21) -> 56 | K21: =(H21*'DATOS REFERENCIALES'!$C$4)*D21 -> 537.3648 | N21: =LOOKUP(C21,'TABLA ANTIG.'!$A$4:$A$39,'TABLA ANTIG.'!$B$4:$B$39)*(K21+L21+M21) -> 0 | O21: =(K21+L21+M21)*0.1 -> 53.73648 | P21: =IF(D21>48,'DATOS REFERENCIALES'!D8+('DATOS REFERENCIALES'!F8*10),IF(D21<39,'DATOS REFERENCIALES'!$E$8*D21,((D21-'DATOS REFERENCIALES'!$I$8)*'DATOS REFERENCIALES'!$F$8)+'DATOS REFERENCIALES'!D8)) -> 335.89474 | Q21: =LOOKUP(C21,'TABLA ANTIG.'!$A$4:$A$39,'TABLA ANTIG.'!$B$4:$B$39)*(P21) -> 0 | R21: 0 | S21: =IF(C21>11,IF(H21>1134,'DATOS REFERENCIALES'!$C$18,'DATOS REFERENCIALES'!$C$18/20*D21),0) -> 0 | T21: =K21+L21+M21+N21+O21+P21+Q21+R21+S21 -> 926.99602 | U21: =$T21*11% -> 101.96956 | V21: =$T21*3% -> 27.809881 | W21: =$T21*3% -> 27.809881 | X21: =$T21*2% -> 18.53992 | Y21: =$T21*4.5% -> 41.714821 | Z21: =SUM(U21:Y21) -> 217.84406 | AA21: =T21-Z21 -> 709.15195 | AB21: =IF(D21>38,'DATOS REFERENCIALES'!$D$10,'DATOS REFERENCIALES'!$E$10*D21) -> 119.47368 | AC21: =IF(C21<12,IF(H21>1134,'DATOS REFERENCIALES'!$C$17,'DATOS REFERENCIALES'!$C$17/20*D21),0) -> 129.2 | AD21: =IF(D21>41,IF((('DATOS REFERENCIALES'!$D$9)-((T21)+(AB21)+(AC21)))<0,0,((('DATOS REFERENCIALES'!$D$9)-((T21)-(Z21)+(AB21)+(AC21))))),IF((('DATOS REFERENCIALES'!$E$9*D21)-(((T21)+(AB21)+(AC21))))<0,0,('DATOS REFERENCIALES'!$E$9*D21)-((T21)-(Z21)+(AB21)+(AC21)))) -> 469.07436 | AE21: =SUM(AA21:AD21) -> 1426.9 | AF21: =IF(D21>'DATOS REFERENCIALES'!$I$13,'DATOS REFERENCIALES'!$D$13,('DATOS REFERENCIALES'!$E$13*D21)) -> 80.666667 | AG21: =IF(D21>'DATOS REFERENCIALES'!#REF!,'DATOS REFERENCIALES'!#REF!,('DATOS REFERENCIALES'!#REF!*D21)) -> #REF! | AH21: =+AF21 -> 80.666667 | AI21: =IF(D21>'DATOS REFERENCIALES'!$I$12,'DATOS REFERENCIALES'!$D$12,'DATOS REFERENCIALES'!$E$12*D21) -> 14 | AJ21: =+AE21+AF21+AI21+AH21 -> 1602.2333 | AK21: =IF(D21>'DATOS REFERENCIALES'!$I$16,'DATOS REFERENCIALES'!$D$16,'DATOS REFERENCIALES'!$E$16*D21) -> 134.82033 | AL21: =AK21*$AL$8 -> 31.682778 | AM21: =AK21-AL21 -> 103.13756 | AN21: =AJ21+AM21 -> 1705.3709
A23: Jardín de Infantes Común / Nivel Inicial - JORNADA COMPLETA | AB23: Jardín de Infantes Común / Nivel Inicial- JORNADA COMPLETA | AL23: 0.235
A24: Códigos | B24: Denominación del cargo | C24: AÑOS | D24: CANTIDAD DE HORAS | E24: SUBVENCIONADO | F24: CAJA COMPL. | G24: INDICE del Sueldo básico Unificado | H24: TOTAL DE INDICES | I24: INDICES JERARQUIZACION | J24: PLUS DIFERENCIAL POR ESTABLECIMIENTO | K24: Valor Sueldo Básico Unificado RB | L24: PLUS DIFERENCIAL POR JERARQUIZACIÓN | M24: PLUS DIFERENCIAL POR ESTABLECIMIENTO | N24: Antigüedad Docente | O24: Asig. Estímulo Educ. R/ NB (Presentismo) | P24: DECRETO 243/08 RB | Q24: Antigüedad Decreto 243/08 | R24: Art. 128 Estatuto Docente R/ NB | S24: Suma Fija Remun. No Bonif. | T24: Total Haberes Remunerat. | U24: Retenciones por aportes personales | Z24: Total Aportes | AA24: SUBTOTAL NETO SIN C.M.G. | AB24: MDM | AC24: Suma Fija No Remun. No Bonif. | AD24: C.M.G. | AE24: Sub Total Neto a cobrar | AF24: FONID / RESOLUC. Nº 02/04 neto | AG24: SUMA FIJA NO REMUN.Y NO BONIF. POR UNICA VEZ | AH24: 1 CUOTA EXTRAORDINARIA DE FONID | AI24: APORTE NAC. A MAT. DIDÁCTICO 2017 | AJ24: TOTAL NETO A COBRAR | AK24: Adicional Especial Remun no Bonif. | AL24: Total Aportes | AM24: NETO DEL ADICIO-NAL | AN24: NETO A COBRAR
U25: Jubilación 11% | V25: Obra Social 3% | W25: INSSJP - Ley 19032 3% | X25: Ley 24.016 Dec. 137/05 2% | Y25: Caja Compl. 4,5%
A26: 835 | B26: Director de Jardín de Infantes | C26: 0 | G26: 3125 | H26: =SUM(G26:G26) -> 3125 | K26: =H26*'DATOS REFERENCIALES'!$C$4 -> 29986.875 | N26: =LOOKUP(C26,'TABLA ANTIG.'!$A$4:$A$39,'TABLA ANTIG.'!$B$4:$B$39)*(K26) -> 0 | O26: =(K26)*0.1 -> 2998.6875 | P26: ='DATOS REFERENCIALES'!$D$8 -> 12764 | Q26: =LOOKUP(C26,'TABLA ANTIG.'!$A$4:$A$39,'TABLA ANTIG.'!$B$4:$B$39)*(P26) -> 0 | R26: 0 | S26: =IF(C26>11,IF(H26>2069,'DATOS REFERENCIALES'!$D$18,'DATOS REFERENCIALES'!$D$18/2070*H26),0) -> 0 | T26: =K26+L26+M26+N26+O26+P26+Q26+R26+S26 -> 45749.562 | U26: =$T26*11% -> 5032.4519 | V26: =$T26*3% -> 1372.4869 | W26: =$T26*3% -> 1372.4869 | X26: =$T26*2% -> 914.99125 | Y26: =$T26*4.5% -> 2058.7303 | Z26: =SUM(U26:Y26) -> 10751.147 | AA26: =T26-Z26 -> 34998.415 | AB26: ='DATOS REFERENCIALES'!$D$10 -> 4540 | AC26: =IF(C26<12,IF(H26>2069,'DATOS REFERENCIALES'!$D$17,'DATOS REFERENCIALES'!$D$17/2070*H26),0) -> 5168 | AD26: =IF((IF(H26>2069,('DATOS REFERENCIALES'!$D$9-(T26-U26-V26-W26-X26-Y26+AB26+AC26)),(('DATOS REFERENCIALES'!$D$9/2070)*H26)-(K26+N26+O26+P26+Q26+S26-U26-V26-W26-X26-Y26+AB26+AC26)))<0,0,IF(H26>2070,(('DATOS REFERENCIALES'!$D$9)-(T26-U26-V26-W26-X26-Y26+AB26+AC26)),(('DATOS REFERENCIALES'!$D$9/2070)*H26)-(K26+N26+O26+P26+Q26+S26-U26-V26-W26-X26-Y26+AB26+AC26))) -> 12369.585 | AE26: =SUM(AA26:AD26) -> 57076 | AF26: ='DATOS REFERENCIALES'!$D$13 -> 2420 | AG26: =IF($H26>2042,'DATOS REFERENCIALES'!#REF!,'DATOS REFERENCIALES'!#REF!/2043*$H26) -> #REF! | AH26: =+AF26 -> 2420 | AI26: ='DATOS REFERENCIALES'!$D$12 -> 420 | AJ26: =+AE26+AE27+AF26+AI26+AH26 -> 67004.349 | AK26: ='DATOS REFERENCIALES'!D16 -> 4044.61 | AL26: =AK26*$AL$8 -> 950.48335 | AM26: =AK26-AL26 -> 3094.1267 | AN26: =AJ26+AM26 -> 70098.476
A27: 835 | B27: Director de Jardín de Infantes | C27: =IF(C26>0,C26,0) -> 0 | I27: =234.38/'DATOS REFERENCIALES'!$I$4*'DATOS REFERENCIALES'!$J$4 -> 390.63333 | J27: 1 turno y hasta 14 secciones. | L27: =I27*'DATOS REFERENCIALES'!$C$4 -> 3748.4393 | M27: =IF(J27='DATOS REFERENCIALES'!$C$31,INICIAL!K26*'DATOS REFERENCIALES'!$D$31,IF(J27='DATOS REFERENCIALES'!$C$32,('DATOS REFERENCIALES'!$D$32*INICIAL!K26),IF(J27='DATOS REFERENCIALES'!$C$33,('DATOS REFERENCIALES'!$D$33*INICIAL!K26),IF(J27='DATOS REFERENCIALES'!$C$34,('DATOS REFERENCIALES'!$D$34*INICIAL!K26),IF(J27='DATOS REFERENCIALES'!$C$35,('DATOS REFERENCIALES'!$D$35*INICIAL!K26),IF(J27='DATOS REFERENCIALES'!$C$36,('DATOS REFERENCIALES'!$D$36*INICIAL!K26),IF(J27='DATOS REFERENCIALES'!$C$37,('DATOS REFERENCIALES'!$D$37*INICIAL!K26),IF(J27='DATOS REFERENCIALES'!$C$38,('DATOS REFERENCIALES'!$D$38*INICIAL!K26),0)))))))) -> 1799.2125 | N27: =LOOKUP(C27,'TABLA ANTIG.'!$A$4:$A$39,'TABLA ANTIG.'!$B$4:$B$39)*(L27+M27) -> 0 | O27: =(L27+M27)*0.1 -> 554.76518 | T27: =K27+L27+M27+N27+O27+P27+Q27+R27 -> 6102.417 | U27: =$T27*11% -> 671.26587 | V27: =$T27*3% -> 183.07251 | W27: =$T27*3% -> 183.07251 | X27: =$T27*2% -> 122.04834 | Y27: =$T27*4.5% -> 274.60877 | Z27: =SUM(U27:Y27) -> 1434.068 | AA27: =T27-Z27 -> 4668.349 | AE27: =SUM(AA27:AD27) -> 4668.349
A28: 877 | B28: Vicedirector de Jardín de Infantes | C28: 0 | G28: 2667 | H28: =SUM(G28:G28) -> 2667 | K28: =H28*'DATOS REFERENCIALES'!$C$4 -> 25591.999 | N28: =LOOKUP(C28,'TABLA ANTIG.'!$A$4:$A$39,'TABLA ANTIG.'!$B$4:$B$39)*(K28) -> 0 | O28: =(K28)*0.1 -> 2559.1999 | P28: ='DATOS REFERENCIALES'!$D$8 -> 12764 | Q28: =LOOKUP(C28,'TABLA ANTIG.'!$A$4:$A$39,'TABLA ANTIG.'!$B$4:$B$39)*(P28) -> 0 | R28: 0 | S28: =IF(C28>11,IF(H28>2069,'DATOS REFERENCIALES'!$D$18,'DATOS REFERENCIALES'!$D$18/2070*H28),0) -> 0 | T28: =K28+L28+M28+N28+O28+P28+Q28+R28+S28 -> 40915.198 | U28: =$T28*11% -> 4500.6718 | V28: =$T28*3% -> 1227.456 | W28: =$T28*3% -> 1227.456 | X28: =$T28*2% -> 818.30397 | Y28: =$T28*4.5% -> 1841.1839 | Z28: =SUM(U28:Y28) -> 9615.0716 | AA28: =T28-Z28 -> 31300.127 | AB28: ='DATOS REFERENCIALES'!$D$10 -> 4540 | AC28: =IF(C28<12,IF(H28>2069,'DATOS REFERENCIALES'!$D$17,'DATOS REFERENCIALES'!$D$17/2070*H28),0) -> 5168 | AD28: =IF((IF(H28>2069,('DATOS REFERENCIALES'!$D$9-(T28-U28-V28-W28-X28-Y28+AB28+AC28)),(('DATOS REFERENCIALES'!$D$9/2070)*H28)-(K28+N28+O28+P28+Q28+S28-U28-V28-W28-X28-Y28+AB28+AC28)))<0,0,IF(H28>2070,(('DATOS REFERENCIALES'!$D$9)-(T28-U28-V28-W28-X28-Y28+AB28+AC28)),(('DATOS REFERENCIALES'!$D$9/2070)*H28)-(K28+N28+O28+P28+Q28+S28-U28-V28-W28-X28-Y28+AB28+AC28))) -> 16067.873 | AE28: =SUM(AA28:AD28) -> 57076 | AF28: ='DATOS REFERENCIALES'!$D$13 -> 2420 | AG28: =IF($H28>2042,'DATOS REFERENCIALES'!#REF!,'DATOS REFERENCIALES'!#REF!/2043*$H28) -> #REF! | AH28: =+AF28 -> 2420 | AI28: ='DATOS REFERENCIALES'!$D$12 -> 420 | AJ28: =+AE28+AE29+AF28+AI28+AH28 -> 65028.026 | AK28: ='DATOS REFERENCIALES'!D16 -> 4044.61 | AL28: =AK28*$AL$8 -> 950.48335 | AM28: =AK28-AL28 -> 3094.1267 | AN28: =AJ28+AM28 -> 68122.152
A29: 877 | B29: Vicedirector de Jardín de Infantes | C29: =IF(C28>0,C28,0) -> 0 | I29: =200.03/'DATOS REFERENCIALES'!$I$4*'DATOS REFERENCIALES'!$J$4 -> 333.38333 | L29: =I29*'DATOS REFERENCIALES'!$C$4 -> 3199.0798 | N29: =LOOKUP(C29,'TABLA ANTIG.'!$A$4:$A$39,'TABLA ANTIG.'!$B$4:$B$39)*(L29+M29) -> 0 | O29: =(L29+M29)*0.1 -> 319.90798 | T29: =K29+L29+M29+N29+O29+P29+Q29+R29 -> 3518.9878 | U29: =$T29*11% -> 387.08865 | V29: =$T29*3% -> 105.56963 | W29: =$T29*3% -> 105.56963 | X29: =$T29*2% -> 70.379755 | Y29: =$T29*4.5% -> 158.35445 | Z29: =SUM(U29:Y29) -> 826.96213 | AA29: =T29-Z29 -> 2692.0256 | AE29: =SUM(AA29:AD29) -> 2692.0256
A30: 838 | B30: Maestro Secretario | C30: 0 | G30: 2359 | H30: =SUM(G30:G30) -> 2359 | K30: =H30*'DATOS REFERENCIALES'!$C$4 -> 22636.492 | N30: =LOOKUP(C30,'TABLA ANTIG.'!$A$4:$A$39,'TABLA ANTIG.'!$B$4:$B$39)*(K30+L30+M30) -> 0 | O30: =(K30)*0.1 -> 2263.6492 | P30: ='DATOS REFERENCIALES'!$D$8 -> 12764 | Q30: =LOOKUP(C30,'TABLA ANTIG.'!$A$4:$A$39,'TABLA ANTIG.'!$B$4:$B$39)*(P30) -> 0 | R30: 0 | S30: =IF(C30>11,IF(H30>2069,'DATOS REFERENCIALES'!$D$18,'DATOS REFERENCIALES'!$D$18/2070*H30),0) -> 0 | T30: =K30+L30+M30+N30+O30+P30+Q30+R30+S30 -> 37664.141 | U30: =$T30*11% -> 4143.0556 | V30: =$T30*3% -> 1129.9242 | W30: =$T30*3% -> 1129.9242 | X30: =$T30*2% -> 753.28283 | Y30: =$T30*4.5% -> 1694.8864 | Z30: =SUM(U30:Y30) -> 8851.0732 | AA30: =T30-Z30 -> 28813.068 | AB30: ='DATOS REFERENCIALES'!$D$10 -> 4540 | AC30: =IF(C30<12,IF(H30>2069,'DATOS REFERENCIALES'!$D$17,'DATOS REFERENCIALES'!$D$17/2070*H30),0) -> 5168 | AD30: =IF((IF(H30>2069,('DATOS REFERENCIALES'!$D$9-(T30-U30-V30-W30-X30-Y30+AB30+AC30)),(('DATOS REFERENCIALES'!$D$9/2070)*H30)-(K30+N30+O30+P30+Q30+S30-U30-V30-W30-X30-Y30+AB30+AC30)))<0,0,IF(H30>2070,(('DATOS REFERENCIALES'!$D$9)-(T30-U30-V30-W30-X30-Y30+AB30+AC30)),(('DATOS REFERENCIALES'!$D$9/2070)*H30)-(K30+N30+O30+P30+Q30+S30-U30-V30-W30-X30-Y30+AB30+AC30))) -> 18554.932 | AE30: =SUM(AA30:AD30) -> 57076 | AF30: ='DATOS REFERENCIALES'!$D$13 -> 2420 | AG30: =IF($H30>2042,'DATOS REFERENCIALES'!#REF!,'DATOS REFERENCIALES'!#REF!/2043*$H30) -> #REF! | AH30: =+AF30 -> 2420 | AI30: ='DATOS REFERENCIALES'!$D$12 -> 420 | AJ30: =+AE30+AE31+AF30+AI30+AH30 -> 64717.143 | AK30: ='DATOS REFERENCIALES'!D16 -> 4044.61 | AL30: =AK30*$AL$8 -> 950.48335 | AM30: =AK30-AL30 -> 3094.1267 | AN30: =AJ30+AM30 -> 67811.27
A31: 838 | B31: Maestro Secretario | C31: =IF(C30>0,C30,0) -> 0 | I31: =176.93/'DATOS REFERENCIALES'!$I$4*'DATOS REFERENCIALES'!$J$4 -> 294.88333 | L31: =I31*'DATOS REFERENCIALES'!$C$4 -> 2829.6415 | N31: =LOOKUP(C31,'TABLA ANTIG.'!$A$4:$A$39,'TABLA ANTIG.'!$B$4:$B$39)*(K31+L31+M31) -> 0 | O31: =(L31+M31)*0.1 -> 282.96415 | T31: =K31+L31+M31+N31+O31+P31+Q31+R31 -> 3112.6056 | U31: =$T31*11% -> 342.38662 | V31: =$T31*3% -> 93.378169 | W31: =$T31*3% -> 93.378169 | X31: =$T31*2% -> 62.252113 | Y31: =$T31*4.5% -> 140.06725 | Z31: =SUM(U31:Y31) -> 731.46233 | AA31: =T31-Z31 -> 2381.1433 | AE31: =SUM(AA31:AD31) -> 2381.1433
A32: 906 | B32: Maestro Jardinera/Sección | C32: 0 | G32: 2240 | H32: =SUM(G32:G32) -> 2240 | K32: =H32*'DATOS REFERENCIALES'!$C$4 -> 21494.592 | N32: =LOOKUP(C32,'TABLA ANTIG.'!$A$4:$A$39,'TABLA ANTIG.'!$B$4:$B$39)*(K32+L32+M32) -> 0 | O32: =(K32+L32+M32)*0.1 -> 2149.4592 | P32: ='DATOS REFERENCIALES'!$D$8 -> 12764 | Q32: =LOOKUP(C32,'TABLA ANTIG.'!$A$4:$A$39,'TABLA ANTIG.'!$B$4:$B$39)*(P32) -> 0 | R32: 0 | S32: =IF(C32>11,IF(H32>2069,'DATOS REFERENCIALES'!$D$18,'DATOS REFERENCIALES'!$D$18/2070*H32),0) -> 0 | T32: =K32+L32+M32+N32+O32+P32+Q32+R32+S32 -> 36408.051 | U32: =$T32*11% -> 4004.8856 | V32: =$T32*3% -> 1092.2415 | W32: =$T32*3% -> 1092.2415 | X32: =$T32*2% -> 728.16102 | Y32: =$T32*4.5% -> 1638.3623 | Z32: =SUM(U32:Y32) -> 8555.892 | AA32: =T32-Z32 -> 27852.159 | AB32: ='DATOS REFERENCIALES'!$D$10 -> 4540 | AC32: =IF(C32<12,IF(H32>2069,'DATOS REFERENCIALES'!$D$17,'DATOS REFERENCIALES'!$D$17/2070*H32),0) -> 5168 | AD32: =IF((IF(H32>2069,('DATOS REFERENCIALES'!$D$9-(T32-U32-V32-W32-X32-Y32+AB32+AC32)),(('DATOS REFERENCIALES'!$D$9/2070)*H32)-(K32+N32+O32+P32+Q32+S32-U32-V32-W32-X32-Y32+AB32+AC32)))<0,0,IF(H32>2070,(('DATOS REFERENCIALES'!$D$9)-(T32-U32-V32-W32-X32-Y32+AB32+AC32)),(('DATOS REFERENCIALES'!$D$9/2070)*H32)-(K32+N32+O32+P32+Q32+S32-U32-V32-W32-X32-Y32+AB32+AC32))) -> 19515.841 | AE32: =SUM(AA32:AD32) -> 57076 | AF32: ='DATOS REFERENCIALES'!$D$13 -> 2420 | AG32: =IF($H32>2042,'DATOS REFERENCIALES'!#REF!,'DATOS REFERENCIALES'!#REF!/2043*$H32) -> #REF! | AH32: =+AF32 -> 2420 | AI32: ='DATOS REFERENCIALES'!$D$12 -> 420 | AJ32: =+AE32+AF32+AI32+AH32 -> 62336 | AK32: ='DATOS REFERENCIALES'!D16 -> 4044.61 | AL32: =AK32*$AL$8 -> 950.48335 | AM32: =AK32-AL32 -> 3094.1267 | AN32: =AJ32+AM32 -> 65430.127
A33: 566 | B33: Hora cátedra Maestro Especial | C33: 0 | D33: 1 | G33: 56 | H33: =SUM(G33:G33) -> 56 | K33: =(H33*'DATOS REFERENCIALES'!$C$4)*D33 -> 537.3648 | N33: =LOOKUP(C33,'TABLA ANTIG.'!$A$4:$A$39,'TABLA ANTIG.'!$B$4:$B$39)*(K33+L33+M33) -> 0 | O33: =(K33+L33+M33)*0.1 -> 53.73648 | P33: =IF(D33>48,'DATOS REFERENCIALES'!$D$8+('DATOS REFERENCIALES'!$F$8*10),IF(D33<39,'DATOS REFERENCIALES'!$E$8*D33,((D33-'DATOS REFERENCIALES'!$I$8)*'DATOS REFERENCIALES'!$F$8)+'DATOS REFERENCIALES'!$D$8)) -> 335.89474 | Q33: =LOOKUP(C33,'TABLA ANTIG.'!$A$4:$A$39,'TABLA ANTIG.'!$B$4:$B$39)*(P33) -> 0 | R33: 0 | S33: =IF(C33>11,IF(H33>1134,'DATOS REFERENCIALES'!$C$18,'DATOS REFERENCIALES'!$C$18/20*D33),0) -> 0 | T33: =K33+L33+M33+N33+O33+P33+Q33+R33+S33 -> 926.99602 | U33: =$T33*11% -> 101.96956 | V33: =$T33*3% -> 27.809881 | W33: =$T33*3% -> 27.809881 | X33: =$T33*2% -> 18.53992 | Y33: =$T33*4.5% -> 41.714821 | Z33: =SUM(U33:Y33) -> 217.84406 | AA33: =T33-Z33 -> 709.15195 | AB33: =IF(D33>38,'DATOS REFERENCIALES'!$D$10,'DATOS REFERENCIALES'!$E$10*D33) -> 119.47368 | AC33: =IF(C33<12,IF(H33>1134,'DATOS REFERENCIALES'!$C$17,'DATOS REFERENCIALES'!$C$17/20*D33),0) -> 129.2 | AD33: =IF(D33>41,IF((('DATOS REFERENCIALES'!$D$9)-((T33)+(AB33)+(AC33)))<0,0,((('DATOS REFERENCIALES'!$D$9)-((T33)-(Z33)+(AB33)+(AC33))))),IF((('DATOS REFERENCIALES'!$E$9*D33)-(((T33)+(AB33)+(AC33))))<0,0,('DATOS REFERENCIALES'!$E$9*D33)-((T33)-(Z33)+(AB33)+(AC33)))) -> 469.07436 | AE33: =SUM(AA33:AD33) -> 1426.9 | AF33: =IF(D33>'DATOS REFERENCIALES'!$I$13,'DATOS REFERENCIALES'!$D$13,('DATOS REFERENCIALES'!$E$13*D33)) -> 80.666667 | AG33: =IF(D33>'DATOS REFERENCIALES'!#REF!,'DATOS REFERENCIALES'!#REF!,('DATOS REFERENCIALES'!#REF!*D33)) -> #REF! | AH33: =+AF33 -> 80.666667 | AI33: =IF(D33>'DATOS REFERENCIALES'!$I$12,'DATOS REFERENCIALES'!$D$12,'DATOS REFERENCIALES'!$E$12*D33) -> 14 | AJ33: =+AE33+AF33+AI33+AH33 -> 1602.2333 | AK33: =IF(D33>'DATOS REFERENCIALES'!$I$16,'DATOS REFERENCIALES'!$D$16,'DATOS REFERENCIALES'!$E$16*D33) -> 134.82033 | AL33: =AK33*$AL$8 -> 31.682778 | AM33: =AK33-AL33 -> 103.13756 | AN33: =AJ33+AM33 -> 1705.3709

Sheet Hoja1
A4: 1
A5: 2
A6: 3
A7: 4
A8: 5
A9: 6
A10: 7
A11: 8
A12: 9
A13: 10
A14: 11
A15: 12
... A63: 60

Sheet PRIMARIA 
K3: UTILIZAR LA GRILLA A MODO DE EJEMPLO
A6: Grilla Salarial según ACTA PARITARIA desde MARZO 2020
A7: Ejemplos de liquidación salarial para cargos sin antigüedad en la docencia. Al incluir antigüedades, disminuye o desaparece el monto del C.M.G.
A8: Primaria Común - JORNADA SIMPLE | AE8: Primaria Común - JORNADA SIMPLE | AM8: 0.235
A9: Códigos | B9: Denominación del cargo | C9: AÑOS | D9: CANTIDAD DE HORAS | E9: SUBVENCIOANDO | F9: CAJA COMPL. | G9: INDICE del Sueldo básico Unificado | H9: TOTAL DE INDICES | I9: INDICES JERARQUIZACION | J9: PLUS DIFERENCIAL POR ESTABLECIMIENTO | K9: Valor Sueldo Básico Unificado RB | L9: PLUS DIFERENCIAL POR JERARQUIZACIÓN | M9: PLUS DIFERENCIAL POR ESTABLECIMIENTO | N9: Antigüedad Docente | O9: Asig. Estímulo Educ. R/ NB (Presentismo) | P9: DECRETO 243/08 RB | Q9: Antigüedad Decreto 243/08 | R9: Art. 128 Estatuto Docente R/ NB | S9: Suma Fija Remun. No Bonif | T9: Total Haberes Remunerat. | U9: Retenciones por aportes personales | Z9: Total Aportes | AA9: SUBTOTAL NETO SIN C.M.G. | AB9: MDM | AC9: Suma Fija No Remun. No Bonif | AD9: C.M.G. | AE9: Sub Total Neto a cobrar | AF9: FONID / RESOLUC. Nº 02/04 neto | AG9: Adelanto Cláusula de Seguimiento 2017 | AH9: SUMA FIJA NO REMUN.Y NO BONIF. POR UNICA VEZ | AI9: 1 CUOTA EXTRAORDINARIA DE FONID | AJ9: APORTE NAC. A MAT. DIDÁCTICO 2017 | AK9: TOTAL NETO A COBRAR | AL9: Adicional Especial Remun no Bonif. | AM9: Total Aportes | AN9: NETO DEL ADICIO-NAL | AO9: NETO A COBRAR
U10: Jubilación 11% | V10: Obra Social 3% | W10: INSSJP - Ley 19032 3% | X10: Ley 24.016 Dec. 137/05 2% | Y10: Caja Compl. 4,5%
A11: 585 | B11: Director | C11: 0 | G11: 1783 | H11: =SUM(G11:G11) -> 1783 | K11: =H11*'DATOS REFERENCIALES'!$C$4 -> 17109.311 | N11: =LOOKUP(C11,'TABLA ANTIG.'!$A$4:$A$39,'TABLA ANTIG.'!$B$4:$B$39)*(K11) -> 0 | O11: =K11*0.1 -> 1710.9311 | P11: ='DATOS REFERENCIALES'!$C$8 -> 6382 | Q11: =LOOKUP(C11,'TABLA ANTIG.'!$A$4:$A$39,'TABLA ANTIG.'!$B$4:$B$39)*(P11) -> 0 | R11: 0 | S11: =IF(C11>11,IF(H11>1134,'DATOS REFERENCIALES'!$C$18,'DATOS REFERENCIALES'!$C$18/1135*H11),0) -> 0 | T11: =K11+N11+O11+P11+Q11+R11+S11 -> 25202.243 | U11: =$T11*11% -> 2772.2467 | V11: =$T11*3% -> 756.06728 | W11: =$T11*3% -> 756.06728 | X11: =$T11*2% -> 504.04485 | Y11: =$T11*4.5% -> 1134.1009 | Z11: =SUM(U11:Y11) -> 5922.527 | AA11: =T11-Z11 -> 19279.716 | AB11: ='DATOS REFERENCIALES'!$C$10 -> 2270 | AC11: =IF(C11<12,IF(H11>1134,'DATOS REFERENCIALES'!$C$17,'DATOS REFERENCIALES'!$C$17/1135*H11),0) -> 2584 | AD11: =IF((IF(H11>1134,('DATOS REFERENCIALES'!$C$9-(T11-U11-V11-W11-X11-Y11+AB11+AC11-L11-L11*0.235)),(('DATOS REFERENCIALES'!$C$9/1135)*H11)-(K11+N11+O11+P11+Q11+S11-U11-V11-W11-X11-Y11+AB11+AC11-(L11-L11*0.235))))<0,0,IF(H11>1134,(('DATOS REFERENCIALES'!$C$9)-(T11-U11-V11-W11-X11-Y11+AB11+AC11-(L11-L11*0.235))),(('DATOS REFERENCIALES'!$C$9/1135)*H11)-(K11+N11+O11+P11+Q11+S11-U11-V11-W11-X11-Y11+AB11+AC11-(L11-L11*0.235)))) -> 4404.2845 | AE11: =SUM(AA11:AD11) -> 28538 | AF11: ='DATOS REFERENCIALES'!$C$13 -> 1210 | AH11: =IF($H11>1134,'DATOS REFERENCIALES'!#REF!,'DATOS REFERENCIALES'!#REF!/1135*$H11) -> #REF! | AI11: =+AF11 -> 1210 | AJ11: ='DATOS REFERENCIALES'!$C$12 -> 210 | AK11: =+AE11+AE12+AF11+AI11+AJ11 -> 33831.602 | AL11: ='DATOS REFERENCIALES'!C16 -> 2022.305 | AM11: =AL11*$AM$8 -> 475.24167 | AN11: =AL11-AM11 -> 1547.0633 | AO11: =AK11+AN11 -> 35378.665
A12: 585 | B12: Director | C12: =IF(C11>0,C11,0) -> 0 | I12: =133.73/'DATOS REFERENCIALES'!$I$4*'DATOS REFERENCIALES'!$J$4 -> 222.88333 | J12: 1 turno y hasta 14 secciones. | L12: =I12*'DATOS REFERENCIALES'!$C$4 -> 2138.7439 | M12: =IF(J12='DATOS REFERENCIALES'!$C$31,K11*'DATOS REFERENCIALES'!$D$31,IF(J12='DATOS REFERENCIALES'!$C$32,('DATOS REFERENCIALES'!$D$32*K11),IF(J12='DATOS REFERENCIALES'!$C$33,('DATOS REFERENCIALES'!$D$33*K11),IF(J12='DATOS REFERENCIALES'!$C$34,('DATOS REFERENCIALES'!$D$34*K11),IF(J12='DATOS REFERENCIALES'!$C$35,('DATOS REFERENCIALES'!$D$35*K11),IF(J12='DATOS REFERENCIALES'!$C$36,('DATOS REFERENCIALES'!$D$36*K11),IF(J12='DATOS REFERENCIALES'!$C$37,('DATOS REFERENCIALES'!$D$37*K11),IF(J12='DATOS REFERENCIALES'!$C$38,('DATOS REFERENCIALES'!$D$38*K11),0)))))))) -> 1026.5587 | N12: =LOOKUP(C12,'TABLA ANTIG.'!$A$4:$A$39,'TABLA ANTIG.'!$B$4:$B$39)*(L12+M12) -> 0 | O12: =(L12+M12)*0.1 -> 316.53026 | T12: =L12+M12+N12+O12+P12+Q12+R12 -> 3481.8328 | U12: =$T12*11% -> 383.00161 | V12: =$T12*3% -> 104.45498 | W12: =$T12*3% -> 104.45498 | X12: =$T12*2% -> 69.636657 | Y12: =$T12*4.5% -> 156.68248 | Z12: =SUM(U12:Y12) -> 818.23072 | AA12: =T12-Z12 -> 2663.6021 | AE12: =SUM(AA12:AD12) -> 2663.6021
A13: 840 | B13: Vicedirector | C13: 0 | G13: 1545 | H13: =SUM(G13:G13) -> 1545 | K13: =H13*'DATOS REFERENCIALES'!$C$4 -> 14825.511 | N13: =LOOKUP(C13,'TABLA ANTIG.'!$A$4:$A$39,'TABLA ANTIG.'!$B$4:$B$39)*(K13) -> 0 | O13: =K13*0.1 -> 1482.5511 | P13: ='DATOS REFERENCIALES'!$C$8 -> 6382 | Q13: =LOOKUP(C13,'TABLA ANTIG.'!$A$4:$A$39,'TABLA ANTIG.'!$B$4:$B$39)*(P13) -> 0 | R13: 0 | S13: =IF(C13>11,IF(H13>1134,'DATOS REFERENCIALES'!$C$18,'DATOS REFERENCIALES'!$C$18/1135*H13),0) -> 0 | T13: =K13+N13+O13+P13+Q13+R13+S13 -> 22690.062 | U13: =$T13*11% -> 2495.9068 | V13: =$T13*3% -> 680.70186 | W13: =$T13*3% -> 680.70186 | X13: =$T13*2% -> 453.80124 | Y13: =$T13*4.5% -> 1021.0528 | Z13: =SUM(U13:Y13) -> 5332.1646 | AA13: =T13-Z13 -> 17357.898 | AB13: ='DATOS REFERENCIALES'!$C$10 -> 2270 | AC13: =IF(C13<12,IF(H13>1134,'DATOS REFERENCIALES'!$C$17,'DATOS REFERENCIALES'!$C$17/1135*H13),0) -> 2584 | AD13: =IF((IF(H13>1134,('DATOS REFERENCIALES'!$C$9-(T13-U13-V13-W13-X13-Y13+AB13+AC13-L13-L13*0.235)),(('DATOS REFERENCIALES'!$C$9/1135)*H13)-(K13+N13+O13+P13+Q13+S13-U13-V13-W13-X13-Y13+AB13+AC13-(L13-L13*0.235))))<0,0,IF(H13>1134,(('DATOS REFERENCIALES'!$C$9)-(T13-U13-V13-W13-X13-Y13+AB13+AC13-(L13-L13*0.235))),(('DATOS REFERENCIALES'!$C$9/1135)*H13)-(K13+N13+O13+P13+Q13+S13-U13-V13-W13-X13-Y13+AB13+AC13-(L13-L13*0.235)))) -> 6326.1025 | AE13: =SUM(AA13:AD13) -> 28538 | AF13: ='DATOS REFERENCIALES'!$C$13 -> 1210 | AH13: =IF($H13>1134,'DATOS REFERENCIALES'!#REF!,'DATOS REFERENCIALES'!#REF!/1135*$H13) -> #REF! | AI13: =+AF13 -> 1210 | AJ13: ='DATOS REFERENCIALES'!$C$12 -> 210 | AK13: =+AE13+AE14+AF13+AI13+AJ13 -> 32727.526 | AL13: ='DATOS REFERENCIALES'!C16 -> 2022.305 | AM13: =AL13*$AM$8 -> 475.24167 | AN13: =AL13-AM13 -> 1547.0633 | AO13: =AK13+AN13 -> 34274.589
A14: 840 | B14: Vicedirector | C14: =IF(C13>0,C13,0) -> 0 | I14: =115.88/'DATOS REFERENCIALES'!$I$4*'DATOS REFERENCIALES'!$J$4 -> 193.13333 | L14: =I14*'DATOS REFERENCIALES'!$C$4 -> 1853.2688 | N14: =LOOKUP(C14,'TABLA ANTIG.'!$A$4:$A$39,'TABLA ANTIG.'!$B$4:$B$39)*(L14+M14) -> 0 | O14: =(L14+M14)*0.1 -> 185.32688 | T14: =L14+M14+N14+O14+P14+Q14+R14 -> 2038.5957 | U14: =$T14*11% -> 224.24553 | V14: =$T14*3% -> 61.157872 | W14: =$T14*3% -> 61.157872 | X14: =$T14*2% -> 40.771914 | Y14: =$T14*4.5% -> 91.736808 | Z14: =SUM(U14:Y14) -> 479.07 | AA14: =T14-Z14 -> 1559.5257 | AE14: =SUM(AA14:AD14) -> 1559.5257
A15: 846 | B15: Maestro Secretario | C15: 0 | G15: 1307 | H15: =SUM(G15:G15) -> 1307 | K15: =H15*'DATOS REFERENCIALES'!$C$4 -> 12541.711 | N15: =LOOKUP(C15,'TABLA ANTIG.'!$A$4:$A$39,'TABLA ANTIG.'!$B$4:$B$39)*(K15) -> 0 | O15: =K15*0.1 -> 1254.1711 | P15: ='DATOS REFERENCIALES'!$C$8 -> 6382 | Q15: =LOOKUP(C15,'TABLA ANTIG.'!$A$4:$A$39,'TABLA ANTIG.'!$B$4:$B$39)*(P15) -> 0 | R15: 0 | S15: =IF(C15>11,IF(H15>1134,'DATOS REFERENCIALES'!$C$18,'DATOS REFERENCIALES'!$C$18/1135*H15),0) -> 0 | T15: =K15+N15+O15+P15+Q15+R15+S15 -> 20177.882 | U15: =$T15*11% -> 2219.567 | V15: =$T15*3% -> 605.33645 | W15: =$T15*3% -> 605.33645 | X15: =$T15*2% -> 403.55763 | Y15: =$T15*4.5% -> 908.00467 | Z15: =SUM(U15:Y15) -> 4741.8022 | AA15: =T15-Z15 -> 15436.079 | AB15: ='DATOS REFERENCIALES'!$C$10 -> 2270 | AC15: =IF(C15<12,IF(H15>1134,'DATOS REFERENCIALES'!$C$17,'DATOS REFERENCIALES'!$C$17/1135*H15),0) -> 2584 | AD15: =IF((IF(H15>1134,('DATOS REFERENCIALES'!$C$9-(T15-U15-V15-W15-X15-Y15+AB15+AC15-L15-L15*0.235)),(('DATOS REFERENCIALES'!$C$9/1135)*H15)-(K15+N15+O15+P15+Q15+S15-U15-V15-W15-X15-Y15+AB15+AC15-(L15-L15*0.235))))<0,0,IF(H15>1134,(('DATOS REFERENCIALES'!$C$9)-(T15-U15-V15-W15-X15-Y15+AB15+AC15-(L15-L15*0.235))),(('DATOS REFERENCIALES'!$C$9/1135)*H15)-(K15+N15+O15+P15+Q15+S15-U15-V15-W15-X15-Y15+AB15+AC15-(L15-L15*0.235)))) -> 8247.9205 | AE15: =SUM(AA15:AD15) -> 28538 | AF15: ='DATOS REFERENCIALES'!$C$13 -> 1210 | AH15: =IF($H15>1134,'DATOS REFERENCIALES'!#REF!,'DATOS REFERENCIALES'!#REF!/1135*$H15) -> #REF! | AI15: =+AF15 -> 1210 | AJ15: ='DATOS REFERENCIALES'!$C$12 -> 210 | AK15: =+AE15+AE16+AF15+AI15+AJ15 -> 32487.298 | AL15: ='DATOS REFERENCIALES'!C16 -> 2022.305 | AM15: =AL15*$AM$8 -> 475.24167 | AN15: =AL15-AM15 -> 1547.0633 | AO15: =AK15+AN15 -> 34034.362
A16: 846 | B16: Maestro Secretario | C16: =IF(C15>0,C15,0) -> 0 | I16: =98.03/'DATOS REFERENCIALES'!$I$4*'DATOS REFERENCIALES'!$J$4 -> 163.38333 | L16: =I16*'DATOS REFERENCIALES'!$C$4 -> 1567.7938 | N16: =LOOKUP(C16,'TABLA ANTIG.'!$A$4:$A$39,'TABLA ANTIG.'!$B$4:$B$39)*(L16+M16) -> 0 | O16: =(L16+M16)*0.1 -> 156.77938 | T16: =L16+M16+N16+O16+P16+Q16+R16 -> 1724.5732 | U16: =$T16*11% -> 189.70305 | V16: =$T16*3% -> 51.737195 | W16: =$T16*3% -> 51.737195 | X16: =$T16*2% -> 34.491463 | Y16: =$T16*4.5% -> 77.605793 | Z16: =SUM(U16:Y16) -> 405.27469 | AA16: =T16-Z16 -> 1319.2985 | AE16: =SUM(AA16:AD16) -> 1319.2985
A17: 847 | B17: Maestro de Apoyo | C17: 0 | G17: 1120 | H17: 1135 | K17: =H17*'DATOS REFERENCIALES'!$C$4 -> 10891.233 | N17: =LOOKUP(C17,'TABLA ANTIG.'!$A$4:$A$39,'TABLA ANTIG.'!$B$4:$B$39)*(K17) -> 0 | O17: =K17*0.1 -> 1089.1233 | P17: ='DATOS REFERENCIALES'!$C$8 -> 6382 | Q17: =LOOKUP(C17,'TABLA ANTIG.'!$A$4:$A$39,'TABLA ANTIG.'!$B$4:$B$39)*(P17) -> 0 | R17: 0 | S17: =IF(C17>11,IF(H17>1134,'DATOS REFERENCIALES'!$C$18,'DATOS REFERENCIALES'!$C$18/1135*H17),0) -> 0 | T17: =K17+N17+O17+P17+Q17+R17+S17 -> 18362.356 | U17: =$T17*11% -> 2019.8592 | V17: =$T17*3% -> 550.87069 | W17: =$T17*3% -> 550.87069 | X17: =$T17*2% -> 367.24713 | Y17: =$T17*4.5% -> 826.30603 | Z17: =SUM(U17:Y17) -> 4315.1537 | AA17: =T17-Z17 -> 14047.203 | AB17: ='DATOS REFERENCIALES'!$C$10 -> 2270 | AC17: =IF(C17<12,IF(H17>1134,'DATOS REFERENCIALES'!$C$17,'DATOS REFERENCIALES'!$C$17/1135*H17),0) -> 2584 | AD17: =IF((IF(H17>1134,('DATOS REFERENCIALES'!$C$9-(T17-U17-V17-W17-X17-Y17+AB17+AC17-L17-L17*0.235)),(('DATOS REFERENCIALES'!$C$9/1135)*H17)-(K17+N17+O17+P17+Q17+S17-U17-V17-W17-X17-Y17+AB17+AC17-(L17-L17*0.235))))<0,0,IF(H17>1134,(('DATOS REFERENCIALES'!$C$9)-(T17-U17-V17-W17-X17-Y17+AB17+AC17-(L17-L17*0.235))),(('DATOS REFERENCIALES'!$C$9/1135)*H17)-(K17+N17+O17+P17+Q17+S17-U17-V17-W17-X17-Y17+AB17+AC17-(L17-L17*0.235)))) -> 9636.7974 | AE17: =SUM(AA17:AD17) -> 28538 | AF17: ='DATOS REFERENCIALES'!$C$13 -> 1210 | AH17: =IF($H17>1134,'DATOS REFERENCIALES'!#REF!,'DATOS REFERENCIALES'!#REF!/1135*$H17) -> #REF! | AI17: =+AF17 -> 1210 | AJ17: ='DATOS REFERENCIALES'!$C$12 -> 210 | AK17: =+AE17+AF17+AI17+AJ17 -> 31168 | AL17: ='DATOS REFERENCIALES'!$C$16 -> 2022.305 | AM17: =AL17*$AM$8 -> 475.24167 | AN17: =AL17-AM17 -> 1547.0633 | AO17: =AK17+AN17 -> 32715.063
A18: 848 | B18: Maestro de Apoyo para la integración | C18: 0 | G18: 1120 | H18: 1135 | K18: =H18*'DATOS REFERENCIALES'!$C$4 -> 10891.233 | N18: =LOOKUP(C18,'TABLA ANTIG.'!$A$4:$A$39,'TABLA ANTIG.'!$B$4:$B$39)*(K18) -> 0 | O18: =K18*0.1 -> 1089.1233 | P18: ='DATOS REFERENCIALES'!$C$8 -> 6382 | Q18: =LOOKUP(C18,'TABLA ANTIG.'!$A$4:$A$39,'TABLA ANTIG.'!$B$4:$B$39)*(P18) -> 0 | R18: 0 | S18: =IF(C18>11,IF(H18>1134,'DATOS REFERENCIALES'!$C$18,'DATOS REFERENCIALES'!$C$18/1135*H18),0) -> 0 | T18: =K18+N18+O18+P18+Q18+R18+S18 -> 18362.356 | U18: =$T18*11% -> 2019.8592 | V18: =$T18*3% -> 550.87069 | W18: =$T18*3% -> 550.87069 | X18: =$T18*2% -> 367.24713 | Y18: =$T18*4.5% -> 826.30603 | Z18: =SUM(U18:Y18) -> 4315.1537 | AA18: =T18-Z18 -> 14047.203 | AB18: ='DATOS REFERENCIALES'!$C$10 -> 2270 | AC18: =IF(C18<12,IF(H18>1134,'DATOS REFERENCIALES'!$C$17,'DATOS REFERENCIALES'!$C$17/1135*H18),0) -> 2584 | AD18: =IF((IF(H18>1134,('DATOS REFERENCIALES'!$C$9-(T18-U18-V18-W18-X18-Y18+AB18+AC18-L18-L18*0.235)),(('DATOS REFERENCIALES'!$C$9/1135)*H18)-(K18+N18+O18+P18+Q18+S18-U18-V18-W18-X18-Y18+AB18+AC18-(L18-L18*0.235))))<0,0,IF(H18>1134,(('DATOS REFERENCIALES'!$C$9)-(T18-U18-V18-W18-X18-Y18+AB18+AC18-(L18-L18*0.235))),(('DATOS REFERENCIALES'!$C$9/1135)*H18)-(K18+N18+O18+P18+Q18+S18-U18-V18-W18-X18-Y18+AB18+AC18-(L18-L18*0.235)))) -> 9636.7974 | AE18: =SUM(AA18:AD18) -> 28538 | AF18: ='DATOS REFERENCIALES'!$C$13 -> 1210 | AH18: =IF($H18>1134,'DATOS REFERENCIALES'!#REF!,'DATOS REFERENCIALES'!#REF!/1135*$H18) -> #REF! | AI18: =+AF18 -> 1210 | AJ18: ='DATOS REFERENCIALES'!$C$12 -> 210 | AK18: =+AE18+AF18+AI18+AJ18 -> 31168 | AL18: ='DATOS REFERENCIALES'!$C$16 -> 2022.305 | AM18: =AL18*$AM$8 -> 475.24167 | AN18: =AL18-AM18 -> 1547.0633 | AO18: =AK18+AN18 -> 32715.063
A19: 875 | B19: Maestro Bibliotecario (adultos tmb) | C19: 0 | G19: 1120 | H19: 1135 | K19: =H19*'DATOS REFERENCIALES'!$C$4 -> 10891.233 | N19: =LOOKUP(C19,'TABLA ANTIG.'!$A$4:$A$39,'TABLA ANTIG.'!$B$4:$B$39)*(K19) -> 0 | O19: =K19*0.1 -> 1089.1233 | P19: ='DATOS REFERENCIALES'!$C$8 -> 6382 | Q19: =LOOKUP(C19,'TABLA ANTIG.'!$A$4:$A$39,'TABLA ANTIG.'!$B$4:$B$39)*(P19) -> 0 | R19: 0 | S19: =IF(C19>11,IF(H19>1134,'DATOS REFERENCIALES'!$C$18,'DATOS REFERENCIALES'!$C$18/1135*H19),0) -> 0 | T19: =K19+N19+O19+P19+Q19+R19+S19 -> 18362.356 | U19: =$T19*11% -> 2019.8592 | V19: =$T19*3% -> 550.87069 | W19: =$T19*3% -> 550.87069 | X19: =$T19*2% -> 367.24713 | Y19: =$T19*4.5% -> 826.30603 | Z19: =SUM(U19:Y19) -> 4315.1537 | AA19: =T19-Z19 -> 14047.203 | AB19: ='DATOS REFERENCIALES'!$C$10 -> 2270 | AC19: =IF(C19<12,IF(H19>1134,'DATOS REFERENCIALES'!$C$17,'DATOS REFERENCIALES'!$C$17/1135*H19),0) -> 2584 | AD19: =IF((IF(H19>1134,('DATOS REFERENCIALES'!$C$9-(T19-U19-V19-W19-X19-Y19+AB19+AC19-L19-L19*0.235)),(('DATOS REFERENCIALES'!$C$9/1135)*H19)-(K19+N19+O19+P19+Q19+S19-U19-V19-W19-X19-Y19+AB19+AC19-(L19-L19*0.235))))<0,0,IF(H19>1134,(('DATOS REFERENCIALES'!$C$9)-(T19-U19-V19-W19-X19-Y19+AB19+AC19-(L19-L19*0.235))),(('DATOS REFERENCIALES'!$C$9/1135)*H19)-(K19+N19+O19+P19+Q19+S19-U19-V19-W19-X19-Y19+AB19+AC19-(L19-L19*0.235)))) -> 9636.7974 | AE19: =SUM(AA19:AD19) -> 28538 | AF19: ='DATOS REFERENCIALES'!$C$13 -> 1210 | AH19: =IF($H19>1134,'DATOS REFERENCIALES'!#REF!,'DATOS REFERENCIALES'!#REF!/1135*$H19) -> #REF! | AI19: =+AF19 -> 1210 | AJ19: ='DATOS REFERENCIALES'!$C$12 -> 210 | AK19: =+AE19+AF19+AI19+AJ19 -> 31168 | AL19: ='DATOS REFERENCIALES'!$C$16 -> 2022.305 | AM19: =AL19*$AM$8 -> 475.24167 | AN19: =AL19-AM19 -> 1547.0633 | AO19: =AK19+AN19 -> 32715.063
A20: 845 | B20: Maestro de Grado | C20: 0 | G20: 1120 | H20: 1135 | K20: =H20*'DATOS REFERENCIALES'!$C$4 -> 10891.233 | N20: =LOOKUP(C20,'TABLA ANTIG.'!$A$4:$A$39,'TABLA ANTIG.'!$B$4:$B$39)*(K20) -> 0 | O20: =K20*0.1 -> 1089.1233 | P20: ='DATOS REFERENCIALES'!$C$8 -> 6382 | Q20: =LOOKUP(C20,'TABLA ANTIG.'!$A$4:$A$39,'TABLA ANTIG.'!$B$4:$B$39)*(P20) -> 0 | R20: 0 | S20: =IF(C20>11,IF(H20>1134,'DATOS REFERENCIALES'!$C$18,'DATOS REFERENCIALES'!$C$18/1135*H20),0) -> 0 | T20: =K20+N20+O20+P20+Q20+R20+S20 -> 18362.356 | U20: =$T20*11% -> 2019.8592 | V20: =$T20*3% -> 550.87069 | W20: =$T20*3% -> 550.87069 | X20: =$T20*2% -> 367.24713 | Y20: =$T20*4.5% -> 826.30603 | Z20: =SUM(U20:Y20) -> 4315.1537 | AA20: =T20-Z20 -> 14047.203 | AB20: ='DATOS REFERENCIALES'!$C$10 -> 2270 | AC20: =IF(C20<12,IF(H20>1134,'DATOS REFERENCIALES'!$C$17,'DATOS REFERENCIALES'!$C$17/1135*H20),0) -> 2584 | AD20: =IF((IF(H20>1134,('DATOS REFERENCIALES'!$C$9-(T20-U20-V20-W20-X20-Y20+AB20+AC20-L20-L20*0.235)),(('DATOS REFERENCIALES'!$C$9/1135)*H20)-(K20+N20+O20+P20+Q20+S20-U20-V20-W20-X20-Y20+AB20+AC20-(L20-L20*0.235))))<0,0,IF(H20>1134,(('DATOS REFERENCIALES'!$C$9)-(T20-U20-V20-W20-X20-Y20+AB20+AC20-(L20-L20*0.235))),(('DATOS REFERENCIALES'!$C$9/1135)*H20)-(K20+N20+O20+P20+Q20+S20-U20-V20-W20-X20-Y20+AB20+AC20-(L20-L20*0.235)))) -> 9636.7974 | AE20: =SUM(AA20:AD20) -> 28538 | AF20: ='DATOS REFERENCIALES'!$C$13 -> 1210 | AH20: =IF($H20>1134,'DATOS REFERENCIALES'!#REF!,'DATOS REFERENCIALES'!#REF!/1135*$H20) -> #REF! | AI20: =+AF20 -> 1210 | AJ20: ='DATOS REFERENCIALES'!$C$12 -> 210 | AK20: =+AE20+AF20+AI20+AJ20 -> 31168 | AL20: ='DATOS REFERENCIALES'!$C$16 -> 2022.305 | AM20: =AL20*$AM$8 -> 475.24167 | AN20: =AL20-AM20 -> 1547.0633 | AO20: =AK20+AN20 -> 32715.063
A21: 5566 | B21: Hora cátedra Maestro Especial | C21: 0 | D21: 1 | G21: 56 | H21: =SUM(G21:G21) -> 56 | K21: =(H21*'DATOS REFERENCIALES'!$C$4)*D21 -> 537.3648 | N21: =LOOKUP(C21,'TABLA ANTIG.'!$A$4:$A$39,'TABLA ANTIG.'!$B$4:$B$39)*(K21) -> 0 | O21: =K21*0.1 -> 53.73648 | P21: =IF(D21>48,'DATOS REFERENCIALES'!D8+('DATOS REFERENCIALES'!F8*10),IF(D21<39,'DATOS REFERENCIALES'!$E$8*D21,((D21-'DATOS REFERENCIALES'!$I$8)*'DATOS REFERENCIALES'!$F$8)+'DATOS REFERENCIALES'!D8)) -> 335.89474 | Q21: =LOOKUP(C21,'TABLA ANTIG.'!$A$4:$A$39,'TABLA ANTIG.'!$B$4:$B$39)*(P21) -> 0 | R21: 0 | S21: =IF(C21>11,IF(H21>1134,'DATOS REFERENCIALES'!$C$18,'DATOS REFERENCIALES'!$C$18/20*D21),0) -> 0 | T21: =K21+N21+O21+P21+Q21+R21+S21 -> 926.99602 | U21: =$T21*11% -> 101.96956 | V21: =$T21*3% -> 27.809881 | W21: =$T21*3% -> 27.809881 | X21: =$T21*2% -> 18.53992 | Y21: =$T21*4.5% -> 41.714821 | Z21: =SUM(U21:Y21) -> 217.84406 | AA21: =T21-Z21 -> 709.15195 | AB21: =IF(D21>38,'DATOS REFERENCIALES'!$D$10,'DATOS REFERENCIALES'!$E$10*D21) -> 119.47368 | AC21: =IF(C21<12,IF(H21>1134,'DATOS REFERENCIALES'!$C$17,'DATOS REFERENCIALES'!$C$17/20*D21),0) -> 129.2 | AD21: =IF(D21>41,IF((('DATOS REFERENCIALES'!$D$9)-((T21)+(AB21)+(AC21)))<0,0,((('DATOS REFERENCIALES'!$D$9)-((T21)-(Z21)+(AB21)+(AC21))))),IF((('DATOS REFERENCIALES'!$E$9*D21)-(((T21)+(AB21)+(AC21))))<0,0,('DATOS REFERENCIALES'!$E$9*D21)-((T21)-(Z21)+(AB21)+(AC21)))) -> 469.07436 | AE21: =SUM(AA21:AD21) -> 1426.9 | AF21: =IF(D21>30,'DATOS REFERENCIALES'!$D$13,('DATOS REFERENCIALES'!$E$13*D21)) -> 80.666667 | AH21: =IF(D21>'DATOS REFERENCIALES'!#REF!,'DATOS REFERENCIALES'!#REF!,('DATOS REFERENCIALES'!#REF!*D21)) -> #REF! | AI21: =+AF21 -> 80.666667 | AJ21: =IF(D21>'DATOS REFERENCIALES'!$I$12,'DATOS REFERENCIALES'!$D$12,'DATOS REFERENCIALES'!$E$12*D21) -> 14 | AK21: =+AE21+AF21+AI21+AJ21 -> 1602.2333 | AL21: =IF(D21>'DATOS REFERENCIALES'!$I$16,'DATOS REFERENCIALES'!$D$16,'DATOS REFERENCIALES'!$E$16*D21) -> 134.82033 | AM21: =AL21*$AM$8 -> 31.682778 | AN21: =AL21-AM21 -> 103.13756 | AO21: =AK21+AN21 -> 1705.3709
A23: Primaria Común - JORNADA COMPLETA | AE23: Primaria Común - JORNADA COMPLETA
A24: Códigos | B24: Denominación del cargo | C24: AÑOS | D24: CANTIDAD DE HORAS | E24: SUBVENCIOANDO | F24: CAJA COMPL. | G24: INDICE del Sueldo básico Unificado | H24: TOTAL DE INDICES | I24: INDICES JERARQUIZACION | J24: PLUS DIFERENCIAL POR ESTABLECIMIENTO | K24: Valor Sueldo Básico Unificado RB | L24: PLUS DIFERENCIAL POR JERARQUIZACIÓN | M24: PLUS DIFERENCIAL POR ESTABLECIMIENTO | N24: Antigüedad Docente | O24: Asig. Estímulo Educ. R/ NB (Presentismo) | P24: DECRETO 243/08 RB | Q24: Antigüedad Decreto 243/08 | R24: Art. 128 Estatuto Docente R/ NB | S24: Suma Fija Remun. No Bonif | T24: Total Haberes Remunerat. | U24: Retenciones por aportes personales | Z24: Total Aportes | AA24: SUBTOTAL NETO SIN C.M.G. | AB24: MDM | AC24: Suma Fija No Remun. No Bonif | AD24: C.M.G. | AE24: Sub Total Neto a cobrar | AF24: FONID / RESOLUC. Nº 02/04 neto | AG24: Adelanto Cláusula de Seguimiento 2017 | AH24: SUMA FIJA NO REMUN.Y NO BONIF. POR UNICA VEZ | AI24: 1 CUOTA EXTRAORDINARIA DE FONID | AJ24: APORTE NAC. A MAT. DIDÁCTICO 2017 de 08/17 a 12/17 | AK24: TOTAL NETO A COBRAR | AL24: Adicional Especial Remun no Bonif. | AM24: Total Aportes | AN24: NETO DEL ADICIO-NAL | AO24: NETO A COBRAR
U25: Jubilación 11% | V25: Obra Social 3% | W25: INSSJP - Ley 19032 3% | X25: Ley 24.016 Dec. 137/05 2% | Y25: Caja Compl. 4,5%
A26: 834 | B26: Director | C26: 0 | G26: 3125 | H26: =SUM(G26:G26) -> 3125 | K26: =H26*'DATOS REFERENCIALES'!$C$4 -> 29986.875 | N26: =LOOKUP(C26,'TABLA ANTIG.'!$A$4:$A$39,'TABLA ANTIG.'!$B$4:$B$39)*(K26) -> 0 | O26: =K26*0.1 -> 2998.6875 | P26: ='DATOS REFERENCIALES'!$D$8 -> 12764 | Q26: =LOOKUP(C26,'TABLA ANTIG.'!$A$4:$A$39,'TABLA ANTIG.'!$B$4:$B$39)*(P26) -> 0 | R26: 0 | S26: =IF(C26>11,IF(H26>2069,'DATOS REFERENCIALES'!$D$18,'DATOS REFERENCIALES'!$D$18/2070*H26),0) -> 0 | T26: =K26+N26+O26+P26+Q26+R26+S26 -> 45749.562 | U26: =$T26*11% -> 5032.4519 | V26: =$T26*3% -> 1372.4869 | W26: =$T26*3% -> 1372.4869 | X26: =$T26*2% -> 914.99125 | Y26: =$T26*4.5% -> 2058.7303 | Z26: =SUM(U26:Y26) -> 10751.147 | AA26: =T26-Z26 -> 34998.415 | AB26: ='DATOS REFERENCIALES'!$D$10 -> 4540 | AC26: =IF(C26<12,IF(H26>2069,'DATOS REFERENCIALES'!$D$17,'DATOS REFERENCIALES'!$D$17/2070*H26),0) -> 5168 | AD26: =IF((IF(H26>2069,('DATOS REFERENCIALES'!$D$9-(T26-U26-V26-W26-X26-Y26+AB26+AC26)),(('DATOS REFERENCIALES'!$D$9/2070)*H26)-(K26+N26+O26+P26+Q26+S26-U26-V26-W26-X26-Y26+AB26+AC26)))<0,0,IF(H26>2069,(('DATOS REFERENCIALES'!$D$9)-(T26-U26-V26-W26-X26-Y26+AB26+AC26)),(('DATOS REFERENCIALES'!$D$9/2070)*H26)-(K26+N26+O26+P26+Q26+S26-U26-V26-W26-X26-Y26+AB26+AC26))) -> 12369.585 | AE26: =SUM(AA26:AD26) -> 57076 | AF26: ='DATOS REFERENCIALES'!$D$13 -> 2420 | AH26: =IF($H26>2042,'DATOS REFERENCIALES'!#REF!,'DATOS REFERENCIALES'!#REF!/2043*$H26) -> #REF! | AI26: =+AF26 -> 2420 | AJ26: ='DATOS REFERENCIALES'!$D$12 -> 420 | AK26: =+AE26+AE27+AF26+AI26+AJ26 -> 67004.349 | AL26: ='DATOS REFERENCIALES'!$D$16 -> 4044.61 | AM26: =AL26*$AM$8 -> 950.48335 | AN26: =AL26-AM26 -> 3094.1267 | AO26: =AK26+AN26 -> 70098.476
A27: 834 | B27: Director | C27: =IF(C26>0,C26,0) -> 0 | I27: =234.38/'DATOS REFERENCIALES'!$I$4*'DATOS REFERENCIALES'!$J$4 -> 390.63333 | J27: 1 turno y hasta 14 secciones. | L27: =I27*'DATOS REFERENCIALES'!$C$4 -> 3748.4393 | M27: =IF(J27='DATOS REFERENCIALES'!$C$31,K26*'DATOS REFERENCIALES'!$D$31,IF(J27='DATOS REFERENCIALES'!$C$32,('DATOS REFERENCIALES'!$D$32*K26),IF(J27='DATOS REFERENCIALES'!$C$33,('DATOS REFERENCIALES'!$D$33*K26),IF(J27='DATOS REFERENCIALES'!$C$34,('DATOS REFERENCIALES'!$D$34*K26),IF(J27='DATOS REFERENCIALES'!$C$35,('DATOS REFERENCIALES'!$D$35*K26),IF(J27='DATOS REFERENCIALES'!$C$36,('DATOS REFERENCIALES'!$D$36*K26),IF(J27='DATOS REFERENCIALES'!$C$37,('DATOS REFERENCIALES'!$D$37*K26),IF(J27='DATOS REFERENCIALES'!$C$38,('DATOS REFERENCIALES'!$D$38*K26),0)))))))) -> 1799.2125 | N27: =LOOKUP(C27,'TABLA ANTIG.'!$A$4:$A$39,'TABLA ANTIG.'!$B$4:$B$39)*(L27+M27) -> 0 | O27: =(L27+M27)*0.1 -> 554.76518 | T27: =L27+M27+N27+O27+P27+Q27+R27 -> 6102.417 | U27: =$T27*11% -> 671.26587 | V27: =$T27*3% -> 183.07251 | W27: =$T27*3% -> 183.07251 | X27: =$T27*2% -> 122.04834 | Y27: =$T27*4.5% -> 274.60877 | Z27: =SUM(U27:Y27) -> 1434.068 | AA27: =T27-Z27 -> 4668.349 | AE27: =SUM(AA27:AD27) -> 4668.349
A28: 870 | B28: Vicedirector | C28: 0 | G28: 2667 | H28: =SUM(G28:G28) -> 2667 | K28: =H28*'DATOS REFERENCIALES'!$C$4 -> 25591.999 | N28: =LOOKUP(C28,'TABLA ANTIG.'!$A$4:$A$39,'TABLA ANTIG.'!$B$4:$B$39)*(K28) -> 0 | O28: =K28*0.1 -> 2559.1999 | P28: ='DATOS REFERENCIALES'!$D$8 -> 12764 | Q28: =LOOKUP(C28,'TABLA ANTIG.'!$A$4:$A$39,'TABLA ANTIG.'!$B$4:$B$39)*(P28) -> 0 | R28: 0 | S28: =IF(C28>11,IF(H28>2069,'DATOS REFERENCIALES'!$D$18,'DATOS REFERENCIALES'!$D$18/2070*H28),0) -> 0 | T28: =K28+N28+O28+P28+Q28+R28+S28 -> 40915.198 | U28: =$T28*11% -> 4500.6718 | V28: =$T28*3% -> 1227.456 | W28: =$T28*3% -> 1227.456 | X28: =$T28*2% -> 818.30397 | Y28: =$T28*4.5% -> 1841.1839 | Z28: =SUM(U28:Y28) -> 9615.0716 | AA28: =T28-Z28 -> 31300.127 | AB28: ='DATOS REFERENCIALES'!$D$10 -> 4540 | AC28: =IF(C28<12,IF(H28>2069,'DATOS REFERENCIALES'!$D$17,'DATOS REFERENCIALES'!$D$17/2070*H28),0) -> 5168 | AD28: =IF((IF(H28>2069,('DATOS REFERENCIALES'!$D$9-(T28-U28-V28-W28-X28-Y28+AB28+AC28)),(('DATOS REFERENCIALES'!$D$9/2070)*H28)-(K28+N28+O28+P28+Q28+S28-U28-V28-W28-X28-Y28+AB28+AC28)))<0,0,IF(H28>2069,(('DATOS REFERENCIALES'!$D$9)-(T28-U28-V28-W28-X28-Y28+AB28+AC28)),(('DATOS REFERENCIALES'!$D$9/2070)*H28)-(K28+N28+O28+P28+Q28+S28-U28-V28-W28-X28-Y28+AB28+AC28))) -> 16067.873 | AE28: =SUM(AA28:AD28) -> 57076 | AF28: ='DATOS REFERENCIALES'!$D$13 -> 2420 | AH28: =IF($H28>2042,'DATOS REFERENCIALES'!#REF!,'DATOS REFERENCIALES'!#REF!/2043*$H28) -> #REF! | AI28: =+AF28 -> 2420 | AJ28: ='DATOS REFERENCIALES'!$D$12 -> 420 | AK28: =+AE28+AE29+AF28+AI28+AJ28 -> 65028.026 | AL28: ='DATOS REFERENCIALES'!$D$16 -> 4044.61 | AM28: =AL28*$AM$8 -> 950.48335 | AN28: =AL28-AM28 -> 3094.1267 | AO28: =AK28+AN28 -> 68122.152
A29: 870 | B29: Vicedirector | C29: =IF(C28>0,C28,0) -> 0 | I29: =200.03/'DATOS REFERENCIALES'!$I$4*'DATOS REFERENCIALES'!$J$4 -> 333.38333 | L29: =I29*'DATOS REFERENCIALES'!$C$4 -> 3199.0798 | N29: =LOOKUP(C29,'TABLA ANTIG.'!$A$4:$A$39,'TABLA ANTIG.'!$B$4:$B$39)*(L29+M29) -> 0 | O29: =(L29+M29)*0.1 -> 319.90798 | T29: =L29+M29+N29+O29+P29+Q29+R29 -> 3518.9878 | U29: =$T29*11% -> 387.08865 | V29: =$T29*3% -> 105.56963 | W29: =$T29*3% -> 105.56963 | X29: =$T29*2% -> 70.379755 | Y29: =$T29*4.5% -> 158.35445 | Z29: =SUM(U29:Y29) -> 826.96213 | AA29: =T29-Z29 -> 2692.0256 | AE29: =SUM(AA29:AD29) -> 2692.0256
A30: 849 | B30: Maestro Secretario | C30: 0 | G30: 2359 | H30: =SUM(G30:G30) -> 2359 | K30: =H30*'DATOS REFERENCIALES'!$C$4 -> 22636.492 | N30: =LOOKUP(C30,'TABLA ANTIG.'!$A$4:$A$39,'TABLA ANTIG.'!$B$4:$B$39)*(K30) -> 0 | O30: =K30*0.1 -> 2263.6492 | P30: ='DATOS REFERENCIALES'!$D$8 -> 12764 | Q30: =LOOKUP(C30,'TABLA ANTIG.'!$A$4:$A$39,'TABLA ANTIG.'!$B$4:$B$39)*(P30) -> 0 | R30: 0 | S30: =IF(C30>11,IF(H30>2069,'DATOS REFERENCIALES'!$D$18,'DATOS REFERENCIALES'!$D$18/2070*H30),0) -> 0 | T30: =K30+N30+O30+P30+Q30+R30+S30 -> 37664.141 | U30: =$T30*11% -> 4143.0556 | V30: =$T30*3% -> 1129.9242 | W30: =$T30*3% -> 1129.9242 | X30: =$T30*2% -> 753.28283 | Y30: =$T30*4.5% -> 1694.8864 | Z30: =SUM(U30:Y30) -> 8851.0732 | AA30: =T30-Z30 -> 28813.068 | AB30: ='DATOS REFERENCIALES'!$D$10 -> 4540 | AC30: =IF(C30<12,IF(H30>2069,'DATOS REFERENCIALES'!$D$17,'DATOS REFERENCIALES'!$D$17/2070*H30),0) -> 5168 | AD30: =IF((IF(H30>2069,('DATOS REFERENCIALES'!$D$9-(T30-U30-V30-W30-X30-Y30+AB30+AC30)),(('DATOS REFERENCIALES'!$D$9/2070)*H30)-(K30+N30+O30+P30+Q30+S30-U30-V30-W30-X30-Y30+AB30+AC30)))<0,0,IF(H30>2069,(('DATOS REFERENCIALES'!$D$9)-(T30-U30-V30-W30-X30-Y30+AB30+AC30)),(('DATOS REFERENCIALES'!$D$9/2070)*H30)-(K30+N30+O30+P30+Q30+S30-U30-V30-W30-X30-Y30+AB30+AC30))) -> 18554.932 | AE30: =SUM(AA30:AD30) -> 57076 | AF30: ='DATOS REFERENCIALES'!$D$13 -> 2420 | AH30: =IF($H30>2042,'DATOS REFERENCIALES'!#REF!,'DATOS REFERENCIALES'!#REF!/2043*$H30) -> #REF! | AI30: =+AF30 -> 2420 | AJ30: ='DATOS REFERENCIALES'!$D$12 -> 420 | AK30: =+AE30+AE31+AF30+AI30+AJ30 -> 64717.143 | AL30: ='DATOS REFERENCIALES'!$D$16 -> 4044.61 | AM30: =AL30*$AM$8 -> 950.48335 | AN30: =AL30-AM30 -> 3094.1267 | AO30: =AK30+AN30 -> 67811.27
A31: 849 | B31: Maestro Secretario | C31: =IF(C30>0,C30,0) -> 0 | I31: =176.93/'DATOS REFERENCIALES'!$I$4*'DATOS REFERENCIALES'!$J$4 -> 294.88333 | L31: =I31*'DATOS REFERENCIALES'!$C$4 -> 2829.6415 | N31: =LOOKUP(C31,'TABLA ANTIG.'!$A$4:$A$39,'TABLA ANTIG.'!$B$4:$B$39)*(L31+M31) -> 0 | O31: =(L31+M31)*0.1 -> 282.96415 | T31: =L31+M31+N31+O31+P31+Q31+R31 -> 3112.6056 | U31: =$T31*11% -> 342.38662 | V31: =$T31*3% -> 93.378169 | W31: =$T31*3% -> 93.378169 | X31: =$T31*2% -> 62.252113 | Y31: =$T31*4.5% -> 140.06725 | Z31: =SUM(U31:Y31) -> 731.46233 | AA31: =T31-Z31 -> 2381.1433 | AE31: =SUM(AA31:AD31) -> 2381.1433
A32: 855 | B32: Maestro de Grado | C32: 0 | G32: 2043 | H32: 2070 | K32: =H32*'DATOS REFERENCIALES'!$C$4 -> 19863.306 | N32: =LOOKUP(C32,'TABLA ANTIG.'!$A$4:$A$39,'TABLA ANTIG.'!$B$4:$B$39)*(K32) -> 0 | O32: =K32*0.1 -> 1986.3306 | P32: ='DATOS REFERENCIALES'!$D$8 -> 12764 | Q32: =LOOKUP(C32,'TABLA ANTIG.'!$A$4:$A$39,'TABLA ANTIG.'!$B$4:$B$39)*(P32) -> 0 | R32: 0 | S32: =IF(C32>11,IF(H32>2069,'DATOS REFERENCIALES'!$D$18,'DATOS REFERENCIALES'!$D$18/2070*H32),0) -> 0 | T32: =K32+N32+O32+P32+Q32+R32+S32 -> 34613.637 | U32: =$T32*11% -> 3807.5 | V32: =$T32*3% -> 1038.4091 | W32: =$T32*3% -> 1038.4091 | X32: =$T32*2% -> 692.27273 | Y32: =$T32*4.5% -> 1557.6136 | Z32: =SUM(U32:Y32) -> 8134.2046 | AA32: =T32-Z32 -> 26479.432 | AB32: ='DATOS REFERENCIALES'!$D$10 -> 4540 | AC32: =IF(C32<12,IF(H32>2069,'DATOS REFERENCIALES'!$D$17,'DATOS REFERENCIALES'!$D$17/2070*H32),0) -> 5168 | AD32: =IF((IF(H32>2069,('DATOS REFERENCIALES'!$D$9-(T32-U32-V32-W32-X32-Y32+AB32+AC32)),(('DATOS REFERENCIALES'!$D$9/2070)*H32)-(K32+N32+O32+P32+Q32+S32-U32-V32-W32-X32-Y32+AB32+AC32)))<0,0,IF(H32>2069,(('DATOS REFERENCIALES'!$D$9)-(T32-U32-V32-W32-X32-Y32+AB32+AC32)),(('DATOS REFERENCIALES'!$D$9/2070)*H32)-(K32+N32+O32+P32+Q32+S32-U32-V32-W32-X32-Y32+AB32+AC32))) -> 20888.568 | AE32: =SUM(AA32:AD32) -> 57076 | AF32: ='DATOS REFERENCIALES'!$D$13 -> 2420 | AH32: =IF($H32>2042,'DATOS REFERENCIALES'!#REF!,'DATOS REFERENCIALES'!#REF!/2043*$H32) -> #REF! | AI32: =+AF32 -> 2420 | AJ32: ='DATOS REFERENCIALES'!$D$12 -> 420 | AK32: =+AE32+AF32+AI32+AJ32 -> 62336 | AL32: ='DATOS REFERENCIALES'!D16 -> 4044.61 | AM32: =AL32*$AM$8 -> 950.48335 | AN32: =AL32-AM32 -> 3094.1267 | AO32: =AK32+AN32 -> 65430.127
A33: 856 | B33: Maestro de Apoyo | C33: 0 | G33: 2043 | H33: 2070 | K33: =H33*'DATOS REFERENCIALES'!$C$4 -> 19863.306 | N33: =LOOKUP(C33,'TABLA ANTIG.'!$A$4:$A$39,'TABLA ANTIG.'!$B$4:$B$39)*(K33) -> 0 | O33: =K33*0.1 -> 1986.3306 | P33: ='DATOS REFERENCIALES'!$D$8 -> 12764 | Q33: =LOOKUP(C33,'TABLA ANTIG.'!$A$4:$A$39,'TABLA ANTIG.'!$B$4:$B$39)*(P33) -> 0 | R33: 0 | S33: =IF(C33>11,IF(H33>2069,'DATOS REFERENCIALES'!$D$18,'DATOS REFERENCIALES'!$D$18/2070*H33),0) -> 0 | T33: =K33+N33+O33+P33+Q33+R33+S33 -> 34613.637 | U33: =$T33*11% -> 3807.5 | V33: =$T33*3% -> 1038.4091 | W33: =$T33*3% -> 1038.4091 | X33: =$T33*2% -> 692.27273 | Y33: =$T33*4.5% -> 1557.6136 | Z33: =SUM(U33:Y33) -> 8134.2046 | AA33: =T33-Z33 -> 26479.432 | AB33: ='DATOS REFERENCIALES'!$D$10 -> 4540 | AC33: =IF(C33<12,IF(H33>2069,'DATOS REFERENCIALES'!$D$17,'DATOS REFERENCIALES'!$D$17/2070*H33),0) -> 5168 | AD33: =IF((IF(H33>2069,('DATOS REFERENCIALES'!$D$9-(T33-U33-V33-W33-X33-Y33+AB33+AC33)),(('DATOS REFERENCIALES'!$D$9/2070)*H33)-(K33+N33+O33+P33+Q33+S33-U33-V33-W33-X33-Y33+AB33+AC33)))<0,0,IF(H33>2069,(('DATOS REFERENCIALES'!$D$9)-(T33-U33-V33-W33-X33-Y33+AB33+AC33)),(('DATOS REFERENCIALES'!$D$9/2070)*H33)-(K33+N33+O33+P33+Q33+S33-U33-V33-W33-X33-Y33+AB33+AC33))) -> 20888.568 | AE33: =SUM(AA33:AD33) -> 57076 | AF33: ='DATOS REFERENCIALES'!$D$13 -> 2420 | AH33: =IF($H32>2042,'DATOS REFERENCIALES'!#REF!,'DATOS REFERENCIALES'!#REF!/2043*$H32) -> #REF! | AI33: =+AF33 -> 2420 | AJ33: ='DATOS REFERENCIALES'!$D$12 -> 420 | AK33: =+AE33+AF33+AI33+AJ33 -> 62336 | AL33: ='DATOS REFERENCIALES'!D16 -> 4044.61 | AM33: =AL33*$AM$8 -> 950.48335 | AN33: =AL33-AM33 -> 3094.1267 | AO33: =AK33+AN33 -> 65430.127
A34: 5566 | B34: Hora cátedra Maestro Especial | C34: 0 | D34: 1 | G34: 56 | H34: =SUM(G34:G34) -> 56 | K34: =(H34*'DATOS REFERENCIALES'!$C$4)*D34 -> 537.3648 | N34: =LOOKUP(C34,'TABLA ANTIG.'!$A$4:$A$39,'TABLA ANTIG.'!$B$4:$B$39)*(K34) -> 0 | O34: =K34*0.1 -> 53.73648 | P34: =IF(D34>48,'DATOS REFERENCIALES'!$D$8+('DATOS REFERENCIALES'!$F$8*10),IF(D34<39,'DATOS REFERENCIALES'!$E$8*D34,((D34-'DATOS REFERENCIALES'!$I$8)*'DATOS REFERENCIALES'!$F$8)+'DATOS REFERENCIALES'!$D$8)) -> 335.89474 | Q34: =LOOKUP(C34,'TABLA ANTIG.'!$A$4:$A$39,'TABLA ANTIG.'!$B$4:$B$39)*(P34) -> 0 | R34: 0 | S34: =IF(C34>11,IF(H34>1134,'DATOS REFERENCIALES'!$C$18,'DATOS REFERENCIALES'!$C$18/20*D34),0) -> 0 | T34: =K34+N34+O34+P34+Q34+R34+S34 -> 926.99602 | U34: =$T34*11% -> 101.96956 | V34: =$T34*3% -> 27.809881 | W34: =$T34*3% -> 27.809881 | X34: =$T34*2% -> 18.53992 | Y34: =$T34*4.5% -> 41.714821 | Z34: =SUM(U34:Y34) -> 217.84406 | AA34: =T34-Z34 -> 709.15195 | AB34: =IF(D34>38,'DATOS REFERENCIALES'!$D$10,'DATOS REFERENCIALES'!$E$10*D34) -> 119.47368 | AC34: =IF(C34<12,IF(H34>1134,'DATOS REFERENCIALES'!$C$17,'DATOS REFERENCIALES'!$C$17/20*D34),0) -> 129.2 | AD34: =IF(D34>41,IF((('DATOS REFERENCIALES'!$D$9)-((T34)+(AB34)+(AC34)))<0,0,((('DATOS REFERENCIALES'!$D$9)-((T34)-(Z34)+(AB34)+(AC34))))),IF((('DATOS REFERENCIALES'!$E$9*D34)-(((T34)+(AB34)+(AC34))))<0,0,('DATOS REFERENCIALES'!$E$9*D34)-((T34)-(Z34)+(AB34)+(AC34)))) -> 469.07436 | AE34: =SUM(AA34:AD34) -> 1426.9 | AF34: =IF(D34>30,'DATOS REFERENCIALES'!$D$13,('DATOS REFERENCIALES'!$E$13*D34)) -> 80.666667 | AH34: =IF(D21>'DATOS REFERENCIALES'!#REF!,'DATOS REFERENCIALES'!#REF!,('DATOS REFERENCIALES'!#REF!*D21)) -> #REF! | AI34: =+AF34 -> 80.666667 | AJ34: =IF(D34>'DATOS REFERENCIALES'!$I$12,'DATOS REFERENCIALES'!$D$12,'DATOS REFERENCIALES'!$E$12*D34) -> 14 | AK34: =+AE34+AF34+AI34+AJ34 -> 1602.2333 | AL34: =IF(D34>'DATOS REFERENCIALES'!$I$16,'DATOS REFERENCIALES'!$D$16,'DATOS REFERENCIALES'!$E$16*D34) -> 134.82033 | AM34: =AL34*$AM$8 -> 31.682778 | AN34: =AL34-AM34 -> 103.13756 | AO34: =AK34+AN34 -> 1705.3709
A37: Primaria de Adultos | AF37: Primaria de Adultos
A38: Códigos | B38: Denominación del cargo | C38: AÑOS | D38: CANTIDAD DE HORAS | E38: SUBVENCIOANDO | F38: CAJA COMPL. | G38: INDICE del Sueldo básico Unificado | H38: TOTAL DE INDICES | I38: INDICES JERARQUIZACION | J38: PLUS DIFERENCIAL POR ESTABLECIMIENTO | K38: Valor Sueldo Básico Unificado RB | L38: PLUS DIFERENCIAL POR JERARQUIZACIÓN | M38: PLUS DIFERENCIAL POR ESTABLECIMIENTO | N38: Antigüedad Docente | O38: Asig. Estímulo Educ. R/ NB (Presentismo) | P38: DECRETO 243/08 RB | Q38: Antigüedad Decreto 243/08 | R38: Art. 128 Estatuto Docente R/ NB | S38: Suma Fija Remun. No Bonif | T38: Total Haberes Remunerat. | U38: Retenciones por aportes personales | Z38: Total Aportes | AA38: SUBTOTAL NETO SIN C.M.G. | AB38: MDM | AC38: Suma Fija No Remun. No Bonif | AD38: C.M.G. | AE38: Sub Total Neto a cobrar | AF38: FONID / RESOLUC. Nº 02/04 neto | AG38: Adelanto Cláusula de Seguimiento 2017 | AH38: SUMA FIJA NO REMUN.Y NO BONIF. POR UNICA VEZ | AI38: 1 CUOTA EXTRAORDINARIA DE FONID | AJ38: APORTE NAC. A MAT. DIDÁCTICO 2017 de 08/17 a 12/17 | AK38: TOTAL NETO A COBRAR | AL38: Adicional Especial Remun no Bonif. | AM38: Total Aportes | AN38: NETO DEL ADICIO-NAL | AO38: NETO A COBRAR
U39: Jubilación 11% | V39: Obra Social 3% | W39: INSSJP - Ley 19032 3% | X39: Ley 24.016 Dec. 137/05 2% | Y39: Caja Compl. 4,5%
A40: 578 | B40: Director | C40: 0 | G40: 1187 | H40: =SUM(G40:G40) -> 1187 | K40: =H40*'DATOS REFERENCIALES'!$C$4 -> 11390.215 | N40: =LOOKUP(C40,'TABLA ANTIG.'!$A$4:$A$39,'TABLA ANTIG.'!$B$4:$B$39)*(K40) -> 0 | O40: =K40*0.1 -> 1139.0215 | P40: ='DATOS REFERENCIALES'!$C$8 -> 6382 | Q40: =LOOKUP(C40,'TABLA ANTIG.'!$A$4:$A$39,'TABLA ANTIG.'!$B$4:$B$39)*(P40) -> 0 | R40: 0 | S40: =IF(C40>11,IF(H40>1134,'DATOS REFERENCIALES'!$C$18,'DATOS REFERENCIALES'!$C$18/1135*H40),0) -> 0 | T40: =K40+N40+O40+P40+Q40+R40+S40 -> 18911.236 | U40: =$T40*11% -> 2080.236 | V40: =$T40*3% -> 567.33708 | W40: =$T40*3% -> 567.33708 | X40: =$T40*2% -> 378.22472 | Y40: =$T40*4.5% -> 851.00562 | Z40: =SUM(U40:Y40) -> 4444.1405 | AA40: =T40-Z40 -> 14467.096 | AB40: ='DATOS REFERENCIALES'!$C$10 -> 2270 | AC40: =IF(C40<12,IF(H40>1134,'DATOS REFERENCIALES'!$C$17,'DATOS REFERENCIALES'!$C$17/1135*H40),0) -> 2584 | AD40: =IF((IF(H40>1134,('DATOS REFERENCIALES'!$C$9-(T40-U40-V40-W40-X40-Y40+AB40+AC40-L40-L40*0.235)),(('DATOS REFERENCIALES'!$C$9/1135)*H40)-(K40+N40+O40+P40+Q40+S40-U40-V40-W40-X40-Y40+AB40+AC40-(L40-L40*0.235))))<0,0,IF(H40>1134,(('DATOS REFERENCIALES'!$C$9)-(T40-U40-V40-W40-X40-Y40+AB40+AC40-(L40-L40*0.235))),(('DATOS REFERENCIALES'!$C$9/1135)*H40)-(K40+N40+O40+P40+Q40+S40-U40-V40-W40-X40-Y40+AB40+AC40-(L40-L40*0.235)))) -> 9216.9044 | AE40: =SUM(AA40:AD40) -> 28538 | AF40: ='DATOS REFERENCIALES'!$C$13 -> 1210 | AH40: =IF($H11>1119,'DATOS REFERENCIALES'!#REF!,'DATOS REFERENCIALES'!#REF!/1120*$H11) -> #REF! | AI40: =+AF40 -> 1210 | AJ40: ='DATOS REFERENCIALES'!$C$12 -> 210 | AK40: =+AE40+AE41+AF40+AI40+AJ40 -> 32941.267 | AL40: ='DATOS REFERENCIALES'!C16 -> 2022.305 | AM40: =AL40*$AM$8 -> 475.24167 | AN40: =AL40-AM40 -> 1547.0633 | AO40: =AK40+AN40 -> 34488.331
A41: 578 | B41: Director | C41: =IF(C40>0,C40,0) -> 0 | I41: =89.03/'DATOS REFERENCIALES'!$I$4*'DATOS REFERENCIALES'!$J$4 -> 148.38333 | J41: 0.06 | L41: =I41*'DATOS REFERENCIALES'!$C$4 -> 1423.8568 | M41: =K40*J41 -> 683.41288 | N41: =LOOKUP(C41,'TABLA ANTIG.'!$A$4:$A$39,'TABLA ANTIG.'!$B$4:$B$39)*(L41+M41) -> 0 | O41: =(L41+M41)*0.1 -> 210.72697 | T41: =L41+M41+N41+O41+P41+Q41+R41 -> 2317.9966 | U41: =$T41*11% -> 254.97963 | V41: =$T41*3% -> 69.539899 | W41: =$T41*3% -> 69.539899 | X41: =$T41*2% -> 46.359933 | Y41: =$T41*4.5% -> 104.30985 | Z41: =SUM(U41:Y41) -> 544.72921 | AA41: =T41-Z41 -> 1773.2674 | AE41: =SUM(AA41:AD41) -> 1773.2674
A42: 854 | B42: Maestro Secretario | C42: 0 | G42: 960 | H42: =SUM(G42:G42) -> 960 | K42: =H42*'DATOS REFERENCIALES'!$C$4 -> 9211.968 | N42: =LOOKUP(C42,'TABLA ANTIG.'!$A$4:$A$39,'TABLA ANTIG.'!$B$4:$B$39)*(K42) -> 0 | O42: =K42*0.1 -> 921.1968 | P42: ='DATOS REFERENCIALES'!$C$8 -> 6382 | Q42: =LOOKUP(C42,'TABLA ANTIG.'!$A$4:$A$39,'TABLA ANTIG.'!$B$4:$B$39)*(P42) -> 0 | R42: 0 | S42: =IF(C42>11,IF(H42>1134,'DATOS REFERENCIALES'!$C$18,'DATOS REFERENCIALES'!$C$18/1135*H42),0) -> 0 | T42: =K42+N42+O42+P42+Q42+R42+S42 -> 16515.165 | U42: =$T42*11% -> 1816.6681 | V42: =$T42*3% -> 495.45494 | W42: =$T42*3% -> 495.45494 | X42: =$T42*2% -> 330.3033 | Y42: =$T42*4.5% -> 743.18242 | Z42: =SUM(U42:Y42) -> 3881.0637 | AA42: =T42-Z42 -> 12634.101 | AB42: ='DATOS REFERENCIALES'!$C$10 -> 2270 | AC42: =IF(C42<12,IF(H42>1134,'DATOS REFERENCIALES'!$C$17,'DATOS REFERENCIALES'!$C$17/1135*H42),0) -> 2185.5859 | AD42: =IF((IF(H42>1134,('DATOS REFERENCIALES'!$C$9-(T42-U42-V42-W42-X42-Y42+AB42+AC42-L42-L42*0.235)),(('DATOS REFERENCIALES'!$C$9/1135)*H42)-(K42+N42+O42+P42+Q42+S42-U42-V42-W42-X42-Y42+AB42+AC42-(L42-L42*0.235))))<0,0,IF(H42>1134,(('DATOS REFERENCIALES'!$C$9)-(T42-U42-V42-W42-X42-Y42+AB42+AC42-(L42-L42*0.235))),(('DATOS REFERENCIALES'!$C$9/1135)*H42)-(K42+N42+O42+P42+Q42+S42-U42-V42-W42-X42-Y42+AB42+AC42-(L42-L42*0.235)))) -> 7048.1809 | AE42: =SUM(AA42:AD42) -> 24137.868 | AF42: ='DATOS REFERENCIALES'!$C$13 -> 1210 | AH42: =IF($H11>1119,'DATOS REFERENCIALES'!#REF!,'DATOS REFERENCIALES'!#REF!/1120*$H11) -> #REF! | AI42: =+AF42 -> 1210 | AJ42: ='DATOS REFERENCIALES'!$C$12 -> 210 | AK42: =+AE42+AE43+AF42+AI42+AJ42 -> 27736.852 | AL42: ='DATOS REFERENCIALES'!C16 -> 2022.305 | AM42: =AL42*$AM$8 -> 475.24167 | AN42: =AL42-AM42 -> 1547.0633 | AO42: =AK42+AN42 -> 29283.915
A43: 854 | B43: Maestro Secretario | C43: =IF(C42>0,C42,0) -> 0 | I43: =72/'DATOS REFERENCIALES'!$I$4*'DATOS REFERENCIALES'!$J$4 -> 120 | L43: =I43*'DATOS REFERENCIALES'!$C$4 -> 1151.496 | N43: =LOOKUP(C43,'TABLA ANTIG.'!$A$4:$A$39,'TABLA ANTIG.'!$B$4:$B$39)*(L43+M43) -> 0 | O43: =(L43+M43)*0.1 -> 115.1496 | T43: =L43+M43+N43+O43+P43+Q43+R43 -> 1266.6456 | U43: =$T43*11% -> 139.33102 | V43: =$T43*3% -> 37.999368 | W43: =$T43*3% -> 37.999368 | X43: =$T43*2% -> 25.332912 | Y43: =$T43*4.5% -> 56.999052 | Z43: =SUM(U43:Y43) -> 297.66172 | AA43: =T43-Z43 -> 968.98388 | AE43: =SUM(AA43:AD43) -> 968.98388
A44: 577 | B44: Maestro de Grado o Ciclo | C44: 0 | D44: 0 | G44: 829.75 | H44: =SUM(G44:G44) -> 829.75 | K44: =H44*'DATOS REFERENCIALES'!$C$4 -> 7962.1151 | N44: =LOOKUP(C44,'TABLA ANTIG.'!$A$4:$A$39,'TABLA ANTIG.'!$B$4:$B$39)*(K44) -> 0 | O44: =K44*0.1 -> 796.21151 | P44: ='DATOS REFERENCIALES'!$C$8 -> 6382 | Q44: =LOOKUP(C44,'TABLA ANTIG.'!$A$4:$A$39,'TABLA ANTIG.'!$B$4:$B$39)*(P44) -> 0 | R44: 0 | S44: =IF(C44>11,IF(H44>1134,'DATOS REFERENCIALES'!$C$18,'DATOS REFERENCIALES'!$C$18/1135*H44),0) -> 0 | T44: =K44+N44+O44+P44+Q44+R44+S44 -> 15140.327 | U44: =$T44*11% -> 1665.4359 | V44: =$T44*3% -> 454.2098 | W44: =$T44*3% -> 454.2098 | X44: =$T44*2% -> 302.80653 | Y44: =$T44*4.5% -> 681.31469 | Z44: =SUM(U44:Y44) -> 3557.9767 | AA44: =T44-Z44 -> 11582.35 | AB44: ='DATOS REFERENCIALES'!$C$10 -> 2270 | AC44: =IF(C44<12,IF(H44>1134,'DATOS REFERENCIALES'!$C$17,'DATOS REFERENCIALES'!$C$17/1135*H44),0) -> 1889.052 | AD44: =IF((IF(H44>1134,('DATOS REFERENCIALES'!$C$9-(T44-U44-V44-W44-X44-Y44+AB44+AC44-L44-L44*0.235)),(('DATOS REFERENCIALES'!$C$9/1135)*H44)-(K44+N44+O44+P44+Q44+S44-U44-V44-W44-X44-Y44+AB44+AC44-(L44-L44*0.235))))<0,0,IF(H44>1134,(('DATOS REFERENCIALES'!$C$9)-(T44-U44-V44-W44-X44-Y44+AB44+AC44-(L44-L44*0.235))),(('DATOS REFERENCIALES'!$C$9/1135)*H44)-(K44+N44+O44+P44+Q44+S44-U44-V44-W44-X44-Y44+AB44+AC44-(L44-L44*0.235)))) -> 5121.5105 | AE44: =SUM(AA44:AD44) -> 20862.912 | AF44: ='DATOS REFERENCIALES'!$C$13 -> 1210 | AH44: =IF($H44>1119,'DATOS REFERENCIALES'!#REF!,'DATOS REFERENCIALES'!#REF!/1120*$H44) -> #REF! | AI44: =+AF44 -> 1210 | AJ44: ='DATOS REFERENCIALES'!$C$12 -> 210 | AK44: =+AE44+AF44+AI44+AJ44 -> 23492.912 | AL44: ='DATOS REFERENCIALES'!C16 -> 2022.305 | AM44: =AL44*$AM$8 -> 475.24167 | AN44: =AL44-AM44 -> 1547.0633 | AO44: =AK44+AN44 -> 25039.976
A45: 5568 | B45: Hora cátedra Maestro Especial | C45: 0 | D45: 1 | G45: 56 | H45: =SUM(G45:G45) -> 56 | K45: =(H45*'DATOS REFERENCIALES'!$C$4)*D45 -> 537.3648 | N45: =LOOKUP(C45,'TABLA ANTIG.'!$A$4:$A$39,'TABLA ANTIG.'!$B$4:$B$39)*(K45) -> 0 | O45: =K45*0.1 -> 53.73648 | P45: =IF(D45>48,'DATOS REFERENCIALES'!$D$8+('DATOS REFERENCIALES'!$F$8*10),IF(D45<39,'DATOS REFERENCIALES'!$E$8*D45,((D45-'DATOS REFERENCIALES'!$I$8)*'DATOS REFERENCIALES'!$F$8)+'DATOS REFERENCIALES'!$D$8)) -> 335.89474 | Q45: =LOOKUP(C45,'TABLA ANTIG.'!$A$4:$A$39,'TABLA ANTIG.'!$B$4:$B$39)*(P45) -> 0 | R45: 0 | S45: =IF(C45>11,IF(H45>1134,'DATOS REFERENCIALES'!$C$18,'DATOS REFERENCIALES'!$C$18/20*D45),0) -> 0 | T45: =K45+N45+O45+P45+Q45+R45+S45 -> 926.99602 | U45: =$T45*11% -> 101.96956 | V45: =$T45*3% -> 27.809881 | W45: =$T45*3% -> 27.809881 | X45: =$T45*2% -> 18.53992 | Y45: =$T45*4.5% -> 41.714821 | Z45: =SUM(U45:Y45) -> 217.84406 | AA45: =T45-Z45 -> 709.15195 | AB45: =IF(D45>38,'DATOS REFERENCIALES'!$D$10,'DATOS REFERENCIALES'!$E$10*D45) -> 119.47368 | AC45: =IF(C45<12,IF(H45>1134,'DATOS REFERENCIALES'!$C$17,'DATOS REFERENCIALES'!$C$17/20*D45),0) -> 129.2 | AD45: =IF(D45>41,IF((('DATOS REFERENCIALES'!$D$9)-((T45)+(AB45)+(AC45)))<0,0,((('DATOS REFERENCIALES'!$D$9)-((T45)-(Z45)+(AB45)+(AC45))))),IF((('DATOS REFERENCIALES'!$E$9*D45)-(((T45)+(AB45)+(AC45))))<0,0,('DATOS REFERENCIALES'!$E$9*D45)-((T45)-(Z45)+(AB45)+(AC45)))) -> 469.07436 | AE45: =SUM(AA45:AD45) -> 1426.9 | AF45: =IF(D45>30,'DATOS REFERENCIALES'!$D$13,('DATOS REFERENCIALES'!$E$13*D45)) -> 80.666667 | AH45: =IF(D45>'DATOS REFERENCIALES'!#REF!,'DATOS REFERENCIALES'!#REF!,('DATOS REFERENCIALES'!#REF!*D45)) -> #REF! | AI45: =+AF45 -> 80.666667 | AJ45: =IF(D45>'DATOS REFERENCIALES'!$I$12,'DATOS REFERENCIALES'!$D$12,'DATOS REFERENCIALES'!$E$12*D45) -> 14 | AK45: =+AE45+AF45+AI45+AJ45 -> 1602.2333 | AL45: =IF(D45>'DATOS REFERENCIALES'!$I$16,'DATOS REFERENCIALES'!$D$16,'DATOS REFERENCIALES'!$E$16*D45) -> 134.82033 | AM45: =AL45*$AM$8 -> 31.682778 | AN45: =AL45-AM45 -> 103.13756 | AO45: =AK45+AN45 -> 1705.3709

Sheet ESPECIAL
K3: UTILIZAR LA GRILLA A MODO DE EJEMPLO
A6: Grilla Salarial según ACTA PARITARIA desde MARZO 2020
A7: Ejemplos de liquidación salarial para cargos sin antigüedad en la docencia. Al incluir antigüedades, disminuye o desaparece el monto del C.M.G.
A8: Enseñanza Especial R.M. 278/92 (Reglamento Enseñanza Especial) | AD8: Enseñanza Especial R.M. 278/92 (Reglamento Enseñanza Especial) | AM8: 0.235
A9: Códigos | B9: Denominación del cargo | C9: AÑOS | D9: CANTIDAD DE HORAS | E9: SUBVENCIONADO | F9: CAJA COMPL. | G9: INDICE del Sueldo básico Unificado | H9: TOTAL DE INDICES | I9: INDICES JERARQUIZACION | J9: PLUS DIFERENCIAL POR ESTABLECIMIENTO | K9: Valor Sueldo Básico Unificado RB | L9: PLUS DIFERENCIAL POR JERARQUIZACIÓN | M9: PLUS DIFERENCIAL POR ESTABLECIMIENTO | N9: Antigüedad Docente | O9: Asig. Estímulo Educ. R/ NB (Presentismo) | P9: DECRETO 243/08 RB | Q9: Antigüedad Decreto 243/08 | R9: Art. 128 Estatuto Docente R/ NB | S9: Suma Fija Remun. No Bonif | T9: Total Haberes Remunerat. | U9: Retenciones por aportes personales | Z9: Total Aportes | AA9: SUBTOTAL NETO SIN C.M.G. | AB9: MDM | AC9: Suma Fija No Remun. No Bonif | AD9: C.M.G. | AE9: Sub Total Neto a cobrar | AF9: FONID / RESOLUC. Nº 02/04 neto | AG9: Adelanto Cláusula de Seguimiento 2017 | AH9: SUMA FIJA NO REMUN.Y NO BONIF. POR UNICA VEZ | AI9: 1 CUOTA EXTRAORDINARIA DE FONID | AJ9: APORTE NAC. A MAT. DIDÁCTICO 2017 | AK9: TOTAL NETO A COBRAR | AL9: Adicional Especial Remun no Bonif. | AM9: Total Aportes | AN9: NETO DEL ADICIO-NAL | AO9: NETO A COBRAR
U10: Jubilación 11% | V10: Obra Social 3% | W10: INSSJP - Ley 19032 3% | X10: Ley 24.016 Dec. 137/05 2% | Y10: Caja Compl. 4,5%
A11: 505 | B11: Director Jornada Completa | C11: 0 | G11: 3125 | H11: =SUM(G11:G11) -> 3125 | K11: =H11*'DATOS REFERENCIALES'!$C$4 -> 29986.875 | N11: =LOOKUP(C11,'TABLA ANTIG.'!$A$4:$A$39,'TABLA ANTIG.'!$B$4:$B$39)*(K11) -> 0 | O11: =K11*0.1 -> 2998.6875 | P11: ='DATOS REFERENCIALES'!$D$8 -> 12764 | Q11: =LOOKUP(C11,'TABLA ANTIG.'!$A$4:$A$39,'TABLA ANTIG.'!$B$4:$B$39)*(P11) -> 0 | R11: =(K11+P11)*0.15 -> 6412.6312 | S11: =IF(C11>11,IF(H11>2069,'DATOS REFERENCIALES'!$D$18,'DATOS REFERENCIALES'!$D$18/2070*H11),0) -> 0 | T11: =K11+N11+O11+P11+Q11+R11+S11 -> 52162.194 | U11: =$T11*11% -> 5737.8413 | V11: =$T11*3% -> 1564.8658 | W11: =$T11*3% -> 1564.8658 | X11: =$T11*2% -> 1043.2439 | Y11: =$T11*4.5% -> 2347.2987 | Z11: =SUM(U11:Y11) -> 12258.116 | AA11: =T11-Z11 -> 39904.078 | AB11: ='DATOS REFERENCIALES'!$D$10 -> 4540 | AC11: =IF(C11<12,IF(H11>2069,'DATOS REFERENCIALES'!$D$17,'DATOS REFERENCIALES'!$D$17/2070*H11),0) -> 5168 | AD11: =IF((IF(H11>2069,('DATOS REFERENCIALES'!$D$9-(T11-U11-V11-W11-X11-Y11+AB11+AC11)),(('DATOS REFERENCIALES'!$D$9/2070)*H11)-(K11+N11+O11+P11+Q11+S11-U11-V11-W11-X11-Y11+AB11+AC11)))<0,0,IF(H11>2069,(('DATOS REFERENCIALES'!$D$9)-(T11-U11-V11-W11-X11-Y11+AB11+AC11)),(('DATOS REFERENCIALES'!$D$9/2070)*H11)-(K11+N11+O11+P11+Q11+S11-U11-V11-W11-X11-Y11+AB11+AC11))) -> 7463.9218 | AE11: =SUM(AA11:AD11) -> 57076 | AF11: ='DATOS REFERENCIALES'!$D$13 -> 2420 | AH11: =IF($H11>2042,'DATOS REFERENCIALES'!#REF!,'DATOS REFERENCIALES'!#REF!/2043*$H11) -> #REF! | AI11: =+AF11 -> 2420 | AJ11: ='DATOS REFERENCIALES'!$D$12 -> 420 | AK11: =+AE11+AE12+AF11+AI11+AJ11 -> 67640.942 | AL11: ='DATOS REFERENCIALES'!D16 -> 4044.61 | AM11: =AL11*$AM$8 -> 950.48335 | AN11: =AL11-AM11 -> 3094.1267 | AO11: =AK11+AN11 -> 70735.069
A12: 505 | B12: Director Jornada Completa | C12: =IF(C11>0,C11,0) -> 0 | I12: =234.38/'DATOS REFERENCIALES'!$I$4*'DATOS REFERENCIALES'!$J$4 -> 390.63333 | J12: 1 turno | L12: =I12*'DATOS REFERENCIALES'!$C$4 -> 3748.4393 | M12: =IF(J12='DATOS REFERENCIALES'!$C$39,K11*'DATOS REFERENCIALES'!$D$39,IF(J12='DATOS REFERENCIALES'!$C$40,('DATOS REFERENCIALES'!$D$40*K11),IF(J12='DATOS REFERENCIALES'!$C$41,('DATOS REFERENCIALES'!$D$41*K11),0))) -> 1799.2125 | N12: =LOOKUP(C12,'TABLA ANTIG.'!$A$4:$A$39,'TABLA ANTIG.'!$B$4:$B$39)*(L12+M12) -> 0 | O12: =(L12+M12)*0.1 -> 554.76518 | R12: =(L12+M12)*0.15 -> 832.14778 | T12: =L12+M12+N12+O12+P12+Q12+R12 -> 6934.5648 | U12: =$T12*11% -> 762.80213 | V12: =$T12*3% -> 208.03694 | W12: =$T12*3% -> 208.03694 | X12: =$T12*2% -> 138.6913 | Y12: =$T12*4.5% -> 312.05542 | Z12: =SUM(U12:Y12) -> 1629.6227 | AA12: =T12-Z12 -> 5304.9421 | AE12: =SUM(AA12:AD12) -> 5304.9421
A13: 551 | B13: Vicedirector Jornada Completa | C13: 0 | G13: 2667 | H13: =SUM(G13:G13) -> 2667 | K13: =H13*'DATOS REFERENCIALES'!$C$4 -> 25591.999 | N13: =LOOKUP(C13,'TABLA ANTIG.'!$A$4:$A$39,'TABLA ANTIG.'!$B$4:$B$39)*(K13) -> 0 | O13: =K13*0.1 -> 2559.1999 | P13: ='DATOS REFERENCIALES'!$D$8 -> 12764 | Q13: =LOOKUP(C13,'TABLA ANTIG.'!$A$4:$A$39,'TABLA ANTIG.'!$B$4:$B$39)*(P13) -> 0 | R13: =(K13+P13)*0.15 -> 5753.3998 | S13: =IF(C13>11,IF(H13>2069,'DATOS REFERENCIALES'!$D$18,'DATOS REFERENCIALES'!$D$18/2070*H13),0) -> 0 | T13: =K13+N13+O13+P13+Q13+R13+S13 -> 46668.598 | U13: =$T13*11% -> 5133.5458 | V13: =$T13*3% -> 1400.0579 | W13: =$T13*3% -> 1400.0579 | X13: =$T13*2% -> 933.37197 | Y13: =$T13*4.5% -> 2100.0869 | Z13: =SUM(U13:Y13) -> 10967.121 | AA13: =T13-Z13 -> 35701.478 | AB13: ='DATOS REFERENCIALES'!$D$10 -> 4540 | AC13: =IF(C13<12,IF(H13>2069,'DATOS REFERENCIALES'!$D$17,'DATOS REFERENCIALES'!$D$17/2070*H13),0) -> 5168 | AD13: =IF((IF(H13>2069,('DATOS REFERENCIALES'!$D$9-(T13-U13-V13-W13-X13-Y13+AB13+AC13)),(('DATOS REFERENCIALES'!$D$9/2070)*H13)-(K13+N13+O13+P13+Q13+S13-U13-V13-W13-X13-Y13+AB13+AC13)))<0,0,IF(H13>2069,(('DATOS REFERENCIALES'!$D$9)-(T13-U13-V13-W13-X13-Y13+AB13+AC13)),(('DATOS REFERENCIALES'!$D$9/2070)*H13)-(K13+N13+O13+P13+Q13+S13-U13-V13-W13-X13-Y13+AB13+AC13))) -> 11666.522 | AE13: =SUM(AA13:AD13) -> 57076 | AF13: ='DATOS REFERENCIALES'!$D$13 -> 2420 | AH13: =IF($H13>2042,'DATOS REFERENCIALES'!#REF!,'DATOS REFERENCIALES'!#REF!/2043*$H13) -> #REF! | AI13: =+AF13 -> 2420 | AJ13: ='DATOS REFERENCIALES'!$D$12 -> 420 | AK13: =+AE13+AE14+AF13+AI13+AJ13 -> 65395.12 | AL13: ='DATOS REFERENCIALES'!D16 -> 4044.61 | AM13: =AL13*$AM$8 -> 950.48335 | AN13: =AL13-AM13 -> 3094.1267 | AO13: =AK13+AN13 -> 68489.247
A14: 551 | B14: Vicedirector Jornada Completa | C14: =IF(C13>0,C13,0) -> 0 | I14: =200.03/'DATOS REFERENCIALES'!$I$4*'DATOS REFERENCIALES'!$J$4 -> 333.38333 | L14: =I14*'DATOS REFERENCIALES'!$C$4 -> 3199.0798 | N14: =LOOKUP(C14,'TABLA ANTIG.'!$A$4:$A$39,'TABLA ANTIG.'!$B$4:$B$39)*(L14+M14) -> 0 | O14: =(L14+M14)*0.1 -> 319.90798 | R14: =(L14+M14)*0.15 -> 479.86197 | T14: =L14+M14+N14+O14+P14+Q14+R14 -> 3998.8497 | U14: =$T14*11% -> 439.87347 | V14: =$T14*3% -> 119.96549 | W14: =$T14*3% -> 119.96549 | X14: =$T14*2% -> 79.976995 | Y14: =$T14*4.5% -> 179.94824 | Z14: =SUM(U14:Y14) -> 939.72969 | AA14: =T14-Z14 -> 3059.12 | AE14: =SUM(AA14:AD14) -> 3059.12
A15: 849 | B15: Maestro Secretario EE JC | C15: 0 | G15: 2359 | H15: =SUM(G15:G15) -> 2359 | K15: =H15*'DATOS REFERENCIALES'!$C$4 -> 22636.492 | N15: =LOOKUP(C15,'TABLA ANTIG.'!$A$4:$A$39,'TABLA ANTIG.'!$B$4:$B$39)*(K15) -> 0 | O15: =K15*0.1 -> 2263.6492 | P15: ='DATOS REFERENCIALES'!$D$8 -> 12764 | Q15: =LOOKUP(C15,'TABLA ANTIG.'!$A$4:$A$39,'TABLA ANTIG.'!$B$4:$B$39)*(P15) -> 0 | R15: =(K15+P15)*0.15 -> 5310.0738 | S15: =IF(C15>11,IF(H15>2069,'DATOS REFERENCIALES'!$D$18,'DATOS REFERENCIALES'!$D$18/2070*H15),0) -> 0 | T15: =K15+N15+O15+P15+Q15+R15+S15 -> 42974.215 | U15: =$T15*11% -> 4727.1637 | V15: =$T15*3% -> 1289.2265 | W15: =$T15*3% -> 1289.2265 | X15: =$T15*2% -> 859.48431 | Y15: =$T15*4.5% -> 1933.8397 | Z15: =SUM(U15:Y15) -> 10098.941 | AA15: =T15-Z15 -> 32875.275 | AB15: ='DATOS REFERENCIALES'!$D$10 -> 4540 | AC15: =IF(C15<12,IF(H15>2069,'DATOS REFERENCIALES'!$D$17,'DATOS REFERENCIALES'!$D$17/2070*H15),0) -> 5168 | AD15: =IF((IF(H15>2069,('DATOS REFERENCIALES'!$D$9-(T15-U15-V15-W15-X15-Y15+AB15+AC15)),(('DATOS REFERENCIALES'!$D$9/2070)*H15)-(K15+N15+O15+P15+Q15+S15-U15-V15-W15-X15-Y15+AB15+AC15)))<0,0,IF(H15>2069,(('DATOS REFERENCIALES'!$D$9)-(T15-U15-V15-W15-X15-Y15+AB15+AC15)),(('DATOS REFERENCIALES'!$D$9/2070)*H15)-(K15+N15+O15+P15+Q15+S15-U15-V15-W15-X15-Y15+AB15+AC15))) -> 14492.725 | AE15: =SUM(AA15:AD15) -> 57076 | AF15: ='DATOS REFERENCIALES'!$D$13 -> 2420 | AH15: =IF($H15>2042,'DATOS REFERENCIALES'!#REF!,'DATOS REFERENCIALES'!#REF!/2043*$H15) -> #REF! | AI15: =+AF15 -> 2420 | AJ15: ='DATOS REFERENCIALES'!$D$12 -> 420 | AK15: =+AE15+AE16+AF15+AI15+AJ15 -> 65041.845 | AL15: ='DATOS REFERENCIALES'!D16 -> 4044.61 | AM15: =AL15*$AM$8 -> 950.48335 | AN15: =AL15-AM15 -> 3094.1267 | AO15: =AK15+AN15 -> 68135.971
A16: 849 | B16: Maestro Secretario EE JC | C16: =IF(C15>0,C15,0) -> 0 | I16: =176.93/'DATOS REFERENCIALES'!$I$4*'DATOS REFERENCIALES'!$J$4 -> 294.88333 | L16: =I16*'DATOS REFERENCIALES'!$C$4 -> 2829.6415 | N16: =LOOKUP(C16,'TABLA ANTIG.'!$A$4:$A$39,'TABLA ANTIG.'!$B$4:$B$39)*(L16+M16) -> 0 | O16: =(L16+M16)*0.1 -> 282.96415 | R16: =(L16+M16)*0.15 -> 424.44622 | T16: =L16+M16+N16+O16+P16+Q16+R16 -> 3537.0519 | U16: =$T16*11% -> 389.0757 | V16: =$T16*3% -> 106.11156 | W16: =$T16*3% -> 106.11156 | X16: =$T16*2% -> 70.741037 | Y16: =$T16*4.5% -> 159.16733 | Z16: =SUM(U16:Y16) -> 831.20719 | AA16: =T16-Z16 -> 2705.8447 | AE16: =SUM(AA16:AD16) -> 2705.8447
A17: 516 | B17: Director Jornada Simple | C17: 0 | G17: 1783 | H17: =SUM(G17:G17) -> 1783 | K17: =H17*'DATOS REFERENCIALES'!$C$4 -> 17109.311 | N17: =LOOKUP(C17,'TABLA ANTIG.'!$A$4:$A$39,'TABLA ANTIG.'!$B$4:$B$39)*(K17) -> 0 | O17: =K17*0.1 -> 1710.9311 | P17: ='DATOS REFERENCIALES'!$C$8 -> 6382 | Q17: =LOOKUP(C17,'TABLA ANTIG.'!$A$4:$A$39,'TABLA ANTIG.'!$B$4:$B$39)*(P17) -> 0 | R17: =(K17+P17)*0.15 -> 3523.6967 | S17: =IF(C17>11,IF(H17>1134,'DATOS REFERENCIALES'!$C$18,'DATOS REFERENCIALES'!$C$18/1135*H17),0) -> 0 | T17: =K17+N17+O17+P17+Q17+R17+S17 -> 28725.939 | U17: =$T17*11% -> 3159.8533 | V17: =$T17*3% -> 861.77818 | W17: =$T17*3% -> 861.77818 | X17: =$T17*2% -> 574.51879 | Y17: =$T17*4.5% -> 1292.6673 | Z17: =SUM(U17:Y17) -> 6750.5957 | AA17: =T17-Z17 -> 21975.344 | AB17: ='DATOS REFERENCIALES'!$C$10 -> 2270 | AC17: =IF(C17<12,IF(H17>1134,'DATOS REFERENCIALES'!$C$17,'DATOS REFERENCIALES'!$C$17/1135*H17),0) -> 2584 | AD17: =IF((IF(H17>1134,('DATOS REFERENCIALES'!$C$9-(T17-U17-V17-W17-X17-Y17+AB17+AC17-L17-L17*0.235)),(('DATOS REFERENCIALES'!$C$9/1135)*H17)-(K17+N17+O17+P17+Q17+S17-U17-V17-W17-X17-Y17+AB17+AC17-(L17-L17*0.235))))<0,0,IF(H17>1134,(('DATOS REFERENCIALES'!$C$9)-(T17-U17-V17-W17-X17-Y17+AB17+AC17-(L17-L17*0.235))),(('DATOS REFERENCIALES'!$C$9/1135)*H17)-(K17+N17+O17+P17+Q17+S17-U17-V17-W17-X17-Y17+AB17+AC17-(L17-L17*0.235)))) -> 1708.6565 | AE17: =SUM(AA17:AD17) -> 28538 | AF17: ='DATOS REFERENCIALES'!$C$13 -> 1210 | AH17: =IF($H17>1119,'DATOS REFERENCIALES'!#REF!,'DATOS REFERENCIALES'!#REF!/1120*$H17) -> #REF! | AI17: =+AF17 -> 1210 | AJ17: ='DATOS REFERENCIALES'!$C$12 -> 210 | AK17: =+AE17+AE18+AF17+AI17+AJ17 -> 34194.821 | AL17: ='DATOS REFERENCIALES'!C16 -> 2022.305 | AM17: =AL17*$AM$8 -> 475.24167 | AN17: =AL17-AM17 -> 1547.0633 | AO17: =AK17+AN17 -> 35741.884
A18: 516 | B18: Director Jornada Simple | C18: =IF(C17>0,C17,0) -> 0 | I18: =133.73/'DATOS REFERENCIALES'!$I$4*'DATOS REFERENCIALES'!$J$4 -> 222.88333 | J18: 1 turno | L18: =I18*'DATOS REFERENCIALES'!$C$4 -> 2138.7439 | M18: =IF(J18='DATOS REFERENCIALES'!$C$39,K17*'DATOS REFERENCIALES'!$D$39,IF(J18='DATOS REFERENCIALES'!$C$40,('DATOS REFERENCIALES'!$D$40*K17),IF(J18='DATOS REFERENCIALES'!$C$41,('DATOS REFERENCIALES'!$D$41*K17),0))) -> 1026.5587 | N18: =LOOKUP(C18,'TABLA ANTIG.'!$A$4:$A$39,'TABLA ANTIG.'!$B$4:$B$39)*(L18+M18) -> 0 | O18: =(L18+M18)*0.1 -> 316.53026 | R18: =(L18+M18)*0.15 -> 474.79539 | T18: =L18+M18+N18+O18+P18+Q18+R18 -> 3956.6282 | U18: =$T18*11% -> 435.2291 | V18: =$T18*3% -> 118.69885 | W18: =$T18*3% -> 118.69885 | X18: =$T18*2% -> 79.132564 | Y18: =$T18*4.5% -> 178.04827 | Z18: =SUM(U18:Y18) -> 929.80763 | AA18: =T18-Z18 -> 3026.8206 | AE18: =SUM(AA18:AD18) -> 3026.8206
A19: 576 | B19: Vicedirector Jornada Simple | C19: 0 | G19: 1545 | H19: =SUM(G19:G19) -> 1545 | K19: =H19*'DATOS REFERENCIALES'!$C$4 -> 14825.511 | N19: =LOOKUP(C19,'TABLA ANTIG.'!$A$4:$A$39,'TABLA ANTIG.'!$B$4:$B$39)*(K19) -> 0 | O19: =K19*0.1 -> 1482.5511 | P19: ='DATOS REFERENCIALES'!$C$8 -> 6382 | Q19: =LOOKUP(C19,'TABLA ANTIG.'!$A$4:$A$39,'TABLA ANTIG.'!$B$4:$B$39)*(P19) -> 0 | R19: =(K19+P19)*0.15 -> 3181.1266 | S19: =IF(C19>11,IF(H19>1134,'DATOS REFERENCIALES'!$C$18,'DATOS REFERENCIALES'!$C$18/1135*H19),0) -> 0 | T19: =K19+N19+O19+P19+Q19+R19+S19 -> 25871.189 | U19: =$T19*11% -> 2845.8308 | V19: =$T19*3% -> 776.13566 | W19: =$T19*3% -> 776.13566 | X19: =$T19*2% -> 517.42377 | Y19: =$T19*4.5% -> 1164.2035 | Z19: =SUM(U19:Y19) -> 6079.7294 | AA19: =T19-Z19 -> 19791.459 | AB19: ='DATOS REFERENCIALES'!$C$10 -> 2270 | AC19: =IF(C19<12,IF(H19>1134,'DATOS REFERENCIALES'!$C$17,'DATOS REFERENCIALES'!$C$17/1135*H19),0) -> 2584 | AD19: =IF((IF(H19>1134,('DATOS REFERENCIALES'!$C$9-(T19-U19-V19-W19-X19-Y19+AB19+AC19-L19-L19*0.235)),(('DATOS REFERENCIALES'!$C$9/1135)*H19)-(K19+N19+O19+P19+Q19+S19-U19-V19-W19-X19-Y19+AB19+AC19-(L19-L19*0.235))))<0,0,IF(H19>1134,(('DATOS REFERENCIALES'!$C$9)-(T19-U19-V19-W19-X19-Y19+AB19+AC19-(L19-L19*0.235))),(('DATOS REFERENCIALES'!$C$9/1135)*H19)-(K19+N19+O19+P19+Q19+S19-U19-V19-W19-X19-Y19+AB19+AC19-(L19-L19*0.235)))) -> 3892.5406 | AE19: =SUM(AA19:AD19) -> 28538 | AF19: ='DATOS REFERENCIALES'!$C$13 -> 1210 | AH19: =IF($H19>1119,'DATOS REFERENCIALES'!#REF!,'DATOS REFERENCIALES'!#REF!/1120*$H19) -> #REF! | AI19: =+AF19 -> 1210 | AJ19: ='DATOS REFERENCIALES'!$C$12 -> 210 | AK19: =+AE19+AE20+AF19+AI19+AJ19 -> 32940.188 | AL19: ='DATOS REFERENCIALES'!C16 -> 2022.305 | AM19: =AL19*$AM$8 -> 475.24167 | AN19: =AL19-AM19 -> 1547.0633 | AO19: =AK19+AN19 -> 34487.252
A20: 576 | B20: Vicedirector Jornada Simple | C20: =IF(C19>0,C19,0) -> 0 | I20: =115.88/'DATOS REFERENCIALES'!$I$4*'DATOS REFERENCIALES'!$J$4 -> 193.13333 | L20: =I20*'DATOS REFERENCIALES'!$C$4 -> 1853.2688 | N20: =LOOKUP(C20,'TABLA ANTIG.'!$A$4:$A$39,'TABLA ANTIG.'!$B$4:$B$39)*(L20+M20) -> 0 | O20: =(L20+M20)*0.1 -> 185.32688 | R20: =(L20+M20)*0.15 -> 277.99033 | T20: =L20+M20+N20+O20+P20+Q20+R20 -> 2316.586 | U20: =$T20*11% -> 254.82447 | V20: =$T20*3% -> 69.497581 | W20: =$T20*3% -> 69.497581 | X20: =$T20*2% -> 46.331721 | Y20: =$T20*4.5% -> 104.24637 | Z20: =SUM(U20:Y20) -> 544.39772 | AA20: =T20-Z20 -> 1772.1883 | AE20: =SUM(AA20:AD20) -> 1772.1883
A21: 539 | B21: Maestro de Grado o Grupo Escolar (*) | C21: 0 | G21: 1120 | H21: 1135 | K21: =H21*'DATOS REFERENCIALES'!$C$4 -> 10891.233 | N21: =LOOKUP(C21,'TABLA ANTIG.'!$A$4:$A$39,'TABLA ANTIG.'!$B$4:$B$39)*(K21) -> 0 | O21: =K21*0.1 -> 1089.1233 | P21: ='DATOS REFERENCIALES'!$C$8 -> 6382 | Q21: =LOOKUP(C21,'TABLA ANTIG.'!$A$4:$A$39,'TABLA ANTIG.'!$B$4:$B$39)*(P21) -> 0 | R21: =(K21+P21)*0.15 -> 2590.985 | S21: =IF(C21>11,IF(H21>1134,'DATOS REFERENCIALES'!$C$18,'DATOS REFERENCIALES'!$C$18/1135*H21),0) -> 0 | T21: =K21+N21+O21+P21+Q21+R21+S21 -> 20953.341 | U21: =$T21*11% -> 2304.8675 | V21: =$T21*3% -> 628.60024 | W21: =$T21*3% -> 628.60024 | X21: =$T21*2% -> 419.06682 | Y21: =$T21*4.5% -> 942.90036 | Z21: =SUM(U21:Y21) -> 4924.0352 | AA21: =T21-Z21 -> 16029.306 | AB21: ='DATOS REFERENCIALES'!$C$10 -> 2270 | AC21: =IF(C21<12,IF(H21>1134,'DATOS REFERENCIALES'!$C$17,'DATOS REFERENCIALES'!$C$17/1135*H21),0) -> 2584 | AD21: =IF((IF(H21>1134,('DATOS REFERENCIALES'!$C$9-(T21-U21-V21-W21-X21-Y21+AB21+AC21-L21-L21*0.235)),(('DATOS REFERENCIALES'!$C$9/1135)*H21)-(K21+N21+O21+P21+Q21+S21-U21-V21-W21-X21-Y21+AB21+AC21-(L21-L21*0.235))))<0,0,IF(H21>1134,(('DATOS REFERENCIALES'!$C$9)-(T21-U21-V21-W21-X21-Y21+AB21+AC21-(L21-L21*0.235))),(('DATOS REFERENCIALES'!$C$9/1135)*H21)-(K21+N21+O21+P21+Q21+S21-U21-V21-W21-X21-Y21+AB21+AC21-(L21-L21*0.235)))) -> 7654.6939 | AE21: =SUM(AA21:AD21) -> 28538 | AF21: ='DATOS REFERENCIALES'!$C$13 -> 1210 | AH21: =IF($H21>1119,'DATOS REFERENCIALES'!#REF!,'DATOS REFERENCIALES'!#REF!/1120*$H21) -> #REF! | AI21: =+AF21 -> 1210 | AJ21: ='DATOS REFERENCIALES'!$C$12 -> 210 | AK21: =+AE21+AF21+AI21+AJ21 -> 31168 | AL21: ='DATOS REFERENCIALES'!C16 -> 2022.305 | AM21: =AL21*$AM$8 -> 475.24167 | AN21: =AL21-AM21 -> 1547.0633 | AO21: =AK21+AN21 -> 32715.063
A22: 558 | B22: Maestro Secretario | C22: 0 | G22: 1307 | H22: =SUM(G22:G22) -> 1307 | K22: =H22*'DATOS REFERENCIALES'!$C$4 -> 12541.711 | N22: =LOOKUP(C22,'TABLA ANTIG.'!$A$4:$A$39,'TABLA ANTIG.'!$B$4:$B$39)*(K22) -> 0 | O22: =K22*0.1 -> 1254.1711 | P22: ='DATOS REFERENCIALES'!$C$8 -> 6382 | Q22: =LOOKUP(C22,'TABLA ANTIG.'!$A$4:$A$39,'TABLA ANTIG.'!$B$4:$B$39)*(P22) -> 0 | R22: =(K22+P22)*0.15 -> 2838.5566 | S22: =IF(C22>11,IF(H22>1134,'DATOS REFERENCIALES'!$C$18,'DATOS REFERENCIALES'!$C$18/1135*H22),0) -> 0 | T22: =K22+N22+O22+P22+Q22+R22+S22 -> 23016.438 | U22: =$T22*11% -> 2531.8082 | V22: =$T22*3% -> 690.49315 | W22: =$T22*3% -> 690.49315 | X22: =$T22*2% -> 460.32876 | Y22: =$T22*4.5% -> 1035.7397 | Z22: =SUM(U22:Y22) -> 5408.863 | AA22: =T22-Z22 -> 17607.575 | AB22: ='DATOS REFERENCIALES'!$C$10 -> 2270 | AC22: =IF(C22<12,IF(H22>1134,'DATOS REFERENCIALES'!$C$17,'DATOS REFERENCIALES'!$C$17/1135*H22),0) -> 2584 | AD22: =IF((IF(H22>1134,('DATOS REFERENCIALES'!$C$9-(T22-U22-V22-W22-X22-Y22+AB22+AC22-L22-L22*0.235)),(('DATOS REFERENCIALES'!$C$9/1135)*H22)-(K22+N22+O22+P22+Q22+S22-U22-V22-W22-X22-Y22+AB22+AC22-(L22-L22*0.235))))<0,0,IF(H22>1134,(('DATOS REFERENCIALES'!$C$9)-(T22-U22-V22-W22-X22-Y22+AB22+AC22-(L22-L22*0.235))),(('DATOS REFERENCIALES'!$C$9/1135)*H22)-(K22+N22+O22+P22+Q22+S22-U22-V22-W22-X22-Y22+AB22+AC22-(L22-L22*0.235)))) -> 6076.4247 | AE22: =SUM(AA22:AD22) -> 28538 | AF22: ='DATOS REFERENCIALES'!$C$13 -> 1210 | AH22: =IF($H22>1119,'DATOS REFERENCIALES'!#REF!,'DATOS REFERENCIALES'!#REF!/1120*$H22) -> #REF! | AI22: =+AF22 -> 1210 | AJ22: ='DATOS REFERENCIALES'!$C$12 -> 210 | AK22: =+AE22+AE23+AF22+AI22+AJ22 -> 32667.203 | AL22: ='DATOS REFERENCIALES'!C16 -> 2022.305 | AM22: =AL22*$AM$8 -> 475.24167 | AN22: =AL22-AM22 -> 1547.0633 | AO22: =AK22+AN22 -> 34214.266
A23: 558 | B23: Maestro Secretario | C23: =IF(C22>0,C22,0) -> 0 | I23: =98.03/'DATOS REFERENCIALES'!$I$4*'DATOS REFERENCIALES'!$J$4 -> 163.38333 | L23: =I23*'DATOS REFERENCIALES'!$C$4 -> 1567.7938 | N23: =LOOKUP(C23,'TABLA ANTIG.'!$A$4:$A$39,'TABLA ANTIG.'!$B$4:$B$39)*(L23+M23) -> 0 | O23: =(L23+M23)*0.1 -> 156.77938 | R23: =(L23+M23)*0.15 -> 235.16907 | T23: =L23+M23+N23+O23+P23+Q23+R23 -> 1959.7422 | U23: =$T23*11% -> 215.57165 | V23: =$T23*3% -> 58.792267 | W23: =$T23*3% -> 58.792267 | X23: =$T23*2% -> 39.194845 | Y23: =$T23*4.5% -> 88.188401 | Z23: =SUM(U23:Y23) -> 460.53943 | AA23: =T23-Z23 -> 1499.2028 | AE23: =SUM(AA23:AD23) -> 1499.2028
A24: 540 | B24: Maestro Reeducador Vocal | C24: 0 | G24: 1120 | H24: 1135 | K24: =H24*'DATOS REFERENCIALES'!$C$4 -> 10891.233 | N24: =LOOKUP(C24,'TABLA ANTIG.'!$A$4:$A$39,'TABLA ANTIG.'!$B$4:$B$39)*(K24) -> 0 | O24: =K24*0.1 -> 1089.1233 | P24: ='DATOS REFERENCIALES'!$C$8 -> 6382 | Q24: =LOOKUP(C24,'TABLA ANTIG.'!$A$4:$A$39,'TABLA ANTIG.'!$B$4:$B$39)*(P24) -> 0 | R24: =(K24+P24)*0.15 -> 2590.985 | S24: =IF(C24>11,IF(H24>1134,'DATOS REFERENCIALES'!$C$18,'DATOS REFERENCIALES'!$C$18/1135*H24),0) -> 0 | T24: =K24+N24+O24+P24+Q24+R24+S24 -> 20953.341 | U24: =$T24*11% -> 2304.8675 | V24: =$T24*3% -> 628.60024 | W24: =$T24*3% -> 628.60024 | X24: =$T24*2% -> 419.06682 | Y24: =$T24*4.5% -> 942.90036 | Z24: =SUM(U24:Y24) -> 4924.0352 | AA24: =T24-Z24 -> 16029.306 | AB24: ='DATOS REFERENCIALES'!$C$10 -> 2270 | AC24: =IF(C24<12,IF(H24>1134,'DATOS REFERENCIALES'!$C$17,'DATOS REFERENCIALES'!$C$17/1135*H24),0) -> 2584 | AD24: =IF((IF(H24>1134,('DATOS REFERENCIALES'!$C$9-(T24-U24-V24-W24-X24-Y24+AB24+AC24-L24-L24*0.235)),(('DATOS REFERENCIALES'!$C$9/1135)*H24)-(K24+N24+O24+P24+Q24+S24-U24-V24-W24-X24-Y24+AB24+AC24-(L24-L24*0.235))))<0,0,IF(H24>1134,(('DATOS REFERENCIALES'!$C$9)-(T24-U24-V24-W24-X24-Y24+AB24+AC24-(L24-L24*0.235))),(('DATOS REFERENCIALES'!$C$9/1135)*H24)-(K24+N24+O24+P24+Q24+S24-U24-V24-W24-X24-Y24+AB24+AC24-(L24-L24*0.235)))) -> 7654.6939 | AE24: =SUM(AA24:AD24) -> 28538 | AF24: ='DATOS REFERENCIALES'!$C$13 -> 1210 | AH24: =IF($H24>1119,'DATOS REFERENCIALES'!#REF!,'DATOS REFERENCIALES'!#REF!/1120*$H24) -> #REF! | AI24: =+AF24 -> 1210 | AJ24: ='DATOS REFERENCIALES'!$C$12 -> 210 | AK24: =+AE24+AF24+AI24+AJ24 -> 31168 | AL24: ='DATOS REFERENCIALES'!C16 -> 2022.305 | AM24: =AL24*$AM$8 -> 475.24167 | AN24: =AL24-AM24 -> 1547.0633 | AO24: =AK24+AN24 -> 32715.063
A25: 541 | B25: Maestro Reeducador Acústico | C25: 0 | G25: 1120 | H25: 1135 | K25: =H25*'DATOS REFERENCIALES'!$C$4 -> 10891.233 | N25: =LOOKUP(C25,'TABLA ANTIG.'!$A$4:$A$39,'TABLA ANTIG.'!$B$4:$B$39)*(K25) -> 0 | O25: =K25*0.1 -> 1089.1233 | P25: ='DATOS REFERENCIALES'!$C$8 -> 6382 | Q25: =LOOKUP(C25,'TABLA ANTIG.'!$A$4:$A$39,'TABLA ANTIG.'!$B$4:$B$39)*(P25) -> 0 | R25: =(K25+P25)*0.15 -> 2590.985 | S25: =IF(C25>11,IF(H25>1134,'DATOS REFERENCIALES'!$C$18,'DATOS REFERENCIALES'!$C$18/1135*H25),0) -> 0 | T25: =K25+N25+O25+P25+Q25+R25+S25 -> 20953.341 | U25: =$T25*11% -> 2304.8675 | V25: =$T25*3% -> 628.60024 | W25: =$T25*3% -> 628.60024 | X25: =$T25*2% -> 419.06682 | Y25: =$T25*4.5% -> 942.90036 | Z25: =SUM(U25:Y25) -> 4924.0352 | AA25: =T25-Z25 -> 16029.306 | AB25: ='DATOS REFERENCIALES'!$C$10 -> 2270 | AC25: =IF(C25<12,IF(H25>1134,'DATOS REFERENCIALES'!$C$17,'DATOS REFERENCIALES'!$C$17/1135*H25),0) -> 2584 | AD25: =IF((IF(H25>1134,('DATOS REFERENCIALES'!$C$9-(T25-U25-V25-W25-X25-Y25+AB25+AC25-L25-L25*0.235)),(('DATOS REFERENCIALES'!$C$9/1135)*H25)-(K25+N25+O25+P25+Q25+S25-U25-V25-W25-X25-Y25+AB25+AC25-(L25-L25*0.235))))<0,0,IF(H25>1134,(('DATOS REFERENCIALES'!$C$9)-(T25-U25-V25-W25-X25-Y25+AB25+AC25-(L25-L25*0.235))),(('DATOS REFERENCIALES'!$C$9/1135)*H25)-(K25+N25+O25+P25+Q25+S25-U25-V25-W25-X25-Y25+AB25+AC25-(L25-L25*0.235)))) -> 7654.6939 | AE25: =SUM(AA25:AD25) -> 28538 | AF25: ='DATOS REFERENCIALES'!$C$13 -> 1210 | AH25: =IF($H25>1119,'DATOS REFERENCIALES'!#REF!,'DATOS REFERENCIALES'!#REF!/1120*$H25) -> #REF! | AI25: =+AF25 -> 1210 | AJ25: ='DATOS REFERENCIALES'!$C$12 -> 210 | AK25: =+AE25+AF25+AI25+AJ25 -> 31168 | AL25: ='DATOS REFERENCIALES'!$C$16 -> 2022.305 | AM25: =AL25*$AM$8 -> 475.24167 | AN25: =AL25-AM25 -> 1547.0633 | AO25: =AK25+AN25 -> 32715.063
A26: 850 | B26: Maestro Asistente Social | C26: 0 | G26: 1120 | H26: 1135 | K26: =H26*'DATOS REFERENCIALES'!$C$4 -> 10891.233 | N26: =LOOKUP(C26,'TABLA ANTIG.'!$A$4:$A$39,'TABLA ANTIG.'!$B$4:$B$39)*(K26) -> 0 | O26: =K26*0.1 -> 1089.1233 | P26: ='DATOS REFERENCIALES'!$C$8 -> 6382 | Q26: =LOOKUP(C26,'TABLA ANTIG.'!$A$4:$A$39,'TABLA ANTIG.'!$B$4:$B$39)*(P26) -> 0 | R26: =(K26+P26)*0.15 -> 2590.985 | S26: =IF(C26>11,IF(H26>1134,'DATOS REFERENCIALES'!$C$18,'DATOS REFERENCIALES'!$C$18/1135*H26),0) -> 0 | T26: =K26+N26+O26+P26+Q26+R26+S26 -> 20953.341 | U26: =$T26*11% -> 2304.8675 | V26: =$T26*3% -> 628.60024 | W26: =$T26*3% -> 628.60024 | X26: =$T26*2% -> 419.06682 | Y26: =$T26*4.5% -> 942.90036 | Z26: =SUM(U26:Y26) -> 4924.0352 | AA26: =T26-Z26 -> 16029.306 | AB26: ='DATOS REFERENCIALES'!$C$10 -> 2270 | AC26: =IF(C26<12,IF(H26>1134,'DATOS REFERENCIALES'!$C$17,'DATOS REFERENCIALES'!$C$17/1135*H26),0) -> 2584 | AD26: =IF((IF(H26>1134,('DATOS REFERENCIALES'!$C$9-(T26-U26-V26-W26-X26-Y26+AB26+AC26-L26-L26*0.235)),(('DATOS REFERENCIALES'!$C$9/1135)*H26)-(K26+N26+O26+P26+Q26+S26-U26-V26-W26-X26-Y26+AB26+AC26-(L26-L26*0.235))))<0,0,IF(H26>1134,(('DATOS REFERENCIALES'!$C$9)-(T26-U26-V26-W26-X26-Y26+AB26+AC26-(L26-L26*0.235))),(('DATOS REFERENCIALES'!$C$9/1135)*H26)-(K26+N26+O26+P26+Q26+S26-U26-V26-W26-X26-Y26+AB26+AC26-(L26-L26*0.235)))) -> 7654.6939 | AE26: =SUM(AA26:AD26) -> 28538 | AF26: ='DATOS REFERENCIALES'!$C$13 -> 1210 | AH26: =IF($H26>1119,'DATOS REFERENCIALES'!#REF!,'DATOS REFERENCIALES'!#REF!/1120*$H26) -> #REF! | AI26: =+AF26 -> 1210 | AJ26: ='DATOS REFERENCIALES'!$C$12 -> 210 | AK26: =+AE26+AF26+AI26+AJ26 -> 31168 | AL26: ='DATOS REFERENCIALES'!$C$16 -> 2022.305 | AM26: =AL26*$AM$8 -> 475.24167 | AN26: =AL26-AM26 -> 1547.0633 | AO26: =AK26+AN26 -> 32715.063
A27: 852 | B27: Maestro Terapista Ocupacional | C27: 0 | G27: 1120 | H27: 1135 | K27: =H27*'DATOS REFERENCIALES'!$C$4 -> 10891.233 | N27: =LOOKUP(C27,'TABLA ANTIG.'!$A$4:$A$39,'TABLA ANTIG.'!$B$4:$B$39)*(K27) -> 0 | O27: =K27*0.1 -> 1089.1233 | P27: ='DATOS REFERENCIALES'!$C$8 -> 6382 | Q27: =LOOKUP(C27,'TABLA ANTIG.'!$A$4:$A$39,'TABLA ANTIG.'!$B$4:$B$39)*(P27) -> 0 | R27: =(K27+P27)*0.15 -> 2590.985 | S27: =IF(C27>11,IF(H27>1134,'DATOS REFERENCIALES'!$C$18,'DATOS REFERENCIALES'!$C$18/1135*H27),0) -> 0 | T27: =K27+N27+O27+P27+Q27+R27+S27 -> 20953.341 | U27: =$T27*11% -> 2304.8675 | V27: =$T27*3% -> 628.60024 | W27: =$T27*3% -> 628.60024 | X27: =$T27*2% -> 419.06682 | Y27: =$T27*4.5% -> 942.90036 | Z27: =SUM(U27:Y27) -> 4924.0352 | AA27: =T27-Z27 -> 16029.306 | AB27: ='DATOS REFERENCIALES'!$C$10 -> 2270 | AC27: =IF(C27<12,IF(H27>1134,'DATOS REFERENCIALES'!$C$17,'DATOS REFERENCIALES'!$C$17/1135*H27),0) -> 2584 | AD27: =IF((IF(H27>1134,('DATOS REFERENCIALES'!$C$9-(T27-U27-V27-W27-X27-Y27+AB27+AC27-L27-L27*0.235)),(('DATOS REFERENCIALES'!$C$9/1135)*H27)-(K27+N27+O27+P27+Q27+S27-U27-V27-W27-X27-Y27+AB27+AC27-(L27-L27*0.235))))<0,0,IF(H27>1134,(('DATOS REFERENCIALES'!$C$9)-(T27-U27-V27-W27-X27-Y27+AB27+AC27-(L27-L27*0.235))),(('DATOS REFERENCIALES'!$C$9/1135)*H27)-(K27+N27+O27+P27+Q27+S27-U27-V27-W27-X27-Y27+AB27+AC27-(L27-L27*0.235)))) -> 7654.6939 | AE27: =SUM(AA27:AD27) -> 28538 | AF27: ='DATOS REFERENCIALES'!$C$13 -> 1210 | AH27: =IF($H27>1119,'DATOS REFERENCIALES'!#REF!,'DATOS REFERENCIALES'!#REF!/1120*$H27) -> #REF! | AI27: =+AF27 -> 1210 | AJ27: ='DATOS REFERENCIALES'!$C$12 -> 210 | AK27: =+AE27+AF27+AI27+AJ27 -> 31168 | AL27: ='DATOS REFERENCIALES'!$C$16 -> 2022.305 | AM27: =AL27*$AM$8 -> 475.24167 | AN27: =AL27-AM27 -> 1547.0633 | AO27: =AK27+AN27 -> 32715.063
A28: 546 | B28: Maestro Psicólogo | C28: 0 | G28: 1120 | H28: 1135 | K28: =H28*'DATOS REFERENCIALES'!$C$4 -> 10891.233 | N28: =LOOKUP(C28,'TABLA ANTIG.'!$A$4:$A$39,'TABLA ANTIG.'!$B$4:$B$39)*(K28) -> 0 | O28: =K28*0.1 -> 1089.1233 | P28: ='DATOS REFERENCIALES'!$C$8 -> 6382 | Q28: =LOOKUP(C28,'TABLA ANTIG.'!$A$4:$A$39,'TABLA ANTIG.'!$B$4:$B$39)*(P28) -> 0 | R28: =(K28+P28)*0.15 -> 2590.985 | S28: =IF(C28>11,IF(H28>1134,'DATOS REFERENCIALES'!$C$18,'DATOS REFERENCIALES'!$C$18/1135*H28),0) -> 0 | T28: =K28+N28+O28+P28+Q28+R28+S28 -> 20953.341 | U28: =$T28*11% -> 2304.8675 | V28: =$T28*3% -> 628.60024 | W28: =$T28*3% -> 628.60024 | X28: =$T28*2% -> 419.06682 | Y28: =$T28*4.5% -> 942.90036 | Z28: =SUM(U28:Y28) -> 4924.0352 | AA28: =T28-Z28 -> 16029.306 | AB28: ='DATOS REFERENCIALES'!$C$10 -> 2270 | AC28: =IF(C28<12,IF(H28>1134,'DATOS REFERENCIALES'!$C$17,'DATOS REFERENCIALES'!$C$17/1135*H28),0) -> 2584 | AD28: =IF((IF(H28>1134,('DATOS REFERENCIALES'!$C$9-(T28-U28-V28-W28-X28-Y28+AB28+AC28-L28-L28*0.235)),(('DATOS REFERENCIALES'!$C$9/1135)*H28)-(K28+N28+O28+P28+Q28+S28-U28-V28-W28-X28-Y28+AB28+AC28-(L28-L28*0.235))))<0,0,IF(H28>1134,(('DATOS REFERENCIALES'!$C$9)-(T28-U28-V28-W28-X28-Y28+AB28+AC28-(L28-L28*0.235))),(('DATOS REFERENCIALES'!$C$9/1135)*H28)-(K28+N28+O28+P28+Q28+S28-U28-V28-W28-X28-Y28+AB28+AC28-(L28-L28*0.235)))) -> 7654.6939 | AE28: =SUM(AA28:AD28) -> 28538 | AF28: ='DATOS REFERENCIALES'!$C$13 -> 1210 | AH28: =IF($H28>1119,'DATOS REFERENCIALES'!#REF!,'DATOS REFERENCIALES'!#REF!/1120*$H28) -> #REF! | AI28: =+AF28 -> 1210 | AJ28: ='DATOS REFERENCIALES'!$C$12 -> 210 | AK28: =+AE28+AF28+AI28+AJ28 -> 31168 | AL28: ='DATOS REFERENCIALES'!$C$16 -> 2022.305 | AM28: =AL28*$AM$8 -> 475.24167 | AN28: =AL28-AM28 -> 1547.0633 | AO28: =AK28+AN28 -> 32715.063
A29: 571 | B29: Maestro de Actividades Prácticas | C29: 0 | G29: 1120 | H29: 1135 | K29: =H29*'DATOS REFERENCIALES'!$C$4 -> 10891.233 | N29: =LOOKUP(C29,'TABLA ANTIG.'!$A$4:$A$39,'TABLA ANTIG.'!$B$4:$B$39)*(K29) -> 0 | O29: =K29*0.1 -> 1089.1233 | P29: ='DATOS REFERENCIALES'!$C$8 -> 6382 | Q29: =LOOKUP(C29,'TABLA ANTIG.'!$A$4:$A$39,'TABLA ANTIG.'!$B$4:$B$39)*(P29) -> 0 | R29: =(K29+P29)*0.15 -> 2590.985 | S29: =IF(C29>11,IF(H29>1134,'DATOS REFERENCIALES'!$C$18,'DATOS REFERENCIALES'!$C$18/1135*H29),0) -> 0 | T29: =K29+N29+O29+P29+Q29+R29+S29 -> 20953.341 | U29: =$T29*11% -> 2304.8675 | V29: =$T29*3% -> 628.60024 | W29: =$T29*3% -> 628.60024 | X29: =$T29*2% -> 419.06682 | Y29: =$T29*4.5% -> 942.90036 | Z29: =SUM(U29:Y29) -> 4924.0352 | AA29: =T29-Z29 -> 16029.306 | AB29: ='DATOS REFERENCIALES'!$C$10 -> 2270 | AC29: =IF(C29<12,IF(H29>1134,'DATOS REFERENCIALES'!$C$17,'DATOS REFERENCIALES'!$C$17/1135*H29),0) -> 2584 | AD29: =IF((IF(H29>1134,('DATOS REFERENCIALES'!$C$9-(T29-U29-V29-W29-X29-Y29+AB29+AC29-L29-L29*0.235)),(('DATOS REFERENCIALES'!$C$9/1135)*H29)-(K29+N29+O29+P29+Q29+S29-U29-V29-W29-X29-Y29+AB29+AC29-(L29-L29*0.235))))<0,0,IF(H29>1134,(('DATOS REFERENCIALES'!$C$9)-(T29-U29-V29-W29-X29-Y29+AB29+AC29-(L29-L29*0.235))),(('DATOS REFERENCIALES'!$C$9/1135)*H29)-(K29+N29+O29+P29+Q29+S29-U29-V29-W29-X29-Y29+AB29+AC29-(L29-L29*0.235)))) -> 7654.6939 | AE29: =SUM(AA29:AD29) -> 28538 | AF29: ='DATOS REFERENCIALES'!$C$13 -> 1210 | AH29: =IF($H29>1119,'DATOS REFERENCIALES'!#REF!,'DATOS REFERENCIALES'!#REF!/1120*$H29) -> #REF! | AI29: =+AF29 -> 1210 | AJ29: ='DATOS REFERENCIALES'!$C$12 -> 210 | AK29: =+AE29+AF29+AI29+AJ29 -> 31168 | AL29: ='DATOS REFERENCIALES'!$C$16 -> 2022.305 | AM29: =AL29*$AM$8 -> 475.24167 | AN29: =AL29-AM29 -> 1547.0633 | AO29: =AK29+AN29 -> 32715.063
A30: 582 | B30: Preceptor/Maestro Celador | C30: 0 | G30: 959.5 | H30: =SUM(G30:G30) -> 959.5 | K30: =H30*'DATOS REFERENCIALES'!$C$4 -> 9207.1701 | N30: =LOOKUP(C30,'TABLA ANTIG.'!$A$4:$A$39,'TABLA ANTIG.'!$B$4:$B$39)*(K30) -> 0 | O30: =K30*0.1 -> 920.71701 | P30: ='DATOS REFERENCIALES'!$C$8 -> 6382 | Q30: =LOOKUP(C30,'TABLA ANTIG.'!$A$4:$A$39,'TABLA ANTIG.'!$B$4:$B$39)*(P30) -> 0 | R30: =(K30+P30)*0.15 -> 2338.3755 | S30: =IF(C30>11,IF(H30>1134,'DATOS REFERENCIALES'!$C$18,'DATOS REFERENCIALES'!$C$18/1135*H30),0) -> 0 | T30: =K30+N30+O30+P30+Q30+R30+S30 -> 18848.263 | U30: =$T30*11% -> 2073.3089 | V30: =$T30*3% -> 565.44788 | W30: =$T30*3% -> 565.44788 | X30: =$T30*2% -> 376.96525 | Y30: =$T30*4.5% -> 848.17182 | Z30: =SUM(U30:Y30) -> 4429.3417 | AA30: =T30-Z30 -> 14418.921 | AB30: ='DATOS REFERENCIALES'!$C$10 -> 2270 | AC30: =IF(C30<12,IF(H30>1134,'DATOS REFERENCIALES'!$C$17,'DATOS REFERENCIALES'!$C$17/1135*H30),0) -> 2184.4476 | AD30: =IF((IF(H30>1134,('DATOS REFERENCIALES'!$C$9-(T30-U30-V30-W30-X30-Y30+AB30+AC30-L30-L30*0.235)),(('DATOS REFERENCIALES'!$C$9/1135)*H30)-(K30+N30+O30+P30+Q30+S30-U30-V30-W30-X30-Y30+AB30+AC30-(L30-L30*0.235))))<0,0,IF(H30>1134,(('DATOS REFERENCIALES'!$C$9)-(T30-U30-V30-W30-X30-Y30+AB30+AC30-(L30-L30*0.235))),(('DATOS REFERENCIALES'!$C$9/1135)*H30)-(K30+N30+O30+P30+Q30+S30-U30-V30-W30-X30-Y30+AB30+AC30-(L30-L30*0.235)))) -> 7590.3031 | AE30: =SUM(AA30:AD30) -> 26463.672 | AF30: ='DATOS REFERENCIALES'!$C$13 -> 1210 | AH30: =IF($H30>1119,'DATOS REFERENCIALES'!#REF!,'DATOS REFERENCIALES'!#REF!/1120*$H30) -> #REF! | AI30: =+AF30 -> 1210 | AJ30: ='DATOS REFERENCIALES'!$C$12 -> 210 | AK30: =+AE30+AF30+AI30+AJ30 -> 29093.672 | AL30: ='DATOS REFERENCIALES'!$C$16 -> 2022.305 | AM30: =AL30*$AM$8 -> 475.24167 | AN30: =AL30-AM30 -> 1547.0633 | AO30: =AK30+AN30 -> 30640.735
A31: 583 | B31: Maestro de Grupo Escolar Auxiliar | C31: 0 | G31: 982 | H31: =SUM(G31:G31) -> 982 | K31: =H31*'DATOS REFERENCIALES'!$C$4 -> 9423.0756 | N31: =LOOKUP(C31,'TABLA ANTIG.'!$A$4:$A$39,'TABLA ANTIG.'!$B$4:$B$39)*(K31) -> 0 | O31: =K31*0.1 -> 942.30756 | P31: ='DATOS REFERENCIALES'!$C$8 -> 6382 | Q31: =LOOKUP(C31,'TABLA ANTIG.'!$A$4:$A$39,'TABLA ANTIG.'!$B$4:$B$39)*(P31) -> 0 | R31: =(K31+P31)*0.15 -> 2370.7613 | S31: =IF(C31>11,IF(H31>1134,'DATOS REFERENCIALES'!$C$18,'DATOS REFERENCIALES'!$C$18/1135*H31),0) -> 0 | T31: =K31+N31+O31+P31+Q31+R31+S31 -> 19118.144 | U31: =$T31*11% -> 2102.9959 | V31: =$T31*3% -> 573.54433 | W31: =$T31*3% -> 573.54433 | X31: =$T31*2% -> 382.36289 | Y31: =$T31*4.5% -> 860.3165 | Z31: =SUM(U31:Y31) -> 4492.764 | AA31: =T31-Z31 -> 14625.381 | AB31: ='DATOS REFERENCIALES'!$C$10 -> 2270 | AC31: =IF(C31<12,IF(H31>1134,'DATOS REFERENCIALES'!$C$17,'DATOS REFERENCIALES'!$C$17/1135*H31),0) -> 2235.6722 | AD31: =IF((IF(H31>1134,('DATOS REFERENCIALES'!$C$9-(T31-U31-V31-W31-X31-Y31+AB31+AC31-L31-L31*0.235)),(('DATOS REFERENCIALES'!$C$9/1135)*H31)-(K31+N31+O31+P31+Q31+S31-U31-V31-W31-X31-Y31+AB31+AC31-(L31-L31*0.235))))<0,0,IF(H31>1134,(('DATOS REFERENCIALES'!$C$9)-(T31-U31-V31-W31-X31-Y31+AB31+AC31-(L31-L31*0.235))),(('DATOS REFERENCIALES'!$C$9/1135)*H31)-(K31+N31+O31+P31+Q31+S31-U31-V31-W31-X31-Y31+AB31+AC31-(L31-L31*0.235)))) -> 7930.7359 | AE31: =SUM(AA31:AD31) -> 27061.789 | AF31: ='DATOS REFERENCIALES'!$C$13 -> 1210 | AH31: =IF($H31>1119,'DATOS REFERENCIALES'!#REF!,'DATOS REFERENCIALES'!#REF!/1120*$H31) -> #REF! | AI31: =+AF31 -> 1210 | AJ31: ='DATOS REFERENCIALES'!$C$12 -> 210 | AK31: =+AE31+AF31+AI31+AJ31 -> 29691.789 | AL31: ='DATOS REFERENCIALES'!$C$16 -> 2022.305 | AM31: =AL31*$AM$8 -> 475.24167 | AN31: =AL31-AM31 -> 1547.0633 | AO31: =AK31+AN31 -> 31238.852
A32: 554 | B32: Ayudante Clases/Trabajos Prácticos | C32: 0 | G32: 810 | H32: =SUM(G32:G32) -> 810 | K32: =H32*'DATOS REFERENCIALES'!$C$4 -> 7772.598 | N32: =LOOKUP(C32,'TABLA ANTIG.'!$A$4:$A$39,'TABLA ANTIG.'!$B$4:$B$39)*(K32) -> 0 | O32: =K32*0.1 -> 777.2598 | P32: ='DATOS REFERENCIALES'!$C$8 -> 6382 | Q32: =LOOKUP(C32,'TABLA ANTIG.'!$A$4:$A$39,'TABLA ANTIG.'!$B$4:$B$39)*(P32) -> 0 | R32: =(K32+P32)*0.15 -> 2123.1897 | S32: =IF(C32>11,IF(H32>1134,'DATOS REFERENCIALES'!$C$18,'DATOS REFERENCIALES'!$C$18/1135*H32),0) -> 0 | T32: =K32+N32+O32+P32+Q32+R32+S32 -> 17055.048 | U32: =$T32*11% -> 1876.0552 | V32: =$T32*3% -> 511.65143 | W32: =$T32*3% -> 511.65143 | X32: =$T32*2% -> 341.10095 | Y32: =$T32*4.5% -> 767.47714 | Z32: =SUM(U32:Y32) -> 4007.9362 | AA32: =T32-Z32 -> 13047.111 | AB32: ='DATOS REFERENCIALES'!$C$10 -> 2270 | AC32: =IF(C32<12,IF(H32>1134,'DATOS REFERENCIALES'!$C$17,'DATOS REFERENCIALES'!$C$17/1135*H32),0) -> 1844.0881 | AD32: =IF((IF(H32>1134,('DATOS REFERENCIALES'!$C$9-(T32-U32-V32-W32-X32-Y32+AB32+AC32-L32-L32*0.235)),(('DATOS REFERENCIALES'!$C$9/1135)*H32)-(K32+N32+O32+P32+Q32+S32-U32-V32-W32-X32-Y32+AB32+AC32-(L32-L32*0.235))))<0,0,IF(H32>1134,(('DATOS REFERENCIALES'!$C$9)-(T32-U32-V32-W32-X32-Y32+AB32+AC32-(L32-L32*0.235))),(('DATOS REFERENCIALES'!$C$9/1135)*H32)-(K32+N32+O32+P32+Q32+S32-U32-V32-W32-X32-Y32+AB32+AC32-(L32-L32*0.235)))) -> 5328.3162 | AE32: =SUM(AA32:AD32) -> 22489.516 | AF32: ='DATOS REFERENCIALES'!$C$13 -> 1210 | AH32: =IF($H32>1119,'DATOS REFERENCIALES'!#REF!,'DATOS REFERENCIALES'!#REF!/1120*$H32) -> #REF! | AI32: =+AF32 -> 1210 | AJ32: ='DATOS REFERENCIALES'!$C$12 -> 210 | AK32: =+AE32+AF32+AI32+AJ32 -> 25119.516 | AL32: ='DATOS REFERENCIALES'!$C$16 -> 2022.305 | AM32: =AL32*$AM$8 -> 475.24167 | AN32: =AL32-AM32 -> 1547.0633 | AO32: =AK32+AN32 -> 26666.579
A33: 536 | B33: Maestro Gabinetista Psicotécnico | C33: 0 | G33: 1120 | H33: 1135 | K33: =H33*'DATOS REFERENCIALES'!$C$4 -> 10891.233 | N33: =LOOKUP(C33,'TABLA ANTIG.'!$A$4:$A$39,'TABLA ANTIG.'!$B$4:$B$39)*(K33) -> 0 | O33: =K33*0.1 -> 1089.1233 | P33: ='DATOS REFERENCIALES'!$C$8 -> 6382 | Q33: =LOOKUP(C33,'TABLA ANTIG.'!$A$4:$A$39,'TABLA ANTIG.'!$B$4:$B$39)*(P33) -> 0 | R33: =(K33+P33)*0.15 -> 2590.985 | S33: =IF(C33>11,IF(H33>1134,'DATOS REFERENCIALES'!$C$18,'DATOS REFERENCIALES'!$C$18/1135*H33),0) -> 0 | T33: =K33+N33+O33+P33+Q33+R33+S33 -> 20953.341 | U33: =$T33*11% -> 2304.8675 | V33: =$T33*3% -> 628.60024 | W33: =$T33*3% -> 628.60024 | X33: =$T33*2% -> 419.06682 | Y33: =$T33*4.5% -> 942.90036 | Z33: =SUM(U33:Y33) -> 4924.0352 | AA33: =T33-Z33 -> 16029.306 | AB33: ='DATOS REFERENCIALES'!$C$10 -> 2270 | AC33: =IF(C33<12,IF(H33>1134,'DATOS REFERENCIALES'!$C$17,'DATOS REFERENCIALES'!$C$17/1135*H33),0) -> 2584 | AD33: =IF((IF(H33>1134,('DATOS REFERENCIALES'!$C$9-(T33-U33-V33-W33-X33-Y33+AB33+AC33-L33-L33*0.235)),(('DATOS REFERENCIALES'!$C$9/1135)*H33)-(K33+N33+O33+P33+Q33+S33-U33-V33-W33-X33-Y33+AB33+AC33-(L33-L33*0.235))))<0,0,IF(H33>1134,(('DATOS REFERENCIALES'!$C$9)-(T33-U33-V33-W33-X33-Y33+AB33+AC33-(L33-L33*0.235))),(('DATOS REFERENCIALES'!$C$9/1135)*H33)-(K33+N33+O33+P33+Q33+S33-U33-V33-W33-X33-Y33+AB33+AC33-(L33-L33*0.235)))) -> 7654.6939 | AE33: =SUM(AA33:AD33) -> 28538 | AF33: ='DATOS REFERENCIALES'!$C$13 -> 1210 | AH33: =IF($H33>1119,'DATOS REFERENCIALES'!#REF!,'DATOS REFERENCIALES'!#REF!/1120*$H33) -> #REF! | AI33: =+AF33 -> 1210 | AJ33: ='DATOS REFERENCIALES'!$C$12 -> 210 | AK33: =+AE33+AF33+AI33+AJ33 -> 31168 | AL33: ='DATOS REFERENCIALES'!$C$16 -> 2022.305 | AM33: =AL33*$AM$8 -> 475.24167 | AN33: =AL33-AM33 -> 1547.0633 | AO33: =AK33+AN33 -> 32715.063
A34: 580 | B34: Maestro Bibliotecario | C34: 0 | G34: 1120 | H34: 1135 | K34: =H34*'DATOS REFERENCIALES'!$C$4 -> 10891.233 | N34: =LOOKUP(C34,'TABLA ANTIG.'!$A$4:$A$39,'TABLA ANTIG.'!$B$4:$B$39)*(K34) -> 0 | O34: =K34*0.1 -> 1089.1233 | P34: ='DATOS REFERENCIALES'!$C$8 -> 6382 | Q34: =LOOKUP(C34,'TABLA ANTIG.'!$A$4:$A$39,'TABLA ANTIG.'!$B$4:$B$39)*(P34) -> 0 | R34: =(K34+P34)*0.15 -> 2590.985 | S34: =IF(C34>11,IF(H34>1134,'DATOS REFERENCIALES'!$C$18,'DATOS REFERENCIALES'!$C$18/1135*H34),0) -> 0 | T34: =K34+N34+O34+P34+Q34+R34+S34 -> 20953.341 | U34: =$T34*11% -> 2304.8675 | V34: =$T34*3% -> 628.60024 | W34: =$T34*3% -> 628.60024 | X34: =$T34*2% -> 419.06682 | Y34: =$T34*4.5% -> 942.90036 | Z34: =SUM(U34:Y34) -> 4924.0352 | AA34: =T34-Z34 -> 16029.306 | AB34: ='DATOS REFERENCIALES'!$C$10 -> 2270 | AC34: =IF(C34<12,IF(H34>1134,'DATOS REFERENCIALES'!$C$17,'DATOS REFERENCIALES'!$C$17/1135*H34),0) -> 2584 | AD34: =IF((IF(H34>1134,('DATOS REFERENCIALES'!$C$9-(T34-U34-V34-W34-X34-Y34+AB34+AC34-L34-L34*0.235)),(('DATOS REFERENCIALES'!$C$9/1135)*H34)-(K34+N34+O34+P34+Q34+S34-U34-V34-W34-X34-Y34+AB34+AC34-(L34-L34*0.235))))<0,0,IF(H34>1134,(('DATOS REFERENCIALES'!$C$9)-(T34-U34-V34-W34-X34-Y34+AB34+AC34-(L34-L34*0.235))),(('DATOS REFERENCIALES'!$C$9/1135)*H34)-(K34+N34+O34+P34+Q34+S34-U34-V34-W34-X34-Y34+AB34+AC34-(L34-L34*0.235)))) -> 7654.6939 | AE34: =SUM(AA34:AD34) -> 28538 | AF34: ='DATOS REFERENCIALES'!$C$13 -> 1210 | AH34: =IF($H34>1119,'DATOS REFERENCIALES'!#REF!,'DATOS REFERENCIALES'!#REF!/1120*$H34) -> #REF! | AI34: =+AF34 -> 1210 | AJ34: ='DATOS REFERENCIALES'!$C$12 -> 210 | AK34: =+AE34+AF34+AI34+AJ34 -> 31168 | AL34: ='DATOS REFERENCIALES'!$C$16 -> 2022.305 | AM34: =AL34*$AM$8 -> 475.24167 | AN34: =AL34-AM34 -> 1547.0633 | AO34: =AK34+AN34 -> 32715.063
A35: 6539 | B35: Hora Maestro de Grado o Grupo | C35: 0 | D35: 1 | G35: 56 | H35: =SUM(G35:G35) -> 56 | K35: =(H35*'DATOS REFERENCIALES'!$C$4)*D35 -> 537.3648 | N35: =LOOKUP(C35,'TABLA ANTIG.'!$A$4:$A$39,'TABLA ANTIG.'!$B$4:$B$39)*(K35) -> 0 | O35: =K35*0.1 -> 53.73648 | P35: =IF(D35>48,'DATOS REFERENCIALES'!$D$8+('DATOS REFERENCIALES'!$F$8*10),IF(D35<39,'DATOS REFERENCIALES'!$E$8*D35,((D35-'DATOS REFERENCIALES'!$I$8)*'DATOS REFERENCIALES'!$F$8)+'DATOS REFERENCIALES'!$D$8)) -> 335.89474 | Q35: =LOOKUP(C35,'TABLA ANTIG.'!$A$4:$A$39,'TABLA ANTIG.'!$B$4:$B$39)*(P35) -> 0 | R35: =(K35+P35)*0.15 -> 130.98893 | S35: =IF(C35>11,IF(H35>1134,'DATOS REFERENCIALES'!$C$18,'DATOS REFERENCIALES'!$C$18/20*D35),0) -> 0 | T35: =K35+N35+O35+P35+Q35+R35+S35 -> 1057.9849 | U35: =$T35*11% -> 116.37834 | V35: =$T35*3% -> 31.739548 | W35: =$T35*3% -> 31.739548 | X35: =$T35*2% -> 21.159699 | Y35: =$T35*4.5% -> 47.609323 | Z35: =SUM(U35:Y35) -> 248.62646 | AA35: =T35-Z35 -> 809.35848 | AB35: =IF(D35>38,'DATOS REFERENCIALES'!$D$10,'DATOS REFERENCIALES'!$E$10*D35) -> 119.47368 | AC35: =IF(C35<12,IF(H35>1134,'DATOS REFERENCIALES'!$C$17,'DATOS REFERENCIALES'!$C$17/20*D35),0) -> 129.2 | AD35: =IF(D35>41,IF((('DATOS REFERENCIALES'!$D$9)-((T35)+(AB35)+(AC35)))<0,0,((('DATOS REFERENCIALES'!$D$9)-((T35)-(Z35)+(AB35)+(AC35))))),IF((('DATOS REFERENCIALES'!$E$9*D35)-(((T35)+(AB35)+(AC35))))<0,0,('DATOS REFERENCIALES'!$E$9*D35)-((T35)-(Z35)+(AB35)+(AC35)))) -> 368.86783 | AE35: =SUM(AA35:AD35) -> 1426.9 | AF35: =IF(D35>30,'DATOS REFERENCIALES'!$D$13,('DATOS REFERENCIALES'!$E$13*D35)) -> 80.666667 | AH35: =IF(D35>'DATOS REFERENCIALES'!#REF!,'DATOS REFERENCIALES'!#REF!,('DATOS REFERENCIALES'!#REF!*D35)) -> #REF! | AI35: =+AF35 -> 80.666667 | AJ35: =IF(D35>'DATOS REFERENCIALES'!$I$12,'DATOS REFERENCIALES'!$D$12,'DATOS REFERENCIALES'!$E$12*D35) -> 14 | AK35: =+AE35+AF35+AI35+AJ35 -> 1602.2333 | AL35: =IF(D35>'DATOS REFERENCIALES'!$I$16,'DATOS REFERENCIALES'!$D$16,'DATOS REFERENCIALES'!$E$16*D35) -> 134.82033 | AM35: =AL35*$AM$8 -> 31.682778 | AN35: =AL35-AM35 -> 103.13756 | AO35: =AK35+AN35 -> 1705.3709
A36: 6540 | B36: Hora Maestro Reeducador Vocal | C36: 0 | D36: 1 | G36: 56 | H36: =SUM(G36:G36) -> 56 | K36: =(H36*'DATOS REFERENCIALES'!$C$4)*D36 -> 537.3648 | N36: =LOOKUP(C36,'TABLA ANTIG.'!$A$4:$A$39,'TABLA ANTIG.'!$B$4:$B$39)*(K36) -> 0 | O36: =K36*0.1 -> 53.73648 | P36: =IF(D36>48,'DATOS REFERENCIALES'!D23+('DATOS REFERENCIALES'!F23*10),IF(D36<39,'DATOS REFERENCIALES'!$E$8*D36,((D36-'DATOS REFERENCIALES'!$I$8)*'DATOS REFERENCIALES'!$F$8)+'DATOS REFERENCIALES'!D23)) -> 335.89474 | Q36: =LOOKUP(C36,'TABLA ANTIG.'!$A$4:$A$39,'TABLA ANTIG.'!$B$4:$B$39)*(P36) -> 0 | R36: =(K36+P36)*0.15 -> 130.98893 | S36: =IF(C36>11,IF(H36>1134,'DATOS REFERENCIALES'!$C$18,'DATOS REFERENCIALES'!$C$18/20*D36),0) -> 0 | T36: =K36+N36+O36+P36+Q36+R36+S36 -> 1057.9849 | U36: =$T36*11% -> 116.37834 | V36: =$T36*3% -> 31.739548 | W36: =$T36*3% -> 31.739548 | X36: =$T36*2% -> 21.159699 | Y36: =$T36*4.5% -> 47.609323 | Z36: =SUM(U36:Y36) -> 248.62646 | AA36: =T36-Z36 -> 809.35848 | AB36: =IF(D36>38,'DATOS REFERENCIALES'!$D$10,'DATOS REFERENCIALES'!$E$10*D36) -> 119.47368 | AC36: =IF(C36<12,IF(H36>1134,'DATOS REFERENCIALES'!$C$17,'DATOS REFERENCIALES'!$C$17/20*D36),0) -> 129.2 | AD36: =IF(D36>41,IF((('DATOS REFERENCIALES'!$D$9)-((T36)+(AB36)+(AC36)))<0,0,((('DATOS REFERENCIALES'!$D$9)-((T36)-(Z36)+(AB36)+(AC36))))),IF((('DATOS REFERENCIALES'!$E$9*D36)-(((T36)+(AB36)+(AC36))))<0,0,('DATOS REFERENCIALES'!$E$9*D36)-((T36)-(Z36)+(AB36)+(AC36)))) -> 368.86783 | AE36: =SUM(AA36:AD36) -> 1426.9 | AF36: =IF(D36>30,'DATOS REFERENCIALES'!$D$13,('DATOS REFERENCIALES'!$E$13*D36)) -> 80.666667 | AH36: =IF(D36>'DATOS REFERENCIALES'!#REF!,'DATOS REFERENCIALES'!#REF!,('DATOS REFERENCIALES'!#REF!*D36)) -> #REF! | AI36: =+AF36 -> 80.666667 | AJ36: =IF(D36>'DATOS REFERENCIALES'!$I$12,'DATOS REFERENCIALES'!$D$12,'DATOS REFERENCIALES'!$E$12*D36) -> 14 | AK36: =+AE36+AF36+AI36+AJ36 -> 1602.2333 | AL36: =IF(D36>'DATOS REFERENCIALES'!$I$16,'DATOS REFERENCIALES'!$D$16,'DATOS REFERENCIALES'!$E$16*D36) -> 134.82033 | AM36: =AL36*$AM$8 -> 31.682778 | AN36: =AL36-AM36 -> 103.13756 | AO36: =AK36+AN36 -> 1705.3709
A37: 6541 | B37: Hora Maestro Reeducador Acústico | C37: 0 | D37: 1 | G37: 56 | H37: =SUM(G37:G37) -> 56 | K37: =(H37*'DATOS REFERENCIALES'!$C$4)*D37 -> 537.3648 | N37: =LOOKUP(C37,'TABLA ANTIG.'!$A$4:$A$39,'TABLA ANTIG.'!$B$4:$B$39)*(K37) -> 0 | O37: =K37*0.1 -> 53.73648 | P37: =IF(D37>48,'DATOS REFERENCIALES'!$D$8+('DATOS REFERENCIALES'!$F$8*10),IF(D37<39,'DATOS REFERENCIALES'!$E$8*D37,((D37-'DATOS REFERENCIALES'!$I$8)*'DATOS REFERENCIALES'!$F$8)+'DATOS REFERENCIALES'!$D$8)) -> 335.89474 | Q37: =LOOKUP(C37,'TABLA ANTIG.'!$A$4:$A$39,'TABLA ANTIG.'!$B$4:$B$39)*(P37) -> 0 | R37: =(K37+P37)*0.15 -> 130.98893 | S37: =IF(C37>11,IF(H37>1134,'DATOS REFERENCIALES'!$C$18,'DATOS REFERENCIALES'!$C$18/20*D37),0) -> 0 | T37: =K37+N37+O37+P37+Q37+R37+S37 -> 1057.9849 | U37: =$T37*11% -> 116.37834 | V37: =$T37*3% -> 31.739548 | W37: =$T37*3% -> 31.739548 | X37: =$T37*2% -> 21.159699 | Y37: =$T37*4.5% -> 47.609323 | Z37: =SUM(U37:Y37) -> 248.62646 | AA37: =T37-Z37 -> 809.35848 | AB37: =IF(D37>38,'DATOS REFERENCIALES'!$D$10,'DATOS REFERENCIALES'!$E$10*D37) -> 119.47368 | AC37: =IF(C37<12,IF(H37>1134,'DATOS REFERENCIALES'!$C$17,'DATOS REFERENCIALES'!$C$17/20*D37),0) -> 129.2 | AD37: =IF(D37>41,IF((('DATOS REFERENCIALES'!$D$9)-((T37)+(AB37)+(AC37)))<0,0,((('DATOS REFERENCIALES'!$D$9)-((T37)-(Z37)+(AB37)+(AC37))))),IF((('DATOS REFERENCIALES'!$E$9*D37)-(((T37)+(AB37)+(AC37))))<0,0,('DATOS REFERENCIALES'!$E$9*D37)-((T37)-(Z37)+(AB37)+(AC37)))) -> 368.86783 | AE37: =SUM(AA37:AD37) -> 1426.9 | AF37: =IF(D37>30,'DATOS REFERENCIALES'!$D$13,('DATOS REFERENCIALES'!$E$13*D37)) -> 80.666667 | AH37: =IF(D37>'DATOS REFERENCIALES'!#REF!,'DATOS REFERENCIALES'!#REF!,('DATOS REFERENCIALES'!#REF!*D37)) -> #REF! | AI37: =+AF37 -> 80.666667 | AJ37: =IF(D37>'DATOS REFERENCIALES'!$I$12,'DATOS REFERENCIALES'!$D$12,'DATOS REFERENCIALES'!$E$12*D37) -> 14 | AK37: =+AE37+AF37+AI37+AJ37 -> 1602.2333 | AL37: =IF(D37>'DATOS REFERENCIALES'!$I$16,'DATOS REFERENCIALES'!$D$16,'DATOS REFERENCIALES'!$E$16*D37) -> 134.82033 | AM37: =AL37*$AM$8 -> 31.682778 | AN37: =AL37-AM37 -> 103.13756 | AO37: =AK37+AN37 -> 1705.3709
A38: 6850 | B38: Hora Maestro Asistente Social | C38: 0 | D38: 1 | G38: 56 | H38: =SUM(G38:G38) -> 56 | K38: =(H38*'DATOS REFERENCIALES'!$C$4)*D38 -> 537.3648 | N38: =LOOKUP(C38,'TABLA ANTIG.'!$A$4:$A$39,'TABLA ANTIG.'!$B$4:$B$39)*(K38) -> 0 | O38: =K38*0.1 -> 53.73648 | P38: =IF(D38>48,'DATOS REFERENCIALES'!$D$8+('DATOS REFERENCIALES'!$F$8*10),IF(D38<39,'DATOS REFERENCIALES'!$E$8*D38,((D38-'DATOS REFERENCIALES'!$I$8)*'DATOS REFERENCIALES'!$F$8)+'DATOS REFERENCIALES'!$D$8)) -> 335.89474 | Q38: =LOOKUP(C38,'TABLA ANTIG.'!$A$4:$A$39,'TABLA ANTIG.'!$B$4:$B$39)*(P38) -> 0 | R38: =(K38+P38)*0.15 -> 130.98893 | S38: =IF(C38>11,IF(H38>1134,'DATOS REFERENCIALES'!$C$18,'DATOS REFERENCIALES'!$C$18/20*D38),0) -> 0 | T38: =K38+N38+O38+P38+Q38+R38+S38 -> 1057.9849 | U38: =$T38*11% -> 116.37834 | V38: =$T38*3% -> 31.739548 | W38: =$T38*3% -> 31.739548 | X38: =$T38*2% -> 21.159699 | Y38: =$T38*4.5% -> 47.609323 | Z38: =SUM(U38:Y38) -> 248.62646 | AA38: =T38-Z38 -> 809.35848 | AB38: =IF(D38>38,'DATOS REFERENCIALES'!$D$10,'DATOS REFERENCIALES'!$E$10*D38) -> 119.47368 | AC38: =IF(C38<12,IF(H38>1134,'DATOS REFERENCIALES'!$C$17,'DATOS REFERENCIALES'!$C$17/20*D38),0) -> 129.2 | AD38: =IF(D38>41,IF((('DATOS REFERENCIALES'!$D$9)-((T38)+(AB38)+(AC38)))<0,0,((('DATOS REFERENCIALES'!$D$9)-((T38)-(Z38)+(AB38)+(AC38))))),IF((('DATOS REFERENCIALES'!$E$9*D38)-(((T38)+(AB38)+(AC38))))<0,0,('DATOS REFERENCIALES'!$E$9*D38)-((T38)-(Z38)+(AB38)+(AC38)))) -> 368.86783 | AE38: =SUM(AA38:AD38) -> 1426.9 | AF38: =IF(D38>30,'DATOS REFERENCIALES'!$D$13,('DATOS REFERENCIALES'!$E$13*D38)) -> 80.666667 | AH38: =IF(D38>'DATOS REFERENCIALES'!#REF!,'DATOS REFERENCIALES'!#REF!,('DATOS REFERENCIALES'!#REF!*D38)) -> #REF! | AI38: =+AF38 -> 80.666667 | AJ38: =IF(D38>'DATOS REFERENCIALES'!$I$12,'DATOS REFERENCIALES'!$D$12,'DATOS REFERENCIALES'!$E$12*D38) -> 14 | AK38: =+AE38+AF38+AI38+AJ38 -> 1602.2333 | AL38: =IF(D38>'DATOS REFERENCIALES'!$I$16,'DATOS REFERENCIALES'!$D$16,'DATOS REFERENCIALES'!$E$16*D38) -> 134.82033 | AM38: =AL38*$AM$8 -> 31.682778 | AN38: =AL38-AM38 -> 103.13756 | AO38: =AK38+AN38 -> 1705.3709
A39: 6546 | B39: Hora Maestro Psicólogo | C39: 0 | D39: 1 | G39: 74.67 | H39: =SUM(G39:G39) -> 74.67 | K39: =(H39*'DATOS REFERENCIALES'!$C$4)*D39 -> 716.51839 | N39: =LOOKUP(C39,'TABLA ANTIG.'!$A$4:$A$39,'TABLA ANTIG.'!$B$4:$B$39)*(K39) -> 0 | O39: =K39*0.1 -> 71.651839 | P39: =IF(D39>48,'DATOS REFERENCIALES'!$D$8+('DATOS REFERENCIALES'!$F$8*10),IF(D39<39,'DATOS REFERENCIALES'!$E$8*D39,((D39-'DATOS REFERENCIALES'!$I$8)*'DATOS REFERENCIALES'!$F$8)+'DATOS REFERENCIALES'!$D$8)) -> 335.89474 | Q39: =LOOKUP(C39,'TABLA ANTIG.'!$A$4:$A$39,'TABLA ANTIG.'!$B$4:$B$39)*(P39) -> 0 | R39: =(K39+P39)*0.15 -> 157.86197 | S39: =IF(C39>11,IF(H39>1134,'DATOS REFERENCIALES'!$C$18,'DATOS REFERENCIALES'!$C$18/20*D39),0) -> 0 | T39: =K39+N39+O39+P39+Q39+R39+S39 -> 1281.9269 | U39: =$T39*11% -> 141.01196 | V39: =$T39*3% -> 38.457808 | W39: =$T39*3% -> 38.457808 | X39: =$T39*2% -> 25.638539 | Y39: =$T39*4.5% -> 57.686712 | Z39: =SUM(U39:Y39) -> 301.25283 | AA39: =T39-Z39 -> 980.6741 | AB39: =IF(D39>38,'DATOS REFERENCIALES'!$D$10,'DATOS REFERENCIALES'!$E$10*D39) -> 119.47368 | AC39: =IF(C39<12,IF(H39>1134,'DATOS REFERENCIALES'!$C$17,'DATOS REFERENCIALES'!$C$17/20*D39),0) -> 129.2 | AD39: =IF(D39>41,IF((('DATOS REFERENCIALES'!$D$9)-((T39)+(AB39)+(AC39)))<0,0,((('DATOS REFERENCIALES'!$D$9)-((T39)-(Z39)+(AB39)+(AC39))))),IF((('DATOS REFERENCIALES'!$E$9*D39)-(((T39)+(AB39)+(AC39))))<0,0,('DATOS REFERENCIALES'!$E$9*D39)-((T39)-(Z39)+(AB39)+(AC39)))) -> 0 | AE39: =SUM(AA39:AD39) -> 1229.3478 | AF39: =IF(D39>30,'DATOS REFERENCIALES'!$D$13,('DATOS REFERENCIALES'!$E$13*D39)) -> 80.666667 | AH39: =IF(D39>'DATOS REFERENCIALES'!#REF!,'DATOS REFERENCIALES'!#REF!,('DATOS REFERENCIALES'!#REF!*D39)) -> #REF! | AI39: =+AF39 -> 80.666667 | AJ39: =IF(D39>'DATOS REFERENCIALES'!$I$12,'DATOS REFERENCIALES'!$D$12,'DATOS REFERENCIALES'!$E$12*D39) -> 14 | AK39: =+AE39+AF39+AI39+AJ39 -> 1404.6811 | AL39: =IF(D39>'DATOS REFERENCIALES'!$I$16,'DATOS REFERENCIALES'!$D$16,'DATOS REFERENCIALES'!$E$16*D39) -> 134.82033 | AM39: =AL39*$AM$8 -> 31.682778 | AN39: =AL39-AM39 -> 103.13756 | AO39: =AK39+AN39 -> 1507.8187
A40: 6571 | B40: Hora Maestro Actividades Prácticas | C40: 0 | D40: 1 | G40: 56 | H40: =SUM(G40:G40) -> 56 | K40: =(H40*'DATOS REFERENCIALES'!$C$4)*D40 -> 537.3648 | N40: =LOOKUP(C40,'TABLA ANTIG.'!$A$4:$A$39,'TABLA ANTIG.'!$B$4:$B$39)*(K40) -> 0 | O40: =K40*0.1 -> 53.73648 | P40: =IF(D40>48,'DATOS REFERENCIALES'!$D$8+('DATOS REFERENCIALES'!$F$8*10),IF(D40<39,'DATOS REFERENCIALES'!$E$8*D40,((D40-'DATOS REFERENCIALES'!$I$8)*'DATOS REFERENCIALES'!$F$8)+'DATOS REFERENCIALES'!$D$8)) -> 335.89474 | Q40: =LOOKUP(C40,'TABLA ANTIG.'!$A$4:$A$39,'TABLA ANTIG.'!$B$4:$B$39)*(P40) -> 0 | R40: =(K40+P40)*0.15 -> 130.98893 | S40: =IF(C40>11,IF(H40>1134,'DATOS REFERENCIALES'!$C$18,'DATOS REFERENCIALES'!$C$18/20*D40),0) -> 0 | T40: =K40+N40+O40+P40+Q40+R40+S40 -> 1057.9849 | U40: =$T40*11% -> 116.37834 | V40: =$T40*3% -> 31.739548 | W40: =$T40*3% -> 31.739548 | X40: =$T40*2% -> 21.159699 | Y40: =$T40*4.5% -> 47.609323 | Z40: =SUM(U40:Y40) -> 248.62646 | AA40: =T40-Z40 -> 809.35848 | AB40: =IF(D40>38,'DATOS REFERENCIALES'!$D$10,'DATOS REFERENCIALES'!$E$10*D40) -> 119.47368 | AC40: =IF(C40<12,IF(H40>1134,'DATOS REFERENCIALES'!$C$17,'DATOS REFERENCIALES'!$C$17/20*D40),0) -> 129.2 | AD40: =IF(D40>41,IF((('DATOS REFERENCIALES'!$D$9)-((T40)+(AB40)+(AC40)))<0,0,((('DATOS REFERENCIALES'!$D$9)-((T40)-(Z40)+(AB40)+(AC40))))),IF((('DATOS REFERENCIALES'!$E$9*D40)-(((T40)+(AB40)+(AC40))))<0,0,('DATOS REFERENCIALES'!$E$9*D40)-((T40)-(Z40)+(AB40)+(AC40)))) -> 368.86783 | AE40: =SUM(AA40:AD40) -> 1426.9 | AF40: =IF(D40>30,'DATOS REFERENCIALES'!$D$13,('DATOS REFERENCIALES'!$E$13*D40)) -> 80.666667 | AH40: =IF(D40>'DATOS REFERENCIALES'!#REF!,'DATOS REFERENCIALES'!#REF!,('DATOS REFERENCIALES'!#REF!*D40)) -> #REF! | AI40: =+AF40 -> 80.666667 | AJ40: =IF(D40>'DATOS REFERENCIALES'!$I$12,'DATOS REFERENCIALES'!$D$12,'DATOS REFERENCIALES'!$E$12*D40) -> 14 | AK40: =+AE40+AF40+AI40+AJ40 -> 1602.2333 | AL40: =IF(D40>'DATOS REFERENCIALES'!$I$16,'DATOS REFERENCIALES'!$D$16,'DATOS REFERENCIALES'!$E$16*D40) -> 134.82033 | AM40: =AL40*$AM$8 -> 31.682778 | AN40: =AL40-AM40 -> 103.13756 | AO40: =AK40+AN40 -> 1705.3709
A41: 6508 | B41: Hora Maestro de Materias Especiales (hora cátedra) | C41: 0 | D41: 1 | G41: 56 | H41: =SUM(G41:G41) -> 56 | K41: =(H41*'DATOS REFERENCIALES'!$C$4)*D41 -> 537.3648 | N41: =LOOKUP(C41,'TABLA ANTIG.'!$A$4:$A$39,'TABLA ANTIG.'!$B$4:$B$39)*(K41) -> 0 | O41: =K41*0.1 -> 53.73648 | P41: =IF(D41>48,'DATOS REFERENCIALES'!$D$8+('DATOS REFERENCIALES'!$F$8*10),IF(D41<39,'DATOS REFERENCIALES'!$E$8*D41,((D41-'DATOS REFERENCIALES'!$I$8)*'DATOS REFERENCIALES'!$F$8)+'DATOS REFERENCIALES'!$D$8)) -> 335.89474 | Q41: =LOOKUP(C41,'TABLA ANTIG.'!$A$4:$A$39,'TABLA ANTIG.'!$B$4:$B$39)*(P41) -> 0 | R41: =(K41+P41)*0.15 -> 130.98893 | S41: =IF(C41>11,IF(H41>1134,'DATOS REFERENCIALES'!$C$18,'DATOS REFERENCIALES'!$C$18/20*D41),0) -> 0 | T41: =K41+N41+O41+P41+Q41+R41+S41 -> 1057.9849 | U41: =$T41*11% -> 116.37834 | V41: =$T41*3% -> 31.739548 | W41: =$T41*3% -> 31.739548 | X41: =$T41*2% -> 21.159699 | Y41: =$T41*4.5% -> 47.609323 | Z41: =SUM(U41:Y41) -> 248.62646 | AA41: =T41-Z41 -> 809.35848 | AB41: =IF(D41>38,'DATOS REFERENCIALES'!$D$10,'DATOS REFERENCIALES'!$E$10*D41) -> 119.47368 | AC41: =IF(C41<12,IF(H41>1134,'DATOS REFERENCIALES'!$C$17,'DATOS REFERENCIALES'!$C$17/20*D41),0) -> 129.2 | AD41: =IF(D41>41,IF((('DATOS REFERENCIALES'!$D$9)-((T41)+(AB41)+(AC41)))<0,0,((('DATOS REFERENCIALES'!$D$9)-((T41)-(Z41)+(AB41)+(AC41))))),IF((('DATOS REFERENCIALES'!$E$9*D41)-(((T41)+(AB41)+(AC41))))<0,0,('DATOS REFERENCIALES'!$E$9*D41)-((T41)-(Z41)+(AB41)+(AC41)))) -> 368.86783 | AE41: =SUM(AA41:AD41) -> 1426.9 | AF41: =IF(D41>30,'DATOS REFERENCIALES'!$D$13,('DATOS REFERENCIALES'!$E$13*D41)) -> 80.666667 | AH41: =IF(D41>'DATOS REFERENCIALES'!#REF!,'DATOS REFERENCIALES'!#REF!,('DATOS REFERENCIALES'!#REF!*D41)) -> #REF! | AI41: =+AF41 -> 80.666667 | AJ41: =IF(D41>'DATOS REFERENCIALES'!$I$12,'DATOS REFERENCIALES'!$D$12,'DATOS REFERENCIALES'!$E$12*D41) -> 14 | AK41: =+AE41+AF41+AI41+AJ41 -> 1602.2333 | AL41: =IF(D41>'DATOS REFERENCIALES'!$I$16,'DATOS REFERENCIALES'!$D$16,'DATOS REFERENCIALES'!$E$16*D41) -> 134.82033 | AM41: =AL41*$AM$8 -> 31.682778 | AN41: =AL41-AM41 -> 103.13756 | AO41: =AK41+AN41 -> 1705.3709
A42: 6536 | B42: Hora Maestro Gabinetista (M.Gdo. /20 hs) | C42: 0 | D42: 1 | G42: 56 | H42: =SUM(G42:G42) -> 56 | K42: =(H42*'DATOS REFERENCIALES'!$C$4)*D42 -> 537.3648 | N42: =LOOKUP(C42,'TABLA ANTIG.'!$A$4:$A$39,'TABLA ANTIG.'!$B$4:$B$39)*(K42) -> 0 | O42: =K42*0.1 -> 53.73648 | P42: =IF(D42>48,'DATOS REFERENCIALES'!$D$8+('DATOS REFERENCIALES'!$F$8*10),IF(D42<39,'DATOS REFERENCIALES'!$E$8*D42,((D42-'DATOS REFERENCIALES'!$I$8)*'DATOS REFERENCIALES'!$F$8)+'DATOS REFERENCIALES'!$D$8)) -> 335.89474 | Q42: =LOOKUP(C42,'TABLA ANTIG.'!$A$4:$A$39,'TABLA ANTIG.'!$B$4:$B$39)*(P42) -> 0 | R42: =(K42+P42)*0.15 -> 130.98893 | S42: =IF(C42>11,IF(H42>1134,'DATOS REFERENCIALES'!$C$18,'DATOS REFERENCIALES'!$C$18/20*D42),0) -> 0 | T42: =K42+N42+O42+P42+Q42+R42+S42 -> 1057.9849 | U42: =$T42*11% -> 116.37834 | V42: =$T42*3% -> 31.739548 | W42: =$T42*3% -> 31.739548 | X42: =$T42*2% -> 21.159699 | Y42: =$T42*4.5% -> 47.609323 | Z42: =SUM(U42:Y42) -> 248.62646 | AA42: =T42-Z42 -> 809.35848 | AB42: =IF(D42>38,'DATOS REFERENCIALES'!$D$10,'DATOS REFERENCIALES'!$E$10*D42) -> 119.47368 | AC42: =IF(C42<12,IF(H42>1134,'DATOS REFERENCIALES'!$C$17,'DATOS REFERENCIALES'!$C$17/20*D42),0) -> 129.2 | AD42: =IF(D42>41,IF((('DATOS REFERENCIALES'!$D$9)-((T42)+(AB42)+(AC42)))<0,0,((('DATOS REFERENCIALES'!$D$9)-((T42)-(Z42)+(AB42)+(AC42))))),IF((('DATOS REFERENCIALES'!$E$9*D42)-(((T42)+(AB42)+(AC42))))<0,0,('DATOS REFERENCIALES'!$E$9*D42)-((T42)-(Z42)+(AB42)+(AC42)))) -> 368.86783 | AE42: =SUM(AA42:AD42) -> 1426.9 | AF42: =IF(D42>30,'DATOS REFERENCIALES'!$D$13,('DATOS REFERENCIALES'!$E$13*D42)) -> 80.666667 | AH42: =IF(D42>'DATOS REFERENCIALES'!#REF!,'DATOS REFERENCIALES'!#REF!,('DATOS REFERENCIALES'!#REF!*D42)) -> #REF! | AI42: =+AF42 -> 80.666667 | AJ42: =IF(D42>'DATOS REFERENCIALES'!$I$12,'DATOS REFERENCIALES'!$D$12,'DATOS REFERENCIALES'!$E$12*D42) -> 14 | AK42: =+AE42+AF42+AI42+AJ42 -> 1602.2333 | AL42: =IF(D42>'DATOS REFERENCIALES'!$I$16,'DATOS REFERENCIALES'!$D$16,'DATOS REFERENCIALES'!$E$16*D42) -> 134.82033 | AM42: =AL42*$AM$8 -> 31.682778 | AN42: =AL42-AM42 -> 103.13756 | AO42: =AK42+AN42 -> 1705.3709
A43: (*) | B43: Incluye Maestro Integrador (R.M. Nº 278/92)

Sheet SECUNDARIA
K3: UTILIZAR LA GRILLA A MODO DE EJEMPLO
A6: Grilla Salarial según ACTA PARITARIA desde MARZO 2020
A7: Ejemplos de liquidación salarial para cargos sin antigüedad en la docencia. Al incluir antigüedades, disminuye o desaparece el monto del C.M.G.
A8: Nivel Medio Común | AM8: 0.235
A9: Códigos | B9: Denominación del cargo | C9: AÑOS | D9: CANTIDAD DE HORAS | E9: SUBVENCIONADO | F9: CAJA COMPL. | G9: INDICE del Sueldo básico Unificado | H9: TOTAL DE INDICES | I9: INDICES JERARQUIZACION | J9: PLUS DIFERENCIAL POR ESTABLECIMIENTO | K9: Valor Sueldo Básico Unificado RB | L9: PLUS DIFERENCIAL POR JERARQUIZACIÓN | M9: PLUS DIFERENCIAL POR ESTABLECIMIENTO | N9: Antigüedad Docente | O9: Asig. Estímulo Educ. R/ NB (Presentismo) | P9: DECRETO 243/08 RB | Q9: Antigüedad Decreto 243/08 | R9: Art. 128 Estatuto Docente R/ NB | S9: Suma Fija Remun. No Bonif | T9: Total Haberes Remunerat. | U9: Retenciones por aportes personales | Z9: Total Aportes | AA9: SUBTOTAL NETO SIN C.M.G. | AB9: MDM | AC9: Suma Fija No Remun. No Bonif | AD9: C.M.G. | AE9: Sub Total Neto a cobrar | AF9: FONID / RESOLUC. Nº 02/04 neto | AG9: Adelanto Cláusula de Seguimiento 2017 | AH9: SUMA FIJA NO REMUN.Y NO BONIF. POR UNICA VEZ | AI9: 1 CUOTA EXTRAORDINARIA DE FONID | AJ9: APORTE NAC. A MAT. DIDÁCTICO 2017 | AK9: TOTAL NETO A COBRAR | AL9: Adicional Especial Remun no Bonif. | AM9: Total Aportes | AN9: NETO DEL ADICIO-NAL | AO9: NETO A COBRAR
U10: Jubilación 11% | V10: Obra Social 3% | W10: INSSJP - Ley 19032 3% | X10: Ley 24.016 Dec. 137/05 2% | Y10: Caja Compl. 4,5%
A11: 572 | B11: Interprete de Lengua de Señas | C11: 0 | G11: 810 | H11: =SUM(G11:G11) -> 810 | K11: =H11*'DATOS REFERENCIALES'!$C$4 -> 7772.598 | N11: =LOOKUP(C11,'TABLA ANTIG.'!$A$4:$A$39,'TABLA ANTIG.'!$B$4:$B$39)*(K11) -> 0 | O11: =K11*0.1 -> 777.2598 | P11: ='DATOS REFERENCIALES'!$C$8 -> 6382 | Q11: =LOOKUP(C11,'TABLA ANTIG.'!$A$4:$A$39,'TABLA ANTIG.'!$B$4:$B$39)*(P11) -> 0 | R11: 0 | S11: =IF(C11>11,IF(H11>1134,'DATOS REFERENCIALES'!$C$18,'DATOS REFERENCIALES'!$C$18/1135*H11),0) -> 0 | T11: =K11+N11+O11+P11+Q11+R11+S11 -> 14931.858 | U11: =$T11*11% -> 1642.5044 | V11: =$T11*3% -> 447.95573 | W11: =$T11*3% -> 447.95573 | X11: =$T11*2% -> 298.63716 | Y11: =$T11*4.5% -> 671.9336 | Z11: =SUM(U11:Y11) -> 3508.9866 | AA11: =T11-Z11 -> 11422.871 | AB11: ='DATOS REFERENCIALES'!$C$10 -> 2270 | AC11: =IF(C11<12,IF(H11>1134,'DATOS REFERENCIALES'!$C$17,'DATOS REFERENCIALES'!$C$17/1135*H11),0) -> 1844.0881 | AD11: =IF((IF(H11>1134,('DATOS REFERENCIALES'!$C$9-(T11-U11-V11-W11-X11-Y11+AB11+AC11-L11-L11*0.235)),(('DATOS REFERENCIALES'!$C$9/1135)*H11)-(K11+N11+O11+P11+Q11+S11-U11-V11-W11-X11-Y11+AB11+AC11-(L11-L11*0.235))))<0,0,IF(H11>1134,(('DATOS REFERENCIALES'!$C$9)-(T11-U11-V11-W11-X11-Y11+AB11+AC11-(L11-L11*0.235))),(('DATOS REFERENCIALES'!$C$9/1135)*H11)-(K11+N11+O11+P11+Q11+S11-U11-V11-W11-X11-Y11+AB11+AC11-(L11-L11*0.235)))) -> 4829.3667 | AE11: =SUM(AA11:AD11) -> 20366.326 | AF11: ='DATOS REFERENCIALES'!$C$13 -> 1210 | AH11: =IF($H11>1119,'DATOS REFERENCIALES'!#REF!,'DATOS REFERENCIALES'!#REF!/1120*$H11) -> #REF! | AI11: =+AF11 -> 1210 | AJ11: ='DATOS REFERENCIALES'!$C$12 -> 210 | AK11: =+AE11+AF11+AI11+AJ11 -> 22996.326 | AL11: ='DATOS REFERENCIALES'!C16 -> 2022.305 | AM11: =AL11*$AM$8 -> 475.24167 | AN11: =AL11-AM11 -> 1547.0633 | AO11: =AK11+AN11 -> 24543.389
A12: 603 | B12: Rector | C12: 0 | G12: 3128 | H12: =SUM(G12:G12) -> 3128 | K12: =H12*'DATOS REFERENCIALES'!$C$4 -> 30015.662 | N12: =LOOKUP(C12,'TABLA ANTIG.'!$A$4:$A$39,'TABLA ANTIG.'!$B$4:$B$39)*(K12) -> 0 | O12: =K12*0.1 -> 3001.5662 | P12: ='DATOS REFERENCIALES'!$C$8 -> 6382 | Q12: =LOOKUP(C12,'TABLA ANTIG.'!$A$4:$A$39,'TABLA ANTIG.'!$B$4:$B$39)*(P12) -> 0 | R12: 0 | S12: =IF(C12>11,IF(H12>1134,'DATOS REFERENCIALES'!$C$18,'DATOS REFERENCIALES'!$C$18/1135*H12),0) -> 0 | T12: =K12+N12+O12+P12+Q12+R12+S12 -> 39399.229 | U12: =$T12*11% -> 4333.9152 | V12: =$T12*3% -> 1181.9769 | W12: =$T12*3% -> 1181.9769 | X12: =$T12*2% -> 787.98457 | Y12: =$T12*4.5% -> 1772.9653 | Z12: =SUM(U12:Y12) -> 9258.8187 | AA12: =T12-Z12 -> 30140.41 | AB12: ='DATOS REFERENCIALES'!$C$10 -> 2270 | AC12: =IF(C12<12,IF(H12>1134,'DATOS REFERENCIALES'!$C$17,'DATOS REFERENCIALES'!$C$17/1135*H12),0) -> 2584 | AD12: =IF((IF(H12>1134,('DATOS REFERENCIALES'!$C$9-(T12-U12-V12-W12-X12-Y12+AB12+AC12-L12-L12*0.235)),(('DATOS REFERENCIALES'!$C$9/1135)*H12)-(K12+N12+O12+P12+Q12+S12-U12-V12-W12-X12-Y12+AB12+AC12-(L12-L12*0.235))))<0,0,IF(H12>1134,(('DATOS REFERENCIALES'!$C$9)-(T12-U12-V12-W12-X12-Y12+AB12+AC12-(L12-L12*0.235))),(('DATOS REFERENCIALES'!$C$9/1135)*H12)-(K12+N12+O12+P12+Q12+S12-U12-V12-W12-X12-Y12+AB12+AC12-(L12-L12*0.235)))) -> 0 | AE12: =SUM(AA12:AD12) -> 34994.41 | AF12: ='DATOS REFERENCIALES'!$C$13 -> 1210 | AH12: =IF($H12>1119,'DATOS REFERENCIALES'!#REF!,'DATOS REFERENCIALES'!#REF!/1120*$H12) -> #REF! | AI12: =+AF12 -> 1210 | AJ12: ='DATOS REFERENCIALES'!$C$12 -> 210 | AK12: =+AE12+AE13+AF12+AI12+AJ12 -> 42297.173 | AL12: ='DATOS REFERENCIALES'!C16 -> 2022.305 | AM12: =AL12*$AM$8 -> 475.24167 | AN12: =AL12-AM12 -> 1547.0633 | AO12: =AK12+AN12 -> 43844.237
A13: 603 | B13: Rector | C13: =IF(C12>0,C12,0) -> 0 | I13: =234.6/'DATOS REFERENCIALES'!$I$4*'DATOS REFERENCIALES'!$J$4 -> 391 | J13: 1 turno y hasta 14 secciones. | L13: =I13*'DATOS REFERENCIALES'!$C$4 -> 3751.9578 | M13: =IF(J13='DATOS REFERENCIALES'!$C$31,K12*'DATOS REFERENCIALES'!$D$31,IF(J13='DATOS REFERENCIALES'!$C$32,('DATOS REFERENCIALES'!$D$32*K12),IF(J13='DATOS REFERENCIALES'!$C$33,('DATOS REFERENCIALES'!$D$33*K12),IF(J13='DATOS REFERENCIALES'!$C$34,('DATOS REFERENCIALES'!$D$34*K12),IF(J13='DATOS REFERENCIALES'!$C$35,('DATOS REFERENCIALES'!$D$35*K12),IF(J13='DATOS REFERENCIALES'!$C$36,('DATOS REFERENCIALES'!$D$36*K12),IF(J13='DATOS REFERENCIALES'!$C$37,('DATOS REFERENCIALES'!$D$37*K12),IF(J13='DATOS REFERENCIALES'!$C$38,('DATOS REFERENCIALES'!$D$38*K12),0)))))))) -> 1800.9397 | N13: =LOOKUP(C13,'TABLA ANTIG.'!$A$4:$A$39,'TABLA ANTIG.'!$B$4:$B$39)*(L13+M13) -> 0 | O13: =(L13+M13)*0.1 -> 555.28975 | T13: =L13+M13+N13+O13+P13+Q13+R13 -> 6108.1873 | U13: =$T13*11% -> 671.9006 | V13: =$T13*3% -> 183.24562 | W13: =$T13*3% -> 183.24562 | X13: =$T13*2% -> 122.16375 | Y13: =$T13*4.5% -> 274.86843 | Z13: =SUM(U13:Y13) -> 1435.424 | AA13: =T13-Z13 -> 4672.7633 | AE13: =SUM(AA13:AD13) -> 4672.7633
A14: 1515 | B14: Director de Estudios | C14: 0 | G14: 2669 | H14: =SUM(G14:G14) -> 2669 | K14: =H14*'DATOS REFERENCIALES'!$C$4 -> 25611.19 | N14: =LOOKUP(C14,'TABLA ANTIG.'!$A$4:$A$39,'TABLA ANTIG.'!$B$4:$B$39)*(K14) -> 0 | O14: =K14*0.1 -> 2561.119 | P14: ='DATOS REFERENCIALES'!$C$8 -> 6382 | Q14: =LOOKUP(C14,'TABLA ANTIG.'!$A$4:$A$39,'TABLA ANTIG.'!$B$4:$B$39)*(P14) -> 0 | R14: 0 | S14: =IF(C14>11,IF(H14>1134,'DATOS REFERENCIALES'!$C$18,'DATOS REFERENCIALES'!$C$18/1135*H14),0) -> 0 | T14: =K14+N14+O14+P14+Q14+R14+S14 -> 34554.309 | U14: =$T14*11% -> 3800.974 | V14: =$T14*3% -> 1036.6293 | W14: =$T14*3% -> 1036.6293 | X14: =$T14*2% -> 691.08618 | Y14: =$T14*4.5% -> 1554.9439 | Z14: =SUM(U14:Y14) -> 8120.2627 | AA14: =T14-Z14 -> 26434.047 | AB14: ='DATOS REFERENCIALES'!$C$10 -> 2270 | AC14: =IF(C14<12,IF(H14>1134,'DATOS REFERENCIALES'!$C$17,'DATOS REFERENCIALES'!$C$17/1135*H14),0) -> 2584 | AD14: =IF((IF(H14>1134,('DATOS REFERENCIALES'!$C$9-(T14-U14-V14-W14-X14-Y14+AB14+AC14-L14-L14*0.235)),(('DATOS REFERENCIALES'!$C$9/1135)*H14)-(K14+N14+O14+P14+Q14+S14-U14-V14-W14-X14-Y14+AB14+AC14-(L14-L14*0.235))))<0,0,IF(H14>1134,(('DATOS REFERENCIALES'!$C$9)-(T14-U14-V14-W14-X14-Y14+AB14+AC14-(L14-L14*0.235))),(('DATOS REFERENCIALES'!$C$9/1135)*H14)-(K14+N14+O14+P14+Q14+S14-U14-V14-W14-X14-Y14+AB14+AC14-(L14-L14*0.235)))) -> 0 | AE14: =SUM(AA14:AD14) -> 31288.047 | AF14: ='DATOS REFERENCIALES'!$C$13 -> 1210 | AH14: =IF($H14>1119,'DATOS REFERENCIALES'!#REF!,'DATOS REFERENCIALES'!#REF!/1120*$H14) -> #REF! | AI14: =+AF14 -> 1210 | AJ14: ='DATOS REFERENCIALES'!$C$12 -> 210 | AK14: =+AE14+AE15+AF14+AI14+AJ14 -> 36612.091 | AL14: ='DATOS REFERENCIALES'!C16 -> 2022.305 | AM14: =AL14*$AM$8 -> 475.24167 | AN14: =AL14-AM14 -> 1547.0633 | AO14: =AK14+AN14 -> 38159.154
A15: 1515 | B15: Director de Estudios | C15: =IF(C14>0,C14,0) -> 0 | I15: =200.18/'DATOS REFERENCIALES'!$I$4*'DATOS REFERENCIALES'!$J$4 -> 333.63333 | L15: =I15*'DATOS REFERENCIALES'!$C$4 -> 3201.4787 | N15: =LOOKUP(C15,'TABLA ANTIG.'!$A$4:$A$39,'TABLA ANTIG.'!$B$4:$B$39)*(L15+M15) -> 0 | O15: =(L15+M15)*0.1 -> 320.14787 | T15: =L15+M15+N15+O15+P15+Q15+R15 -> 3521.6266 | U15: =$T15*11% -> 387.37893 | V15: =$T15*3% -> 105.6488 | W15: =$T15*3% -> 105.6488 | X15: =$T15*2% -> 70.432532 | Y15: =$T15*4.5% -> 158.4732 | Z15: =SUM(U15:Y15) -> 827.58225 | AA15: =T15-Z15 -> 2694.0444 | AE15: =SUM(AA15:AD15) -> 2694.0444
A16: 1532 | B16: Secretario | C16: 0 | G16: 1924 | H16: 2070 | K16: =H16*'DATOS REFERENCIALES'!$C$4 -> 19863.306 | N16: =LOOKUP(C16,'TABLA ANTIG.'!$A$4:$A$39,'TABLA ANTIG.'!$B$4:$B$39)*(K16) -> 0 | O16: =K16*0.1 -> 1986.3306 | P16: ='DATOS REFERENCIALES'!$C$8 -> 6382 | Q16: =LOOKUP(C16,'TABLA ANTIG.'!$A$4:$A$39,'TABLA ANTIG.'!$B$4:$B$39)*(P16) -> 0 | R16: 0 | S16: =IF(C16>11,IF(H16>1134,'DATOS REFERENCIALES'!$C$18,'DATOS REFERENCIALES'!$C$18/1135*H16),0) -> 0 | T16: =K16+N16+O16+P16+Q16+R16+S16 -> 28231.637 | U16: =$T16*11% -> 3105.48 | V16: =$T16*3% -> 846.9491 | W16: =$T16*3% -> 846.9491 | X16: =$T16*2% -> 564.63273 | Y16: =$T16*4.5% -> 1270.4236 | Z16: =SUM(U16:Y16) -> 6634.4346 | AA16: =T16-Z16 -> 21597.202 | AB16: ='DATOS REFERENCIALES'!$C$10 -> 2270 | AC16: =IF(C16<12,IF(H16>1134,'DATOS REFERENCIALES'!$C$17,'DATOS REFERENCIALES'!$C$17/1135*H16),0) -> 2584 | AD16: =IF((IF(H16>1134,('DATOS REFERENCIALES'!$C$9-(T16-U16-V16-W16-X16-Y16+AB16+AC16-L16-L16*0.235)),(('DATOS REFERENCIALES'!$C$9/1135)*H16)-(K16+N16+O16+P16+Q16+S16-U16-V16-W16-X16-Y16+AB16+AC16-(L16-L16*0.235))))<0,0,IF(H16>1134,(('DATOS REFERENCIALES'!$C$9)-(T16-U16-V16-W16-X16-Y16+AB16+AC16-(L16-L16*0.235))),(('DATOS REFERENCIALES'!$C$9/1135)*H16)-(K16+N16+O16+P16+Q16+S16-U16-V16-W16-X16-Y16+AB16+AC16-(L16-L16*0.235)))) -> 2086.798 | AE16: =SUM(AA16:AD16) -> 28538 | AF16: ='DATOS REFERENCIALES'!$C$13 -> 1210 | AH16: =IF($H16>1119,'DATOS REFERENCIALES'!#REF!,'DATOS REFERENCIALES'!#REF!/1120*$H16) -> #REF! | AI16: =+AF16 -> 1210 | AJ16: ='DATOS REFERENCIALES'!$C$12 -> 210 | AK16: =+AE16+AF16+AI16+AJ16 -> 31168 | AL16: ='DATOS REFERENCIALES'!C16 -> 2022.305 | AM16: =AL16*$AM$8 -> 475.24167 | AN16: =AL16-AM16 -> 1547.0633 | AO16: =AK16+AN16 -> 32715.063
A17: 1534 | B17: Prosecretario | C17: 0 | G17: 1451 | H17: =SUM(G17:G17) -> 1451 | K17: =H17*'DATOS REFERENCIALES'!$C$4 -> 13923.506 | N17: =LOOKUP(C17,'TABLA ANTIG.'!$A$4:$A$39,'TABLA ANTIG.'!$B$4:$B$39)*(K17) -> 0 | O17: =K17*0.1 -> 1392.3506 | P17: ='DATOS REFERENCIALES'!$C$8 -> 6382 | Q17: =LOOKUP(C17,'TABLA ANTIG.'!$A$4:$A$39,'TABLA ANTIG.'!$B$4:$B$39)*(P17) -> 0 | R17: 0 | S17: =IF(C17>11,IF(H17>1134,'DATOS REFERENCIALES'!$C$18,'DATOS REFERENCIALES'!$C$18/1135*H17),0) -> 0 | T17: =K17+N17+O17+P17+Q17+R17+S17 -> 21697.856 | U17: =$T17*11% -> 2386.7642 | V17: =$T17*3% -> 650.93569 | W17: =$T17*3% -> 650.93569 | X17: =$T17*2% -> 433.95713 | Y17: =$T17*4.5% -> 976.40354 | Z17: =SUM(U17:Y17) -> 5098.9962 | AA17: =T17-Z17 -> 16598.86 | AB17: ='DATOS REFERENCIALES'!$C$10 -> 2270 | AC17: =IF(C17<12,IF(H17>1134,'DATOS REFERENCIALES'!$C$17,'DATOS REFERENCIALES'!$C$17/1135*H17),0) -> 2584 | AD17: =IF((IF(H17>1134,('DATOS REFERENCIALES'!$C$9-(T17-U17-V17-W17-X17-Y17+AB17+AC17-L17-L17*0.235)),(('DATOS REFERENCIALES'!$C$9/1135)*H17)-(K17+N17+O17+P17+Q17+S17-U17-V17-W17-X17-Y17+AB17+AC17-(L17-L17*0.235))))<0,0,IF(H17>1134,(('DATOS REFERENCIALES'!$C$9)-(T17-U17-V17-W17-X17-Y17+AB17+AC17-(L17-L17*0.235))),(('DATOS REFERENCIALES'!$C$9/1135)*H17)-(K17+N17+O17+P17+Q17+S17-U17-V17-W17-X17-Y17+AB17+AC17-(L17-L17*0.235)))) -> 7085.1399 | AE17: =SUM(AA17:AD17) -> 28538 | AF17: ='DATOS REFERENCIALES'!$C$13 -> 1210 | AH17: =IF($H17>1119,'DATOS REFERENCIALES'!#REF!,'DATOS REFERENCIALES'!#REF!/1120*$H17) -> #REF! | AI17: =+AF17 -> 1210 | AJ17: ='DATOS REFERENCIALES'!$C$12 -> 210 | AK17: =+AE17+AF17+AI17+AJ17 -> 31168 | AL17: ='DATOS REFERENCIALES'!$C$16 -> 2022.305 | AM17: =AL17*$AM$8 -> 475.24167 | AN17: =AL17-AM17 -> 1547.0633 | AO17: =AK17+AN17 -> 32715.063
A18: 1556 | B18: Bibliotecario | C18: 0 | G18: 1120 | H18: 1135 | K18: =H18*'DATOS REFERENCIALES'!$C$4 -> 10891.233 | N18: =LOOKUP(C18,'TABLA ANTIG.'!$A$4:$A$39,'TABLA ANTIG.'!$B$4:$B$39)*(K18) -> 0 | O18: =K18*0.1 -> 1089.1233 | P18: ='DATOS REFERENCIALES'!$C$8 -> 6382 | Q18: =LOOKUP(C18,'TABLA ANTIG.'!$A$4:$A$39,'TABLA ANTIG.'!$B$4:$B$39)*(P18) -> 0 | R18: 0 | S18: =IF(C18>11,IF(H18>1134,'DATOS REFERENCIALES'!$C$18,'DATOS REFERENCIALES'!$C$18/1135*H18),0) -> 0 | T18: =K18+N18+O18+P18+Q18+R18+S18 -> 18362.356 | U18: =$T18*11% -> 2019.8592 | V18: =$T18*3% -> 550.87069 | W18: =$T18*3% -> 550.87069 | X18: =$T18*2% -> 367.24713 | Y18: =$T18*4.5% -> 826.30603 | Z18: =SUM(U18:Y18) -> 4315.1537 | AA18: =T18-Z18 -> 14047.203 | AB18: ='DATOS REFERENCIALES'!$C$10 -> 2270 | AC18: =IF(C18<12,IF(H18>1134,'DATOS REFERENCIALES'!$C$17,'DATOS REFERENCIALES'!$C$17/1135*H18),0) -> 2584 | AD18: =IF((IF(H18>1134,('DATOS REFERENCIALES'!$C$9-(T18-U18-V18-W18-X18-Y18+AB18+AC18-L18-L18*0.235)),(('DATOS REFERENCIALES'!$C$9/1135)*H18)-(K18+N18+O18+P18+Q18+S18-U18-V18-W18-X18-Y18+AB18+AC18-(L18-L18*0.235))))<0,0,IF(H18>1134,(('DATOS REFERENCIALES'!$C$9)-(T18-U18-V18-W18-X18-Y18+AB18+AC18-(L18-L18*0.235))),(('DATOS REFERENCIALES'!$C$9/1135)*H18)-(K18+N18+O18+P18+Q18+S18-U18-V18-W18-X18-Y18+AB18+AC18-(L18-L18*0.235)))) -> 9636.7974 | AE18: =SUM(AA18:AD18) -> 28538 | AF18: ='DATOS REFERENCIALES'!$C$13 -> 1210 | AH18: =IF($H18>1119,'DATOS REFERENCIALES'!#REF!,'DATOS REFERENCIALES'!#REF!/1120*$H18) -> #REF! | AI18: =+AF18 -> 1210 | AJ18: ='DATOS REFERENCIALES'!$C$12 -> 210 | AK18: =+AE18+AF18+AI18+AJ18 -> 31168 | AL18: ='DATOS REFERENCIALES'!$C$16 -> 2022.305 | AM18: =AL18*$AM$8 -> 475.24167 | AN18: =AL18-AM18 -> 1547.0633 | AO18: =AK18+AN18 -> 32715.063
A19: 1557 | B19: Ayudante de Depto. de Orientación | C19: 0 | G19: 823 | H19: =SUM(G19:G19) -> 823 | K19: =H19*'DATOS REFERENCIALES'!$C$4 -> 7897.3434 | N19: =LOOKUP(C19,'TABLA ANTIG.'!$A$4:$A$39,'TABLA ANTIG.'!$B$4:$B$39)*(K19) -> 0 | O19: =K19*0.1 -> 789.73434 | P19: ='DATOS REFERENCIALES'!$C$8 -> 6382 | Q19: =LOOKUP(C19,'TABLA ANTIG.'!$A$4:$A$39,'TABLA ANTIG.'!$B$4:$B$39)*(P19) -> 0 | R19: 0 | S19: =IF(C19>11,IF(H19>1134,'DATOS REFERENCIALES'!$C$18,'DATOS REFERENCIALES'!$C$18/1135*H19),0) -> 0 | T19: =K19+N19+O19+P19+Q19+R19+S19 -> 15069.078 | U19: =$T19*11% -> 1657.5986 | V19: =$T19*3% -> 452.07233 | W19: =$T19*3% -> 452.07233 | X19: =$T19*2% -> 301.38155 | Y19: =$T19*4.5% -> 678.1085 | Z19: =SUM(U19:Y19) -> 3541.2333 | AA19: =T19-Z19 -> 11527.844 | AB19: ='DATOS REFERENCIALES'!$C$10 -> 2270 | AC19: =IF(C19<12,IF(H19>1134,'DATOS REFERENCIALES'!$C$17,'DATOS REFERENCIALES'!$C$17/1135*H19),0) -> 1873.6846 | AD19: =IF((IF(H19>1134,('DATOS REFERENCIALES'!$C$9-(T19-U19-V19-W19-X19-Y19+AB19+AC19-L19-L19*0.235)),(('DATOS REFERENCIALES'!$C$9/1135)*H19)-(K19+N19+O19+P19+Q19+S19-U19-V19-W19-X19-Y19+AB19+AC19-(L19-L19*0.235))))<0,0,IF(H19>1134,(('DATOS REFERENCIALES'!$C$9)-(T19-U19-V19-W19-X19-Y19+AB19+AC19-(L19-L19*0.235))),(('DATOS REFERENCIALES'!$C$9/1135)*H19)-(K19+N19+O19+P19+Q19+S19-U19-V19-W19-X19-Y19+AB19+AC19-(L19-L19*0.235)))) -> 5021.6639 | AE19: =SUM(AA19:AD19) -> 20693.193 | AF19: ='DATOS REFERENCIALES'!$C$13 -> 1210 | AH19: =IF($H19>1119,'DATOS REFERENCIALES'!#REF!,'DATOS REFERENCIALES'!#REF!/1120*$H19) -> #REF! | AI19: =+AF19 -> 1210 | AJ19: ='DATOS REFERENCIALES'!$C$12 -> 210 | AK19: =+AE19+AF19+AI19+AJ19 -> 23323.193 | AL19: ='DATOS REFERENCIALES'!$C$16 -> 2022.305 | AM19: =AL19*$AM$8 -> 475.24167 | AN19: =AL19-AM19 -> 1547.0633 | AO19: =AK19+AN19 -> 24870.256
A20: 1559 | B20: Jefe de Preceptores | C20: 0 | G20: 1120 | H20: 1135 | K20: =H20*'DATOS REFERENCIALES'!$C$4 -> 10891.233 | N20: =LOOKUP(C20,'TABLA ANTIG.'!$A$4:$A$39,'TABLA ANTIG.'!$B$4:$B$39)*(K20) -> 0 | O20: =K20*0.1 -> 1089.1233 | P20: ='DATOS REFERENCIALES'!$C$8 -> 6382 | Q20: =LOOKUP(C20,'TABLA ANTIG.'!$A$4:$A$39,'TABLA ANTIG.'!$B$4:$B$39)*(P20) -> 0 | R20: 0 | S20: =IF(C20>11,IF(H20>1134,'DATOS REFERENCIALES'!$C$18,'DATOS REFERENCIALES'!$C$18/1135*H20),0) -> 0 | T20: =K20+N20+O20+P20+Q20+R20+S20 -> 18362.356 | U20: =$T20*11% -> 2019.8592 | V20: =$T20*3% -> 550.87069 | W20: =$T20*3% -> 550.87069 | X20: =$T20*2% -> 367.24713 | Y20: =$T20*4.5% -> 826.30603 | Z20: =SUM(U20:Y20) -> 4315.1537 | AA20: =T20-Z20 -> 14047.203 | AB20: ='DATOS REFERENCIALES'!$C$10 -> 2270 | AC20: =IF(C20<12,IF(H20>1134,'DATOS REFERENCIALES'!$C$17,'DATOS REFERENCIALES'!$C$17/1135*H20),0) -> 2584 | AD20: =IF((IF(H20>1134,('DATOS REFERENCIALES'!$C$9-(T20-U20-V20-W20-X20-Y20+AB20+AC20-L20-L20*0.235)),(('DATOS REFERENCIALES'!$C$9/1135)*H20)-(K20+N20+O20+P20+Q20+S20-U20-V20-W20-X20-Y20+AB20+AC20-(L20-L20*0.235))))<0,0,IF(H20>1134,(('DATOS REFERENCIALES'!$C$9)-(T20-U20-V20-W20-X20-Y20+AB20+AC20-(L20-L20*0.235))),(('DATOS REFERENCIALES'!$C$9/1135)*H20)-(K20+N20+O20+P20+Q20+S20-U20-V20-W20-X20-Y20+AB20+AC20-(L20-L20*0.235)))) -> 9636.7974 | AE20: =SUM(AA20:AD20) -> 28538 | AF20: ='DATOS REFERENCIALES'!$C$13 -> 1210 | AH20: =IF($H20>1119,'DATOS REFERENCIALES'!#REF!,'DATOS REFERENCIALES'!#REF!/1120*$H20) -> #REF! | AI20: =+AF20 -> 1210 | AJ20: ='DATOS REFERENCIALES'!$C$12 -> 210 | AK20: =+AE20+AF20+AI20+AJ20 -> 31168 | AL20: ='DATOS REFERENCIALES'!$C$16 -> 2022.305 | AM20: =AL20*$AM$8 -> 475.24167 | AN20: =AL20-AM20 -> 1547.0633 | AO20: =AK20+AN20 -> 32715.063
A21: 1566 | B21: Sub-Jefe de Preceptores | C21: 0 | G21: 1008 | H21: =SUM(G21:G21) -> 1008 | K21: =H21*'DATOS REFERENCIALES'!$C$4 -> 9672.5664 | N21: =LOOKUP(C21,'TABLA ANTIG.'!$A$4:$A$39,'TABLA ANTIG.'!$B$4:$B$39)*(K21) -> 0 | O21: =K21*0.1 -> 967.25664 | P21: ='DATOS REFERENCIALES'!$C$8 -> 6382 | Q21: =LOOKUP(C21,'TABLA ANTIG.'!$A$4:$A$39,'TABLA ANTIG.'!$B$4:$B$39)*(P21) -> 0 | R21: 0 | S21: =IF(C21>11,IF(H21>1134,'DATOS REFERENCIALES'!$C$18,'DATOS REFERENCIALES'!$C$18/1135*H21),0) -> 0 | T21: =K21+N21+O21+P21+Q21+R21+S21 -> 17021.823 | U21: =$T21*11% -> 1872.4005 | V21: =$T21*3% -> 510.65469 | W21: =$T21*3% -> 510.65469 | X21: =$T21*2% -> 340.43646 | Y21: =$T21*4.5% -> 765.98204 | Z21: =SUM(U21:Y21) -> 4000.1284 | AA21: =T21-Z21 -> 13021.695 | AB21: ='DATOS REFERENCIALES'!$C$10 -> 2270 | AC21: =IF(C21<12,IF(H21>1134,'DATOS REFERENCIALES'!$C$17,'DATOS REFERENCIALES'!$C$17/1135*H21),0) -> 2294.8652 | AD21: =IF((IF(H21>1134,('DATOS REFERENCIALES'!$C$9-(T21-U21-V21-W21-X21-Y21+AB21+AC21-L21-L21*0.235)),(('DATOS REFERENCIALES'!$C$9/1135)*H21)-(K21+N21+O21+P21+Q21+S21-U21-V21-W21-X21-Y21+AB21+AC21-(L21-L21*0.235))))<0,0,IF(H21>1134,(('DATOS REFERENCIALES'!$C$9)-(T21-U21-V21-W21-X21-Y21+AB21+AC21-(L21-L21*0.235))),(('DATOS REFERENCIALES'!$C$9/1135)*H21)-(K21+N21+O21+P21+Q21+S21-U21-V21-W21-X21-Y21+AB21+AC21-(L21-L21*0.235)))) -> 7758.2014 | AE21: =SUM(AA21:AD21) -> 25344.761 | AF21: ='DATOS REFERENCIALES'!$C$13 -> 1210 | AH21: =IF($H21>1119,'DATOS REFERENCIALES'!#REF!,'DATOS REFERENCIALES'!#REF!/1120*$H21) -> #REF! | AI21: =+AF21 -> 1210 | AJ21: ='DATOS REFERENCIALES'!$C$12 -> 210 | AK21: =+AE21+AF21+AI21+AJ21 -> 27974.761 | AL21: ='DATOS REFERENCIALES'!$C$16 -> 2022.305 | AM21: =AL21*$AM$8 -> 475.24167 | AN21: =AL21-AM21 -> 1547.0633 | AO21: =AK21+AN21 -> 29521.825
A22: 1567 | B22: Ayudante de Clases Prácticas | C22: 0 | G22: 825 | H22: =SUM(G22:G22) -> 825 | K22: =H22*'DATOS REFERENCIALES'!$C$4 -> 7916.535 | N22: =LOOKUP(C22,'TABLA ANTIG.'!$A$4:$A$39,'TABLA ANTIG.'!$B$4:$B$39)*(K22) -> 0 | O22: =K22*0.1 -> 791.6535 | P22: ='DATOS REFERENCIALES'!$C$8 -> 6382 | Q22: =LOOKUP(C22,'TABLA ANTIG.'!$A$4:$A$39,'TABLA ANTIG.'!$B$4:$B$39)*(P22) -> 0 | R22: 0 | S22: =IF(C22>11,IF(H22>1134,'DATOS REFERENCIALES'!$C$18,'DATOS REFERENCIALES'!$C$18/1135*H22),0) -> 0 | T22: =K22+N22+O22+P22+Q22+R22+S22 -> 15090.189 | U22: =$T22*11% -> 1659.9207 | V22: =$T22*3% -> 452.70565 | W22: =$T22*3% -> 452.70565 | X22: =$T22*2% -> 301.80377 | Y22: =$T22*4.5% -> 679.05848 | Z22: =SUM(U22:Y22) -> 3546.1943 | AA22: =T22-Z22 -> 11543.994 | AB22: ='DATOS REFERENCIALES'!$C$10 -> 2270 | AC22: =IF(C22<12,IF(H22>1134,'DATOS REFERENCIALES'!$C$17,'DATOS REFERENCIALES'!$C$17/1135*H22),0) -> 1878.2379 | AD22: =IF((IF(H22>1134,('DATOS REFERENCIALES'!$C$9-(T22-U22-V22-W22-X22-Y22+AB22+AC22-L22-L22*0.235)),(('DATOS REFERENCIALES'!$C$9/1135)*H22)-(K22+N22+O22+P22+Q22+S22-U22-V22-W22-X22-Y22+AB22+AC22-(L22-L22*0.235))))<0,0,IF(H22>1134,(('DATOS REFERENCIALES'!$C$9)-(T22-U22-V22-W22-X22-Y22+AB22+AC22-(L22-L22*0.235))),(('DATOS REFERENCIALES'!$C$9/1135)*H22)-(K22+N22+O22+P22+Q22+S22-U22-V22-W22-X22-Y22+AB22+AC22-(L22-L22*0.235)))) -> 5051.2481 | AE22: =SUM(AA22:AD22) -> 20743.48 | AF22: ='DATOS REFERENCIALES'!$C$13 -> 1210 | AH22: =IF($H22>1119,'DATOS REFERENCIALES'!#REF!,'DATOS REFERENCIALES'!#REF!/1120*$H22) -> #REF! | AI22: =+AF22 -> 1210 | AJ22: ='DATOS REFERENCIALES'!$C$12 -> 210 | AK22: =+AE22+AF22+AI22+AJ22 -> 23373.48 | AL22: ='DATOS REFERENCIALES'!$C$16 -> 2022.305 | AM22: =AL22*$AM$8 -> 475.24167 | AN22: =AL22-AM22 -> 1547.0633 | AO22: =AK22+AN22 -> 24920.544
A23: 1568 | B23: Psicopedagogo | C23: 0 | G23: 1008 | H23: =SUM(G23:G23) -> 1008 | K23: =H23*'DATOS REFERENCIALES'!$C$4 -> 9672.5664 | N23: =LOOKUP(C23,'TABLA ANTIG.'!$A$4:$A$39,'TABLA ANTIG.'!$B$4:$B$39)*(K23) -> 0 | O23: =K23*0.1 -> 967.25664 | P23: ='DATOS REFERENCIALES'!$C$8 -> 6382 | Q23: =LOOKUP(C23,'TABLA ANTIG.'!$A$4:$A$39,'TABLA ANTIG.'!$B$4:$B$39)*(P23) -> 0 | R23: 0 | S23: =IF(C23>11,IF(H23>1134,'DATOS REFERENCIALES'!$C$18,'DATOS REFERENCIALES'!$C$18/1135*H23),0) -> 0 | T23: =K23+N23+O23+P23+Q23+R23+S23 -> 17021.823 | U23: =$T23*11% -> 1872.4005 | V23: =$T23*3% -> 510.65469 | W23: =$T23*3% -> 510.65469 | X23: =$T23*2% -> 340.43646 | Y23: =$T23*4.5% -> 765.98204 | Z23: =SUM(U23:Y23) -> 4000.1284 | AA23: =T23-Z23 -> 13021.695 | AB23: ='DATOS REFERENCIALES'!$C$10 -> 2270 | AC23: =IF(C23<12,IF(H23>1134,'DATOS REFERENCIALES'!$C$17,'DATOS REFERENCIALES'!$C$17/1135*H23),0) -> 2294.8652 | AD23: =IF((IF(H23>1134,('DATOS REFERENCIALES'!$C$9-(T23-U23-V23-W23-X23-Y23+AB23+AC23-L23-L23*0.235)),(('DATOS REFERENCIALES'!$C$9/1135)*H23)-(K23+N23+O23+P23+Q23+S23-U23-V23-W23-X23-Y23+AB23+AC23-(L23-L23*0.235))))<0,0,IF(H23>1134,(('DATOS REFERENCIALES'!$C$9)-(T23-U23-V23-W23-X23-Y23+AB23+AC23-(L23-L23*0.235))),(('DATOS REFERENCIALES'!$C$9/1135)*H23)-(K23+N23+O23+P23+Q23+S23-U23-V23-W23-X23-Y23+AB23+AC23-(L23-L23*0.235)))) -> 7758.2014 | AE23: =SUM(AA23:AD23) -> 25344.761 | AF23: ='DATOS REFERENCIALES'!$C$13 -> 1210 | AH23: =IF($H23>1119,'DATOS REFERENCIALES'!#REF!,'DATOS REFERENCIALES'!#REF!/1120*$H23) -> #REF! | AI23: =+AF23 -> 1210 | AJ23: ='DATOS REFERENCIALES'!$C$12 -> 210 | AK23: =+AE23+AF23+AI23+AJ23 -> 27974.761 | AL23: ='DATOS REFERENCIALES'!$C$16 -> 2022.305 | AM23: =AL23*$AM$8 -> 475.24167 | AN23: =AL23-AM23 -> 1547.0633 | AO23: =AK23+AN23 -> 29521.825
A24: 1582 | B24: Preceptor | C24: 0 | G24: 952 | H24: =SUM(G24:G24) -> 952 | K24: =H24*'DATOS REFERENCIALES'!$C$4 -> 9135.2016 | N24: =LOOKUP(C24,'TABLA ANTIG.'!$A$4:$A$39,'TABLA ANTIG.'!$B$4:$B$39)*(K24) -> 0 | O24: =K24*0.1 -> 913.52016 | P24: ='DATOS REFERENCIALES'!$C$8 -> 6382 | Q24: =LOOKUP(C24,'TABLA ANTIG.'!$A$4:$A$39,'TABLA ANTIG.'!$B$4:$B$39)*(P24) -> 0 | R24: 0 | S24: =IF(C24>11,IF(H24>1134,'DATOS REFERENCIALES'!$C$18,'DATOS REFERENCIALES'!$C$18/1135*H24),0) -> 0 | T24: =K24+N24+O24+P24+Q24+R24+S24 -> 16430.722 | U24: =$T24*11% -> 1807.3794 | V24: =$T24*3% -> 492.92165 | W24: =$T24*3% -> 492.92165 | X24: =$T24*2% -> 328.61444 | Y24: =$T24*4.5% -> 739.38248 | Z24: =SUM(U24:Y24) -> 3861.2196 | AA24: =T24-Z24 -> 12569.502 | AB24: ='DATOS REFERENCIALES'!$C$10 -> 2270 | AC24: =IF(C24<12,IF(H24>1134,'DATOS REFERENCIALES'!$C$17,'DATOS REFERENCIALES'!$C$17/1135*H24),0) -> 2167.3727 | AD24: =IF((IF(H24>1134,('DATOS REFERENCIALES'!$C$9-(T24-U24-V24-W24-X24-Y24+AB24+AC24-L24-L24*0.235)),(('DATOS REFERENCIALES'!$C$9/1135)*H24)-(K24+N24+O24+P24+Q24+S24-U24-V24-W24-X24-Y24+AB24+AC24-(L24-L24*0.235))))<0,0,IF(H24>1134,(('DATOS REFERENCIALES'!$C$9)-(T24-U24-V24-W24-X24-Y24+AB24+AC24-(L24-L24*0.235))),(('DATOS REFERENCIALES'!$C$9/1135)*H24)-(K24+N24+O24+P24+Q24+S24-U24-V24-W24-X24-Y24+AB24+AC24-(L24-L24*0.235)))) -> 6929.8441 | AE24: =SUM(AA24:AD24) -> 23936.719 | AF24: ='DATOS REFERENCIALES'!$C$13 -> 1210 | AH24: =IF($H24>1119,'DATOS REFERENCIALES'!#REF!,'DATOS REFERENCIALES'!#REF!/1120*$H24) -> #REF! | AI24: =+AF24 -> 1210 | AJ24: ='DATOS REFERENCIALES'!$C$12 -> 210 | AK24: =+AE24+AF24+AI24+AJ24 -> 26566.719 | AL24: ='DATOS REFERENCIALES'!$C$16 -> 2022.305 | AM24: =AL24*$AM$8 -> 475.24167 | AN24: =AL24-AM24 -> 1547.0633 | AO24: =AK24+AN24 -> 28113.782
A25: 1599 | B25: Hora cátedra | C25: 0 | D25: 1 | G25: 56 | H25: =SUM(G25:G25) -> 56 | K25: =(H25*'DATOS REFERENCIALES'!$C$4)*D25 -> 537.3648 | N25: =LOOKUP(C25,'TABLA ANTIG.'!$A$4:$A$39,'TABLA ANTIG.'!$B$4:$B$39)*(K25) -> 0 | O25: =K25*0.1 -> 53.73648 | P25: =IF(D25>48,'DATOS REFERENCIALES'!$D$8+('DATOS REFERENCIALES'!$F$8*10),IF(D25<39,'DATOS REFERENCIALES'!$E$8*D25,((D25-'DATOS REFERENCIALES'!$I$8)*'DATOS REFERENCIALES'!$F$8)+'DATOS REFERENCIALES'!$D$8)) -> 335.89474 | Q25: =LOOKUP(C25,'TABLA ANTIG.'!$A$4:$A$39,'TABLA ANTIG.'!$B$4:$B$39)*(P25) -> 0 | R25: 0 | S25: =IF(C25>11,IF(H25>1134,'DATOS REFERENCIALES'!$C$18,'DATOS REFERENCIALES'!$C$18/20*D25),0) -> 0 | T25: =K25+N25+O25+P25+Q25+R25+S25 -> 926.99602 | U25: =$T25*11% -> 101.96956 | V25: =$T25*3% -> 27.809881 | W25: =$T25*3% -> 27.809881 | X25: =$T25*2% -> 18.53992 | Y25: =$T25*4.5% -> 41.714821 | Z25: =SUM(U25:Y25) -> 217.84406 | AA25: =T25-Z25 -> 709.15195 | AB25: =IF(D25>38,'DATOS REFERENCIALES'!$D$10,'DATOS REFERENCIALES'!$E$10*D25) -> 119.47368 | AC25: =IF(C25<12,IF(H25>1134,'DATOS REFERENCIALES'!$C$17,'DATOS REFERENCIALES'!$C$17/20*D25),0) -> 129.2 | AD25: =IF(D25>41,IF((('DATOS REFERENCIALES'!$D$9)-((T25)+(AB25)+(AC25)))<0,0,((('DATOS REFERENCIALES'!$D$9)-((T25)-(Z25)+(AB25)+(AC25))))),IF((('DATOS REFERENCIALES'!$E$9*D25)-(((T25)+(AB25)+(AC25))))<0,0,('DATOS REFERENCIALES'!$E$9*D25)-((T25)-(Z25)+(AB25)+(AC25)))) -> 469.07436 | AE25: =SUM(AA25:AD25) -> 1426.9 | AF25: =IF(D25>30,'DATOS REFERENCIALES'!$D$13,('DATOS REFERENCIALES'!$E$13*D25)) -> 80.666667 | AH25: =IF(D25>'DATOS REFERENCIALES'!#REF!,'DATOS REFERENCIALES'!#REF!,('DATOS REFERENCIALES'!#REF!*D25)) -> #REF! | AI25: =+AF25 -> 80.666667 | AJ25: =IF(D25>'DATOS REFERENCIALES'!$I$12,'DATOS REFERENCIALES'!$D$12,'DATOS REFERENCIALES'!$E$12*D25) -> 14 | AK25: =+AE25+AF25+AI25+AJ25 -> 1602.2333 | AL25: =IF(D25>'DATOS REFERENCIALES'!$I$16,'DATOS REFERENCIALES'!$D$16,'DATOS REFERENCIALES'!$E$16*D25) -> 134.82033 | AM25: =AL25*$AM$8 -> 31.682778 | AN25: =AL25-AM25 -> 103.13756 | AO25: =AK25+AN25 -> 1705.3709
A26: 1599 | B26: Hora desdoblamiento educ. fisica | C26: 0 | D26: 1 | G26: 56 | H26: =SUM(G26:G26) -> 56 | K26: =(H26*'DATOS REFERENCIALES'!$C$4)*D26 -> 537.3648 | N26: =LOOKUP(C26,'TABLA ANTIG.'!$A$4:$A$39,'TABLA ANTIG.'!$B$4:$B$39)*(K26) -> 0 | O26: =K26*0.1 -> 53.73648 | P26: =IF(D26>48,'DATOS REFERENCIALES'!$D$8+('DATOS REFERENCIALES'!$F$8*10),IF(D26<39,'DATOS REFERENCIALES'!$E$8*D26,((D26-'DATOS REFERENCIALES'!$I$8)*'DATOS REFERENCIALES'!$F$8)+'DATOS REFERENCIALES'!$D$8)) -> 335.89474 | Q26: =LOOKUP(C26,'TABLA ANTIG.'!$A$4:$A$39,'TABLA ANTIG.'!$B$4:$B$39)*(P26) -> 0 | R26: 0 | S26: =IF(C26>11,IF(H26>1134,'DATOS REFERENCIALES'!$C$18,'DATOS REFERENCIALES'!$C$18/20*D26),0) -> 0 | T26: =K26+N26+O26+P26+Q26+R26+S26 -> 926.99602 | U26: =$T26*11% -> 101.96956 | V26: =$T26*3% -> 27.809881 | W26: =$T26*3% -> 27.809881 | X26: =$T26*2% -> 18.53992 | Y26: =$T26*4.5% -> 41.714821 | Z26: =SUM(U26:Y26) -> 217.84406 | AA26: =T26-Z26 -> 709.15195 | AB26: =IF(D26>38,'DATOS REFERENCIALES'!$D$10,'DATOS REFERENCIALES'!$E$10*D26) -> 119.47368 | AC26: =IF(C26<12,IF(H26>1134,'DATOS REFERENCIALES'!$C$17,'DATOS REFERENCIALES'!$C$17/20*D26),0) -> 129.2 | AD26: =IF(D26>41,IF((('DATOS REFERENCIALES'!$D$9)-((T26)+(AB26)+(AC26)))<0,0,((('DATOS REFERENCIALES'!$D$9)-((T26)-(Z26)+(AB26)+(AC26))))),IF((('DATOS REFERENCIALES'!$E$9*D26)-(((T26)+(AB26)+(AC26))))<0,0,('DATOS REFERENCIALES'!$E$9*D26)-((T26)-(Z26)+(AB26)+(AC26)))) -> 469.07436 | AE26: =SUM(AA26:AD26) -> 1426.9 | AF26: =IF(D26>30,'DATOS REFERENCIALES'!$D$13,('DATOS REFERENCIALES'!$E$13*D26)) -> 80.666667 | AH26: =IF(D26>'DATOS REFERENCIALES'!#REF!,'DATOS REFERENCIALES'!#REF!,('DATOS REFERENCIALES'!#REF!*D26)) -> #REF! | AI26: =+AF26 -> 80.666667 | AJ26: =IF(D26>'DATOS REFERENCIALES'!$I$12,'DATOS REFERENCIALES'!$D$12,'DATOS REFERENCIALES'!$E$12*D26) -> 14 | AK26: =+AE26+AF26+AI26+AJ26 -> 1602.2333 | AL26: =IF(D26>'DATOS REFERENCIALES'!$I$16,'DATOS REFERENCIALES'!$D$16,'DATOS REFERENCIALES'!$E$16*D26) -> 134.82033 | AM26: =AL26*$AM$8 -> 31.682778 | AN26: =AL26-AM26 -> 103.13756 | AO26: =AK26+AN26 -> 1705.3709
A27: 1599 | B27: Hora nivelación idioma extranjero | C27: 0 | D27: 1 | G27: 56 | H27: =SUM(G27:G27) -> 56 | K27: =(H27*'DATOS REFERENCIALES'!$C$4)*D27 -> 537.3648 | N27: =LOOKUP(C27,'TABLA ANTIG.'!$A$4:$A$39,'TABLA ANTIG.'!$B$4:$B$39)*(K27) -> 0 | O27: =K27*0.1 -> 53.73648 | P27: =IF(D27>48,'DATOS REFERENCIALES'!$D$8+('DATOS REFERENCIALES'!$F$8*10),IF(D27<39,'DATOS REFERENCIALES'!$E$8*D27,((D27-'DATOS REFERENCIALES'!$I$8)*'DATOS REFERENCIALES'!$F$8)+'DATOS REFERENCIALES'!$D$8)) -> 335.89474 | Q27: =LOOKUP(C27,'TABLA ANTIG.'!$A$4:$A$39,'TABLA ANTIG.'!$B$4:$B$39)*(P27) -> 0 | R27: 0 | S27: =IF(C27>11,IF(H27>1134,'DATOS REFERENCIALES'!$C$18,'DATOS REFERENCIALES'!$C$18/20*D27),0) -> 0 | T27: =K27+N27+O27+P27+Q27+R27+S27 -> 926.99602 | U27: =$T27*11% -> 101.96956 | V27: =$T27*3% -> 27.809881 | W27: =$T27*3% -> 27.809881 | X27: =$T27*2% -> 18.53992 | Y27: =$T27*4.5% -> 41.714821 | Z27: =SUM(U27:Y27) -> 217.84406 | AA27: =T27-Z27 -> 709.15195 | AB27: =IF(D27>38,'DATOS REFERENCIALES'!$D$10,'DATOS REFERENCIALES'!$E$10*D27) -> 119.47368 | AC27: =IF(C27<12,IF(H27>1134,'DATOS REFERENCIALES'!$C$17,'DATOS REFERENCIALES'!$C$17/20*D27),0) -> 129.2 | AD27: =IF(D27>41,IF((('DATOS REFERENCIALES'!$D$9)-((T27)+(AB27)+(AC27)))<0,0,((('DATOS REFERENCIALES'!$D$9)-((T27)-(Z27)+(AB27)+(AC27))))),IF((('DATOS REFERENCIALES'!$E$9*D27)-(((T27)+(AB27)+(AC27))))<0,0,('DATOS REFERENCIALES'!$E$9*D27)-((T27)-(Z27)+(AB27)+(AC27)))) -> 469.07436 | AE27: =SUM(AA27:AD27) -> 1426.9 | AF27: =IF(D27>30,'DATOS REFERENCIALES'!$D$13,('DATOS REFERENCIALES'!$E$13*D27)) -> 80.666667 | AH27: =IF(D27>'DATOS REFERENCIALES'!#REF!,'DATOS REFERENCIALES'!#REF!,('DATOS REFERENCIALES'!#REF!*D27)) -> #REF! | AI27: =+AF27 -> 80.666667 | AJ27: =IF(D27>'DATOS REFERENCIALES'!$I$12,'DATOS REFERENCIALES'!$D$12,'DATOS REFERENCIALES'!$E$12*D27) -> 14 | AK27: =+AE27+AF27+AI27+AJ27 -> 1602.2333 | AL27: =IF(D27>'DATOS REFERENCIALES'!$I$16,'DATOS REFERENCIALES'!$D$16,'DATOS REFERENCIALES'!$E$16*D27) -> 134.82033 | AM27: =AL27*$AM$8 -> 31.682778 | AN27: =AL27-AM27 -> 103.13756 | AO27: =AK27+AN27 -> 1705.3709
A28: 1599 | B28: Hora de tutoría | C28: 0 | D28: 1 | G28: 56 | H28: =SUM(G28:G28) -> 56 | K28: =(H28*'DATOS REFERENCIALES'!$C$4)*D28 -> 537.3648 | N28: =LOOKUP(C28,'TABLA ANTIG.'!$A$4:$A$39,'TABLA ANTIG.'!$B$4:$B$39)*(K28) -> 0 | O28: =K28*0.1 -> 53.73648 | P28: =IF(D28>48,'DATOS REFERENCIALES'!$D$8+('DATOS REFERENCIALES'!$F$8*10),IF(D28<39,'DATOS REFERENCIALES'!$E$8*D28,((D28-'DATOS REFERENCIALES'!$I$8)*'DATOS REFERENCIALES'!$F$8)+'DATOS REFERENCIALES'!$D$8)) -> 335.89474 | Q28: =LOOKUP(C28,'TABLA ANTIG.'!$A$4:$A$39,'TABLA ANTIG.'!$B$4:$B$39)*(P28) -> 0 | R28: 0 | S28: =IF(C28>11,IF(H28>1134,'DATOS REFERENCIALES'!$C$18,'DATOS REFERENCIALES'!$C$18/20*D28),0) -> 0 | T28: =K28+N28+O28+P28+Q28+R28+S28 -> 926.99602 | U28: =$T28*11% -> 101.96956 | V28: =$T28*3% -> 27.809881 | W28: =$T28*3% -> 27.809881 | X28: =$T28*2% -> 18.53992 | Y28: =$T28*4.5% -> 41.714821 | Z28: =SUM(U28:Y28) -> 217.84406 | AA28: =T28-Z28 -> 709.15195 | AB28: =IF(D28>38,'DATOS REFERENCIALES'!$D$10,'DATOS REFERENCIALES'!$E$10*D28) -> 119.47368 | AC28: =IF(C28<12,IF(H28>1134,'DATOS REFERENCIALES'!$C$17,'DATOS REFERENCIALES'!$C$17/20*D28),0) -> 129.2 | AD28: =IF(D28>41,IF((('DATOS REFERENCIALES'!$D$9)-((T28)+(AB28)+(AC28)))<0,0,((('DATOS REFERENCIALES'!$D$9)-((T28)-(Z28)+(AB28)+(AC28))))),IF((('DATOS REFERENCIALES'!$E$9*D28)-(((T28)+(AB28)+(AC28))))<0,0,('DATOS REFERENCIALES'!$E$9*D28)-((T28)-(Z28)+(AB28)+(AC28)))) -> 469.07436 | AE28: =SUM(AA28:AD28) -> 1426.9 | AF28: =IF(D28>30,'DATOS REFERENCIALES'!$D$13,('DATOS REFERENCIALES'!$E$13*D28)) -> 80.666667 | AH28: =IF(D28>'DATOS REFERENCIALES'!#REF!,'DATOS REFERENCIALES'!#REF!,('DATOS REFERENCIALES'!#REF!*D28)) -> #REF! | AI28: =+AF28 -> 80.666667 | AJ28: =IF(D28>'DATOS REFERENCIALES'!$I$12,'DATOS REFERENCIALES'!$D$12,'DATOS REFERENCIALES'!$E$12*D28) -> 14 | AK28: =+AE28+AF28+AI28+AJ28 -> 1602.2333 | AL28: =IF(D28>'DATOS REFERENCIALES'!$I$16,'DATOS REFERENCIALES'!$D$16,'DATOS REFERENCIALES'!$E$16*D28) -> 134.82033 | AM28: =AL28*$AM$8 -> 31.682778 | AN28: =AL28-AM28 -> 103.13756 | AO28: =AK28+AN28 -> 1705.3709
A29: 1599 | B29: Hora de Jefatura de departameto | C29: 0 | D29: 1 | G29: 56 | H29: =SUM(G29:G29) -> 56 | K29: =(H29*'DATOS REFERENCIALES'!$C$4)*D29 -> 537.3648 | N29: =LOOKUP(C29,'TABLA ANTIG.'!$A$4:$A$39,'TABLA ANTIG.'!$B$4:$B$39)*(K29) -> 0 | O29: =K29*0.1 -> 53.73648 | P29: =IF(D29>48,'DATOS REFERENCIALES'!$D$8+('DATOS REFERENCIALES'!$F$8*10),IF(D29<39,'DATOS REFERENCIALES'!$E$8*D29,((D29-'DATOS REFERENCIALES'!$I$8)*'DATOS REFERENCIALES'!$F$8)+'DATOS REFERENCIALES'!$D$8)) -> 335.89474 | Q29: =LOOKUP(C29,'TABLA ANTIG.'!$A$4:$A$39,'TABLA ANTIG.'!$B$4:$B$39)*(P29) -> 0 | R29: 0 | S29: =IF(C29>11,IF(H29>1134,'DATOS REFERENCIALES'!$C$18,'DATOS REFERENCIALES'!$C$18/20*D29),0) -> 0 | T29: =K29+N29+O29+P29+Q29+R29+S29 -> 926.99602 | U29: =$T29*11% -> 101.96956 | V29: =$T29*3% -> 27.809881 | W29: =$T29*3% -> 27.809881 | X29: =$T29*2% -> 18.53992 | Y29: =$T29*4.5% -> 41.714821 | Z29: =SUM(U29:Y29) -> 217.84406 | AA29: =T29-Z29 -> 709.15195 | AB29: =IF(D29>38,'DATOS REFERENCIALES'!$D$10,'DATOS REFERENCIALES'!$E$10*D29) -> 119.47368 | AC29: =IF(C29<12,IF(H29>1134,'DATOS REFERENCIALES'!$C$17,'DATOS REFERENCIALES'!$C$17/20*D29),0) -> 129.2 | AD29: =IF(D29>41,IF((('DATOS REFERENCIALES'!$D$9)-((T29)+(AB29)+(AC29)))<0,0,((('DATOS REFERENCIALES'!$D$9)-((T29)-(Z29)+(AB29)+(AC29))))),IF((('DATOS REFERENCIALES'!$E$9*D29)-(((T29)+(AB29)+(AC29))))<0,0,('DATOS REFERENCIALES'!$E$9*D29)-((T29)-(Z29)+(AB29)+(AC29)))) -> 469.07436 | AE29: =SUM(AA29:AD29) -> 1426.9 | AF29: =IF(D29>30,'DATOS REFERENCIALES'!$D$13,('DATOS REFERENCIALES'!$E$13*D29)) -> 80.666667 | AH29: =IF(D29>'DATOS REFERENCIALES'!#REF!,'DATOS REFERENCIALES'!#REF!,('DATOS REFERENCIALES'!#REF!*D29)) -> #REF! | AI29: =+AF29 -> 80.666667 | AJ29: =IF(D29>'DATOS REFERENCIALES'!$I$12,'DATOS REFERENCIALES'!$D$12,'DATOS REFERENCIALES'!$E$12*D29) -> 14 | AK29: =+AE29+AF29+AI29+AJ29 -> 1602.2333 | AL29: =IF(D29>'DATOS REFERENCIALES'!$I$16,'DATOS REFERENCIALES'!$D$16,'DATOS REFERENCIALES'!$E$16*D29) -> 134.82033 | AM29: =AL29*$AM$8 -> 31.682778 | AN29: =AL29-AM29 -> 103.13756 | AO29: =AK29+AN29 -> 1705.3709
A31: Nivel Medio Técnico | AE31: Nivel Medio Técnico | AM31: 0.235
A32: Códigos | B32: Denominación del cargo | C32: AÑOS | D32: CANTIDAD DE HORAS | E32: SUBVENCIONADO | F32: CAJA COMPL. | G32: INDICE del Sueldo básico Unificado | H32: TOTAL DE INDICES | I32: INDICES JERARQUIZACION | J32: PLUS DIFERENCIAL POR ESTABLECIMIENTO | K32: Valor Sueldo Básico Unificado RB | L32: PLUS DIFERENCIAL POR JERARQUIZACIÓN | M32: PLUS DIFERENCIAL POR ESTABLECIMIENTO | N32: Antigüedad Docente | O32: Asig. Estímulo Educ. R/ NB (Presentismo) | P32: DECRETO 243/08 RB | Q32: Antigüedad Decreto 243/08 | R32: Art. 128 Estatuto Docente R/ NB | S32: Suma Fija Remun. No Bonif | T32: Total Haberes Remunerat. | U32: Retenciones por aportes personales | Z32: Total Aportes | AA32: SUBTOTAL NETO SIN C.M.G. | AB32: MDM | AC32: Suma Fija No Remun. No Bonif | AD32: C.M.G. | AE32: Sub Total Neto a cobrar | AF32: FONID / RESOLUC. Nº 02/04 neto | AG32: Adelanto Cláusula de Seguimiento 2017 | AH32: SUMA FIJA NO REMUN.Y NO BONIF. POR UNICA VEZ | AI32: 1 CUOTA EXTRAORDINARIA DE FONID | AJ32: APORTE NAC. A MAT. DIDÁCTICO 2017 | AK32: TOTAL NETO A COBRAR | AL32: Adicional Especial Remun no Bonif. | AM32: Total Aportes | AN32: NETO DEL ADICIO-NAL | AO32: NETO A COBRAR
U33: Jubilación 11% | V33: Obra Social 3% | W33: INSSJP - Ley 19032 3% | X33: Ley 24.016 Dec. 137/05 2% | Y33: Caja Compl. 4,5%
A34: 5080 | B34: Rector | C34: 0 | G34: 3128 | H34: =SUM(G34:G34) -> 3128 | K34: =H34*'DATOS REFERENCIALES'!$C$4 -> 30015.662 | N34: =LOOKUP(C34,'TABLA ANTIG.'!$A$4:$A$39,'TABLA ANTIG.'!$B$4:$B$39)*(K34) -> 0 | O34: =K34*0.1 -> 3001.5662 | P34: ='DATOS REFERENCIALES'!$D$8 -> 12764 | Q34: =LOOKUP(C34,'TABLA ANTIG.'!$A$4:$A$39,'TABLA ANTIG.'!$B$4:$B$39)*(P34) -> 0 | R34: 0 | S34: =IF(C34>11,IF(H34>1134,'DATOS REFERENCIALES'!$C$18,'DATOS REFERENCIALES'!$C$18/1135*H34),0) -> 0 | T34: =K34+N34+O34+P34+Q34+R34+S34 -> 45781.229 | U34: =$T34*11% -> 5035.9352 | V34: =$T34*3% -> 1373.4369 | W34: =$T34*3% -> 1373.4369 | X34: =$T34*2% -> 915.62457 | Y34: =$T34*4.5% -> 2060.1553 | Z34: =SUM(U34:Y34) -> 10758.589 | AA34: =T34-Z34 -> 35022.64 | AB34: ='DATOS REFERENCIALES'!$D$10 -> 4540 | AC34: =IF(C34<12,IF(H34>2069,'DATOS REFERENCIALES'!$D$17,'DATOS REFERENCIALES'!$D$17/2070*H34),0) -> 5168 | AD34: =IF((IF(H34>2069,('DATOS REFERENCIALES'!$D$9-(T34-U34-V34-W34-X34-Y34+AB34+AC34)),(('DATOS REFERENCIALES'!$D$9/2070)*H34)-(K34+N34+O34+P34+Q34+S34-U34-V34-W34-X34-Y34+AB34+AC34)))<0,0,IF(H34>2069,(('DATOS REFERENCIALES'!$D$9)-(T34-U34-V34-W34-X34-Y34+AB34+AC34)),(('DATOS REFERENCIALES'!$D$9/2070)*H34)-(K34+N34+O34+P34+Q34+S34-U34-V34-W34-X34-Y34+AB34+AC34))) -> 12345.36 | AE34: =SUM(AA34:AD34) -> 57076 | AF34: ='DATOS REFERENCIALES'!$D$13 -> 2420 | AH34: =IF($H34>2042,'DATOS REFERENCIALES'!#REF!,'DATOS REFERENCIALES'!#REF!/2043*$H34) -> #REF! | AI34: =+AF34 -> 2420 | AJ34: ='DATOS REFERENCIALES'!$D$12 -> 420 | AK34: =+AE34+AE35+AF34+AI34+AJ34 -> 67008.763 | AL34: ='DATOS REFERENCIALES'!D16 -> 4044.61 | AM34: =AL34*$AM$31 -> 950.48335 | AN34: =AL34-AM34 -> 3094.1267 | AO34: =AK34+AN34 -> 70102.89
A35: 5080 | B35: Rector | C35: =IF(C34>0,C34,0) -> 0 | I35: =234.6/'DATOS REFERENCIALES'!$I$4*'DATOS REFERENCIALES'!$J$4 -> 391 | J35: 1 turno y hasta 14 secciones. | L35: =I35*'DATOS REFERENCIALES'!$C$4 -> 3751.9578 | M35: =IF(J35='DATOS REFERENCIALES'!$C$31,K34*'DATOS REFERENCIALES'!$D$31,IF(J35='DATOS REFERENCIALES'!$C$32,('DATOS REFERENCIALES'!$D$32*K34),IF(J35='DATOS REFERENCIALES'!$C$33,('DATOS REFERENCIALES'!$D$33*K34),IF(J35='DATOS REFERENCIALES'!$C$34,('DATOS REFERENCIALES'!$D$34*K34),IF(J35='DATOS REFERENCIALES'!$C$35,('DATOS REFERENCIALES'!$D$35*K34),IF(J35='DATOS REFERENCIALES'!$C$36,('DATOS REFERENCIALES'!$D$36*K34),IF(J35='DATOS REFERENCIALES'!$C$37,('DATOS REFERENCIALES'!$D$37*K34),IF(J35='DATOS REFERENCIALES'!$C$38,('DATOS REFERENCIALES'!$D$38*K34),0)))))))) -> 1800.9397 | N35: =LOOKUP(C35,'TABLA ANTIG.'!$A$4:$A$39,'TABLA ANTIG.'!$B$4:$B$39)*(L35+M35) -> 0 | O35: =(L35+M35)*0.1 -> 555.28975 | T35: =L35+M35+N35+O35+P35+Q35+R35 -> 6108.1873 | U35: =$T35*11% -> 671.9006 | V35: =$T35*3% -> 183.24562 | W35: =$T35*3% -> 183.24562 | X35: =$T35*2% -> 122.16375 | Y35: =$T35*4.5% -> 274.86843 | Z35: =SUM(U35:Y35) -> 1435.424 | AA35: =T35-Z35 -> 4672.7633 | AE35: =SUM(AA35:AD35) -> 4672.7633
A36: 5014 | B36: Regente | C36: 0 | G36: 2415 | H36: =SUM(G36:G36) -> 2415 | K36: =H36*'DATOS REFERENCIALES'!$C$4 -> 23173.857 | N36: =LOOKUP(C36,'TABLA ANTIG.'!$A$4:$A$39,'TABLA ANTIG.'!$B$4:$B$39)*(K36) -> 0 | O36: =K36*0.1 -> 2317.3857 | P36: ='DATOS REFERENCIALES'!$C$8 -> 6382 | Q36: =LOOKUP(C36,'TABLA ANTIG.'!$A$4:$A$39,'TABLA ANTIG.'!$B$4:$B$39)*(P36) -> 0 | R36: 0 | S36: =IF(C36>11,IF(H36>1134,'DATOS REFERENCIALES'!$C$18,'DATOS REFERENCIALES'!$C$18/1135*H36),0) -> 0 | T36: =K36+N36+O36+P36+Q36+R36+S36 -> 31873.243 | U36: =$T36*11% -> 3506.0567 | V36: =$T36*3% -> 956.19728 | W36: =$T36*3% -> 956.19728 | X36: =$T36*2% -> 637.46485 | Y36: =$T36*4.5% -> 1434.2959 | Z36: =SUM(U36:Y36) -> 7490.212 | AA36: =T36-Z36 -> 24383.031 | AB36: ='DATOS REFERENCIALES'!$C$10 -> 2270 | AC36: =IF(C36<12,IF(H36>1134,'DATOS REFERENCIALES'!$C$17,'DATOS REFERENCIALES'!$C$17/1135*H36),0) -> 2584 | AD36: =IF((IF(H36>1134,('DATOS REFERENCIALES'!$C$9-(T36-U36-V36-W36-X36-Y36+AB36+AC36-L36-L36*0.235)),(('DATOS REFERENCIALES'!$C$9/1135)*H36)-(K36+N36+O36+P36+Q36+S36-U36-V36-W36-X36-Y36+AB36+AC36-(L36-L36*0.235))))<0,0,IF(H36>1134,(('DATOS REFERENCIALES'!$C$9)-(T36-U36-V36-W36-X36-Y36+AB36+AC36-(L36-L36*0.235))),(('DATOS REFERENCIALES'!$C$9/1135)*H36)-(K36+N36+O36+P36+Q36+S36-U36-V36-W36-X36-Y36+AB36+AC36-(L36-L36*0.235)))) -> 0 | AE36: =SUM(AA36:AD36) -> 29237.031 | AF36: ='DATOS REFERENCIALES'!$C$13 -> 1210 | AH36: =IF($H36>1119,'DATOS REFERENCIALES'!#REF!,'DATOS REFERENCIALES'!#REF!/1120*$H36) -> #REF! | AI36: =+AF36 -> 1210 | AJ36: ='DATOS REFERENCIALES'!$C$12 -> 210 | AK36: =+AE36+AE37+AF36+AI36+AJ36 -> 34304.698 | AL36: ='DATOS REFERENCIALES'!C16 -> 2022.305 | AM36: =AL36*$AM$31 -> 475.24167 | AN36: =AL36-AM36 -> 1547.0633 | AO36: =AK36+AN36 -> 35851.761
A37: 5014 | B37: Regente | C37: =IF(C36>0,C36,0) -> 0 | I37: =181.13/'DATOS REFERENCIALES'!$I$4*'DATOS REFERENCIALES'!$J$4 -> 301.88333 | L37: =I37*'DATOS REFERENCIALES'!$C$4 -> 2896.8121 | M37: =IF(J37='DATOS REFERENCIALES'!$C$31,K36*'DATOS REFERENCIALES'!$D$31,IF(J37='DATOS REFERENCIALES'!$C$32,('DATOS REFERENCIALES'!$D$32*K36),IF(J37='DATOS REFERENCIALES'!$C$33,('DATOS REFERENCIALES'!$D$33*K36),IF(J37='DATOS REFERENCIALES'!$C$34,('DATOS REFERENCIALES'!$D$34*K36),IF(J37='DATOS REFERENCIALES'!$C$35,('DATOS REFERENCIALES'!$D$35*K36),IF(J37='DATOS REFERENCIALES'!$C$36,('DATOS REFERENCIALES'!$D$36*K36),IF(J37='DATOS REFERENCIALES'!$C$37,('DATOS REFERENCIALES'!$D$37*K36),IF(J37='DATOS REFERENCIALES'!$C$38,('DATOS REFERENCIALES'!$D$38*K36),0)))))))) -> 0 | N37: =LOOKUP(C37,'TABLA ANTIG.'!$A$4:$A$39,'TABLA ANTIG.'!$B$4:$B$39)*(L37+M37) -> 0 | O37: =(L37+M37)*0.1 -> 289.68121 | T37: =L37+M37+N37+O37+P37+Q37+R37 -> 3186.4933 | U37: =$T37*11% -> 350.51426 | V37: =$T37*3% -> 95.594799 | W37: =$T37*3% -> 95.594799 | X37: =$T37*2% -> 63.729866 | Y37: =$T37*4.5% -> 143.3922 | Z37: =SUM(U37:Y37) -> 748.82593 | AA37: =T37-Z37 -> 2437.6674 | AE37: =SUM(AA37:AD37) -> 2437.6674
A38: 5013 | B38: Jefe General Enseñanza Práctica | C38: 0 | G38: 2421 | H38: =SUM(G38:G38) -> 2421 | K38: =H38*'DATOS REFERENCIALES'!$C$4 -> 23231.432 | N38: =LOOKUP(C38,'TABLA ANTIG.'!$A$4:$A$39,'TABLA ANTIG.'!$B$4:$B$39)*(K38) -> 0 | O38: =K38*0.1 -> 2323.1432 | P38: ='DATOS REFERENCIALES'!$C$8 -> 6382 | Q38: =LOOKUP(C38,'TABLA ANTIG.'!$A$4:$A$39,'TABLA ANTIG.'!$B$4:$B$39)*(P38) -> 0 | R38: 0 | S38: =IF(C38>11,IF(H38>1134,'DATOS REFERENCIALES'!$C$18,'DATOS REFERENCIALES'!$C$18/1135*H38),0) -> 0 | T38: =K38+N38+O38+P38+Q38+R38+S38 -> 31936.575 | U38: =$T38*11% -> 3513.0232 | V38: =$T38*3% -> 958.09725 | W38: =$T38*3% -> 958.09725 | X38: =$T38*2% -> 638.7315 | Y38: =$T38*4.5% -> 1437.1459 | Z38: =SUM(U38:Y38) -> 7505.0951 | AA38: =T38-Z38 -> 24431.48 | AB38: ='DATOS REFERENCIALES'!$C$10 -> 2270 | AC38: =IF(C38<12,IF(H38>1134,'DATOS REFERENCIALES'!$C$17,'DATOS REFERENCIALES'!$C$17/1135*H38),0) -> 2584 | AD38: =IF((IF(H38>1134,('DATOS REFERENCIALES'!$C$9-(T38-U38-V38-W38-X38-Y38+AB38+AC38-L38-L38*0.235)),(('DATOS REFERENCIALES'!$C$9/1135)*H38)-(K38+N38+O38+P38+Q38+S38-U38-V38-W38-X38-Y38+AB38+AC38-(L38-L38*0.235))))<0,0,IF(H38>1134,(('DATOS REFERENCIALES'!$C$9)-(T38-U38-V38-W38-X38-Y38+AB38+AC38-(L38-L38*0.235))),(('DATOS REFERENCIALES'!$C$9/1135)*H38)-(K38+N38+O38+P38+Q38+S38-U38-V38-W38-X38-Y38+AB38+AC38-(L38-L38*0.235)))) -> 0 | AE38: =SUM(AA38:AD38) -> 29285.48 | AF38: ='DATOS REFERENCIALES'!$C$13 -> 1210 | AH38: =IF($H38>1119,'DATOS REFERENCIALES'!#REF!,'DATOS REFERENCIALES'!#REF!/1120*$H38) -> #REF! | AI38: =+AF38 -> 1210 | AJ38: ='DATOS REFERENCIALES'!$C$12 -> 210 | AK38: =+AE38+AE39+AF38+AI38+AJ38 -> 34359.203 | AL38: ='DATOS REFERENCIALES'!C16 -> 2022.305 | AM38: =AL38*$AM$31 -> 475.24167 | AN38: =AL38-AM38 -> 1547.0633 | AO38: =AK38+AN38 -> 35906.267
A39: 5013 | B39: Jefe General Enseñanza Práctica | C39: =IF(C38>0,C38,0) -> 0 | I39: =181.58/'DATOS REFERENCIALES'!$I$4*'DATOS REFERENCIALES'!$J$4 -> 302.63333 | L39: =I39*'DATOS REFERENCIALES'!$C$4 -> 2904.0089 | M39: =IF(J39='DATOS REFERENCIALES'!$C$31,K38*'DATOS REFERENCIALES'!$D$31,IF(J39='DATOS REFERENCIALES'!$C$32,('DATOS REFERENCIALES'!$D$32*K38),IF(J39='DATOS REFERENCIALES'!$C$33,('DATOS REFERENCIALES'!$D$33*K38),IF(J39='DATOS REFERENCIALES'!$C$34,('DATOS REFERENCIALES'!$D$34*K38),IF(J39='DATOS REFERENCIALES'!$C$35,('DATOS REFERENCIALES'!$D$35*K38),IF(J39='DATOS REFERENCIALES'!$C$36,('DATOS REFERENCIALES'!$D$36*K38),IF(J39='DATOS REFERENCIALES'!$C$37,('DATOS REFERENCIALES'!$D$37*K38),IF(J39='DATOS REFERENCIALES'!$C$38,('DATOS REFERENCIALES'!$D$38*K38),0)))))))) -> 0 | N39: =LOOKUP(C39,'TABLA ANTIG.'!$A$4:$A$39,'TABLA ANTIG.'!$B$4:$B$39)*(L39+M39) -> 0 | O39: =(L39+M39)*0.1 -> 290.40089 | T39: =L39+M39+N39+O39+P39+Q39+R39 -> 3194.4098 | U39: =$T39*11% -> 351.38508 | V39: =$T39*3% -> 95.832295 | W39: =$T39*3% -> 95.832295 | X39: =$T39*2% -> 63.888197 | Y39: =$T39*4.5% -> 143.74844 | Z39: =SUM(U39:Y39) -> 750.68631 | AA39: =T39-Z39 -> 2443.7235 | AE39: =SUM(AA39:AD39) -> 2443.7235
A40: 5033 | B40: Jefe de Laboratorio | C40: 0 | G40: 1222 | H40: =SUM(G40:G40) -> 1222 | K40: =H40*'DATOS REFERENCIALES'!$C$4 -> 11726.068 | N40: =LOOKUP(C40,'TABLA ANTIG.'!$A$4:$A$39,'TABLA ANTIG.'!$B$4:$B$39)*(K40) -> 0 | O40: =K40*0.1 -> 1172.6068 | P40: ='DATOS REFERENCIALES'!$C$8 -> 6382 | Q40: =LOOKUP(C40,'TABLA ANTIG.'!$A$4:$A$39,'TABLA ANTIG.'!$B$4:$B$39)*(P40) -> 0 | R40: 0 | S40: =IF(C40>11,IF(H40>1134,'DATOS REFERENCIALES'!$C$18,'DATOS REFERENCIALES'!$C$18/1135*H40),0) -> 0 | T40: =K40+N40+O40+P40+Q40+R40+S40 -> 19280.674 | U40: =$T40*11% -> 2120.8742 | V40: =$T40*3% -> 578.42023 | W40: =$T40*3% -> 578.42023 | X40: =$T40*2% -> 385.61349 | Y40: =$T40*4.5% -> 867.63035 | Z40: =SUM(U40:Y40) -> 4530.9585 | AA40: =T40-Z40 -> 14749.716 | AB40: ='DATOS REFERENCIALES'!$C$10 -> 2270 | AC40: =IF(C40<12,IF(H40>1134,'DATOS REFERENCIALES'!$C$17,'DATOS REFERENCIALES'!$C$17/1135*H40),0) -> 2584 | AD40: =IF((IF(H40>1134,('DATOS REFERENCIALES'!$C$9-(T40-U40-V40-W40-X40-Y40+AB40+AC40-L40-L40*0.235)),(('DATOS REFERENCIALES'!$C$9/1135)*H40)-(K40+N40+O40+P40+Q40+S40-U40-V40-W40-X40-Y40+AB40+AC40-(L40-L40*0.235))))<0,0,IF(H40>1134,(('DATOS REFERENCIALES'!$C$9)-(T40-U40-V40-W40-X40-Y40+AB40+AC40-(L40-L40*0.235))),(('DATOS REFERENCIALES'!$C$9/1135)*H40)-(K40+N40+O40+P40+Q40+S40-U40-V40-W40-X40-Y40+AB40+AC40-(L40-L40*0.235)))) -> 8934.2841 | AE40: =SUM(AA40:AD40) -> 28538 | AF40: ='DATOS REFERENCIALES'!$C$13 -> 1210 | AH40: =IF($H40>1119,'DATOS REFERENCIALES'!#REF!,'DATOS REFERENCIALES'!#REF!/1120*$H40) -> #REF! | AI40: =+AF40 -> 1210 | AJ40: ='DATOS REFERENCIALES'!$C$12 -> 210 | AK40: =+AE40+AF40+AI40+AJ40 -> 31168 | AL40: ='DATOS REFERENCIALES'!C16 -> 2022.305 | AM40: =AL40*$AM$31 -> 475.24167 | AN40: =AL40-AM40 -> 1547.0633 | AO40: =AK40+AN40 -> 32715.063
A41: 5029 | B41: Maestro de Enseñanza Práctica | C41: 0 | G41: 1120 | H41: 1135 | K41: =H41*'DATOS REFERENCIALES'!$C$4 -> 10891.233 | N41: =LOOKUP(C41,'TABLA ANTIG.'!$A$4:$A$39,'TABLA ANTIG.'!$B$4:$B$39)*(K41) -> 0 | O41: =K41*0.1 -> 1089.1233 | P41: ='DATOS REFERENCIALES'!$C$8 -> 6382 | Q41: =LOOKUP(C41,'TABLA ANTIG.'!$A$4:$A$39,'TABLA ANTIG.'!$B$4:$B$39)*(P41) -> 0 | R41: 0 | S41: =IF(C41>11,IF(H41>1134,'DATOS REFERENCIALES'!$C$18,'DATOS REFERENCIALES'!$C$18/1135*H41),0) -> 0 | T41: =K41+N41+O41+P41+Q41+R41+S41 -> 18362.356 | U41: =$T41*11% -> 2019.8592 | V41: =$T41*3% -> 550.87069 | W41: =$T41*3% -> 550.87069 | X41: =$T41*2% -> 367.24713 | Y41: =$T41*4.5% -> 826.30603 | Z41: =SUM(U41:Y41) -> 4315.1537 | AA41: =T41-Z41 -> 14047.203 | AB41: ='DATOS REFERENCIALES'!$C$10 -> 2270 | AC41: =IF(C41<12,IF(H41>1134,'DATOS REFERENCIALES'!$C$17,'DATOS REFERENCIALES'!$C$17/1135*H41),0) -> 2584 | AD41: =IF((IF(H41>1134,('DATOS REFERENCIALES'!$C$9-(T41-U41-V41-W41-X41-Y41+AB41+AC41-L41-L41*0.235)),(('DATOS REFERENCIALES'!$C$9/1135)*H41)-(K41+N41+O41+P41+Q41+S41-U41-V41-W41-X41-Y41+AB41+AC41-(L41-L41*0.235))))<0,0,IF(H41>1134,(('DATOS REFERENCIALES'!$C$9)-(T41-U41-V41-W41-X41-Y41+AB41+AC41-(L41-L41*0.235))),(('DATOS REFERENCIALES'!$C$9/1135)*H41)-(K41+N41+O41+P41+Q41+S41-U41-V41-W41-X41-Y41+AB41+AC41-(L41-L41*0.235)))) -> 9636.7974 | AE41: =SUM(AA41:AD41) -> 28538 | AF41: ='DATOS REFERENCIALES'!$C$13 -> 1210 | AH41: =IF($H41>1119,'DATOS REFERENCIALES'!#REF!,'DATOS REFERENCIALES'!#REF!/1120*$H41) -> #REF! | AI41: =+AF41 -> 1210 | AJ41: ='DATOS REFERENCIALES'!$C$12 -> 210 | AK41: =+AE41+AF41+AI41+AJ41 -> 31168 | AL41: ='DATOS REFERENCIALES'!$C$16 -> 2022.305 | AM41: =AL41*$AM$31 -> 475.24167 | AN41: =AL41-AM41 -> 1547.0633 | AO41: =AK41+AN41 -> 32715.063
A42: 5028 | B42: Maestro de Enseñanza Práctica Jefe de Sección | C42: 0 | G42: 1222 | H42: =SUM(G42:G42) -> 1222 | K42: =H42*'DATOS REFERENCIALES'!$C$4 -> 11726.068 | N42: =LOOKUP(C42,'TABLA ANTIG.'!$A$4:$A$39,'TABLA ANTIG.'!$B$4:$B$39)*(K42) -> 0 | O42: =K42*0.1 -> 1172.6068 | P42: ='DATOS REFERENCIALES'!$C$8 -> 6382 | Q42: =LOOKUP(C42,'TABLA ANTIG.'!$A$4:$A$39,'TABLA ANTIG.'!$B$4:$B$39)*(P42) -> 0 | R42: 0 | S42: =IF(C42>11,IF(H42>1134,'DATOS REFERENCIALES'!$C$18,'DATOS REFERENCIALES'!$C$18/1135*H42),0) -> 0 | T42: =K42+N42+O42+P42+Q42+R42+S42 -> 19280.674 | U42: =$T42*11% -> 2120.8742 | V42: =$T42*3% -> 578.42023 | W42: =$T42*3% -> 578.42023 | X42: =$T42*2% -> 385.61349 | Y42: =$T42*4.5% -> 867.63035 | Z42: =SUM(U42:Y42) -> 4530.9585 | AA42: =T42-Z42 -> 14749.716 | AB42: ='DATOS REFERENCIALES'!$C$10 -> 2270 | AC42: =IF(C42<12,IF(H42>1134,'DATOS REFERENCIALES'!$C$17,'DATOS REFERENCIALES'!$C$17/1135*H42),0) -> 2584 | AD42: =IF((IF(H42>1134,('DATOS REFERENCIALES'!$C$9-(T42-U42-V42-W42-X42-Y42+AB42+AC42-L42-L42*0.235)),(('DATOS REFERENCIALES'!$C$9/1135)*H42)-(K42+N42+O42+P42+Q42+S42-U42-V42-W42-X42-Y42+AB42+AC42-(L42-L42*0.235))))<0,0,IF(H42>1134,(('DATOS REFERENCIALES'!$C$9)-(T42-U42-V42-W42-X42-Y42+AB42+AC42-(L42-L42*0.235))),(('DATOS REFERENCIALES'!$C$9/1135)*H42)-(K42+N42+O42+P42+Q42+S42-U42-V42-W42-X42-Y42+AB42+AC42-(L42-L42*0.235)))) -> 8934.2841 | AE42: =SUM(AA42:AD42) -> 28538 | AF42: ='DATOS REFERENCIALES'!$C$13 -> 1210 | AH42: =IF($H42>1119,'DATOS REFERENCIALES'!#REF!,'DATOS REFERENCIALES'!#REF!/1120*$H42) -> #REF! | AI42: =+AF42 -> 1210 | AJ42: ='DATOS REFERENCIALES'!$C$12 -> 210 | AK42: =+AE42+AF42+AI42+AJ42 -> 31168 | AL42: ='DATOS REFERENCIALES'!$C$16 -> 2022.305 | AM42: =AL42*$AM$31 -> 475.24167 | AN42: =AL42-AM42 -> 1547.0633 | AO42: =AK42+AN42 -> 32715.063
A43: 5035 | B43: Maestro Ayudante de Enseñanza Práctica | C43: 0 | G43: 1032 | H43: =SUM(G43:G43) -> 1032 | K43: =H43*'DATOS REFERENCIALES'!$C$4 -> 9902.8656 | N43: =LOOKUP(C43,'TABLA ANTIG.'!$A$4:$A$39,'TABLA ANTIG.'!$B$4:$B$39)*(K43) -> 0 | O43: =K43*0.1 -> 990.28656 | P43: ='DATOS REFERENCIALES'!$C$8 -> 6382 | Q43: =LOOKUP(C43,'TABLA ANTIG.'!$A$4:$A$39,'TABLA ANTIG.'!$B$4:$B$39)*(P43) -> 0 | R43: 0 | S43: =IF(C43>11,IF(H43>1134,'DATOS REFERENCIALES'!$C$18,'DATOS REFERENCIALES'!$C$18/1135*H43),0) -> 0 | T43: =K43+N43+O43+P43+Q43+R43+S43 -> 17275.152 | U43: =$T43*11% -> 1900.2667 | V43: =$T43*3% -> 518.25456 | W43: =$T43*3% -> 518.25456 | X43: =$T43*2% -> 345.50304 | Y43: =$T43*4.5% -> 777.38185 | Z43: =SUM(U43:Y43) -> 4059.6608 | AA43: =T43-Z43 -> 13215.491 | AB43: ='DATOS REFERENCIALES'!$C$10 -> 2270 | AC43: =IF(C43<12,IF(H43>1134,'DATOS REFERENCIALES'!$C$17,'DATOS REFERENCIALES'!$C$17/1135*H43),0) -> 2349.5048 | AD43: =IF((IF(H43>1134,('DATOS REFERENCIALES'!$C$9-(T43-U43-V43-W43-X43-Y43+AB43+AC43-L43-L43*0.235)),(('DATOS REFERENCIALES'!$C$9/1135)*H43)-(K43+N43+O43+P43+Q43+S43-U43-V43-W43-X43-Y43+AB43+AC43-(L43-L43*0.235))))<0,0,IF(H43>1134,(('DATOS REFERENCIALES'!$C$9)-(T43-U43-V43-W43-X43-Y43+AB43+AC43-(L43-L43*0.235))),(('DATOS REFERENCIALES'!$C$9/1135)*H43)-(K43+N43+O43+P43+Q43+S43-U43-V43-W43-X43-Y43+AB43+AC43-(L43-L43*0.235)))) -> 8113.2117 | AE43: =SUM(AA43:AD43) -> 25948.208 | AF43: ='DATOS REFERENCIALES'!$C$13 -> 1210 | AH43: =IF($H43>1119,'DATOS REFERENCIALES'!#REF!,'DATOS REFERENCIALES'!#REF!/1120*$H43) -> #REF! | AI43: =+AF43 -> 1210 | AJ43: ='DATOS REFERENCIALES'!$C$12 -> 210 | AK43: =+AE43+AF43+AI43+AJ43 -> 28578.208 | AL43: ='DATOS REFERENCIALES'!$C$16 -> 2022.305 | AM43: =AL43*$AM$31 -> 475.24167 | AN43: =AL43-AM43 -> 1547.0633 | AO43: =AK43+AN43 -> 30125.271
A44: 5051 | B44: Ayudante Técnico de Trabajos Prácticos | C44: 0 | G44: 929 | H44: =SUM(G44:G44) -> 929 | K44: =H44*'DATOS REFERENCIALES'!$C$4 -> 8914.4982 | N44: =LOOKUP(C44,'TABLA ANTIG.'!$A$4:$A$39,'TABLA ANTIG.'!$B$4:$B$39)*(K44) -> 0 | O44: =K44*0.1 -> 891.44982 | P44: ='DATOS REFERENCIALES'!$C$8 -> 6382 | Q44: =LOOKUP(C44,'TABLA ANTIG.'!$A$4:$A$39,'TABLA ANTIG.'!$B$4:$B$39)*(P44) -> 0 | R44: 0 | S44: =IF(C44>11,IF(H44>1134,'DATOS REFERENCIALES'!$C$18,'DATOS REFERENCIALES'!$C$18/1135*H44),0) -> 0 | T44: =K44+N44+O44+P44+Q44+R44+S44 -> 16187.948 | U44: =$T44*11% -> 1780.6743 | V44: =$T44*3% -> 485.63844 | W44: =$T44*3% -> 485.63844 | X44: =$T44*2% -> 323.75896 | Y44: =$T44*4.5% -> 728.45766 | Z44: =SUM(U44:Y44) -> 3804.1678 | AA44: =T44-Z44 -> 12383.78 | AB44: ='DATOS REFERENCIALES'!$C$10 -> 2270 | AC44: =IF(C44<12,IF(H44>1134,'DATOS REFERENCIALES'!$C$17,'DATOS REFERENCIALES'!$C$17/1135*H44),0) -> 2115.0097 | AD44: =IF((IF(H44>1134,('DATOS REFERENCIALES'!$C$9-(T44-U44-V44-W44-X44-Y44+AB44+AC44-L44-L44*0.235)),(('DATOS REFERENCIALES'!$C$9/1135)*H44)-(K44+N44+O44+P44+Q44+S44-U44-V44-W44-X44-Y44+AB44+AC44-(L44-L44*0.235))))<0,0,IF(H44>1134,(('DATOS REFERENCIALES'!$C$9)-(T44-U44-V44-W44-X44-Y44+AB44+AC44-(L44-L44*0.235))),(('DATOS REFERENCIALES'!$C$9/1135)*H44)-(K44+N44+O44+P44+Q44+S44-U44-V44-W44-X44-Y44+AB44+AC44-(L44-L44*0.235)))) -> 6589.6259 | AE44: =SUM(AA44:AD44) -> 23358.416 | AF44: ='DATOS REFERENCIALES'!$C$13 -> 1210 | AH44: =IF($H44>1119,'DATOS REFERENCIALES'!#REF!,'DATOS REFERENCIALES'!#REF!/1120*$H44) -> #REF! | AI44: =+AF44 -> 1210 | AJ44: ='DATOS REFERENCIALES'!$C$12 -> 210 | AK44: =+AE44+AF44+AI44+AJ44 -> 25988.416 | AL44: ='DATOS REFERENCIALES'!$C$16 -> 2022.305 | AM44: =AL44*$AM$31 -> 475.24167 | AN44: =AL44-AM44 -> 1547.0633 | AO44: =AK44+AN44 -> 27535.479
A45: 1557 | B45: Ayudante de Depto. de Orientación | C45: 0 | G45: 823 | H45: =SUM(G45:G45) -> 823 | K45: =H45*'DATOS REFERENCIALES'!$C$4 -> 7897.3434 | N45: =LOOKUP(C45,'TABLA ANTIG.'!$A$4:$A$39,'TABLA ANTIG.'!$B$4:$B$39)*(K45) -> 0 | O45: =K45*0.1 -> 789.73434 | P45: ='DATOS REFERENCIALES'!$C$8 -> 6382 | Q45: =LOOKUP(C45,'TABLA ANTIG.'!$A$4:$A$39,'TABLA ANTIG.'!$B$4:$B$39)*(P45) -> 0 | R45: 0 | S45: =IF(C45>11,IF(H45>1134,'DATOS REFERENCIALES'!$C$18,'DATOS REFERENCIALES'!$C$18/1135*H45),0) -> 0 | T45: =K45+N45+O45+P45+Q45+R45+S45 -> 15069.078 | U45: =$T45*11% -> 1657.5986 | V45: =$T45*3% -> 452.07233 | W45: =$T45*3% -> 452.07233 | X45: =$T45*2% -> 301.38155 | Y45: =$T45*4.5% -> 678.1085 | Z45: =SUM(U45:Y45) -> 3541.2333 | AA45: =T45-Z45 -> 11527.844 | AB45: ='DATOS REFERENCIALES'!$C$10 -> 2270 | AC45: =IF(C45<12,IF(H45>1134,'DATOS REFERENCIALES'!$C$17,'DATOS REFERENCIALES'!$C$17/1135*H45),0) -> 1873.6846 | AD45: =IF((IF(H45>1134,('DATOS REFERENCIALES'!$C$9-(T45-U45-V45-W45-X45-Y45+AB45+AC45-L45-L45*0.235)),(('DATOS REFERENCIALES'!$C$9/1135)*H45)-(K45+N45+O45+P45+Q45+S45-U45-V45-W45-X45-Y45+AB45+AC45-(L45-L45*0.235))))<0,0,IF(H45>1134,(('DATOS REFERENCIALES'!$C$9)-(T45-U45-V45-W45-X45-Y45+AB45+AC45-(L45-L45*0.235))),(('DATOS REFERENCIALES'!$C$9/1135)*H45)-(K45+N45+O45+P45+Q45+S45-U45-V45-W45-X45-Y45+AB45+AC45-(L45-L45*0.235)))) -> 5021.6639 | AE45: =SUM(AA45:AD45) -> 20693.193 | AF45: ='DATOS REFERENCIALES'!$C$13 -> 1210 | AH45: =IF($H45>1119,'DATOS REFERENCIALES'!#REF!,'DATOS REFERENCIALES'!#REF!/1120*$H45) -> #REF! | AI45: =+AF45 -> 1210 | AJ45: ='DATOS REFERENCIALES'!$C$12 -> 210 | AK45: =+AE45+AF45+AI45+AJ45 -> 23323.193 | AL45: ='DATOS REFERENCIALES'!$C$16 -> 2022.305 | AM45: =AL45*$AM$31 -> 475.24167 | AN45: =AL45-AM45 -> 1547.0633 | AO45: =AK45+AN45 -> 24870.256
A46: 1568 | B46: Psicopedagogo | C46: 0 | G46: 1008 | H46: =SUM(G46:G46) -> 1008 | K46: =H46*'DATOS REFERENCIALES'!$C$4 -> 9672.5664 | N46: =LOOKUP(C46,'TABLA ANTIG.'!$A$4:$A$39,'TABLA ANTIG.'!$B$4:$B$39)*(K46) -> 0 | O46: =K46*0.1 -> 967.25664 | P46: ='DATOS REFERENCIALES'!$C$8 -> 6382 | Q46: =LOOKUP(C46,'TABLA ANTIG.'!$A$4:$A$39,'TABLA ANTIG.'!$B$4:$B$39)*(P46) -> 0 | R46: 0 | S46: =IF(C46>11,IF(H46>1134,'DATOS REFERENCIALES'!$C$18,'DATOS REFERENCIALES'!$C$18/1135*H46),0) -> 0 | T46: =K46+N46+O46+P46+Q46+R46+S46 -> 17021.823 | U46: =$T46*11% -> 1872.4005 | V46: =$T46*3% -> 510.65469 | W46: =$T46*3% -> 510.65469 | X46: =$T46*2% -> 340.43646 | Y46: =$T46*4.5% -> 765.98204 | Z46: =SUM(U46:Y46) -> 4000.1284 | AA46: =T46-Z46 -> 13021.695 | AB46: ='DATOS REFERENCIALES'!$C$10 -> 2270 | AC46: =IF(C46<12,IF(H46>1134,'DATOS REFERENCIALES'!$C$17,'DATOS REFERENCIALES'!$C$17/1135*H46),0) -> 2294.8652 | AD46: =IF((IF(H46>1134,('DATOS REFERENCIALES'!$C$9-(T46-U46-V46-W46-X46-Y46+AB46+AC46-L46-L46*0.235)),(('DATOS REFERENCIALES'!$C$9/1135)*H46)-(K46+N46+O46+P46+Q46+S46-U46-V46-W46-X46-Y46+AB46+AC46-(L46-L46*0.235))))<0,0,IF(H46>1134,(('DATOS REFERENCIALES'!$C$9)-(T46-U46-V46-W46-X46-Y46+AB46+AC46-(L46-L46*0.235))),(('DATOS REFERENCIALES'!$C$9/1135)*H46)-(K46+N46+O46+P46+Q46+S46-U46-V46-W46-X46-Y46+AB46+AC46-(L46-L46*0.235)))) -> 7758.2014 | AE46: =SUM(AA46:AD46) -> 25344.761 | AF46: ='DATOS REFERENCIALES'!$C$13 -> 1210 | AH46: =IF($H46>1119,'DATOS REFERENCIALES'!#REF!,'DATOS REFERENCIALES'!#REF!/1120*$H46) -> #REF! | AI46: =+AF46 -> 1210 | AJ46: ='DATOS REFERENCIALES'!$C$12 -> 210 | AK46: =+AE46+AF46+AI46+AJ46 -> 27974.761 | AL46: ='DATOS REFERENCIALES'!$C$16 -> 2022.305 | AM46: =AL46*$AM$31 -> 475.24167 | AN46: =AL46-AM46 -> 1547.0633 | AO46: =AK46+AN46 -> 29521.825
A47: 1599 | B47: Hora desdoblamiento educ. fisica | C47: 0 | D47: 1 | G47: 56 | H47: =SUM(G47:G47) -> 56 | K47: =(H47*'DATOS REFERENCIALES'!$C$4)*D47 -> 537.3648 | N47: =LOOKUP(C47,'TABLA ANTIG.'!$A$4:$A$39,'TABLA ANTIG.'!$B$4:$B$39)*(K47) -> 0 | O47: =K47*0.1 -> 53.73648 | P47: =IF(D47>48,'DATOS REFERENCIALES'!$D$8+('DATOS REFERENCIALES'!$F$8*10),IF(D47<39,'DATOS REFERENCIALES'!$E$8*D47,((D47-'DATOS REFERENCIALES'!$I$8)*'DATOS REFERENCIALES'!$F$8)+'DATOS REFERENCIALES'!$D$8)) -> 335.89474 | Q47: =LOOKUP(C47,'TABLA ANTIG.'!$A$4:$A$39,'TABLA ANTIG.'!$B$4:$B$39)*(P47) -> 0 | R47: 0 | S47: =IF(C47>11,IF(H47>1134,'DATOS REFERENCIALES'!$C$18,'DATOS REFERENCIALES'!$C$18/20*D47),0) -> 0 | T47: =K47+N47+O47+P47+Q47+R47+S47 -> 926.99602 | U47: =$T47*11% -> 101.96956 | V47: =$T47*3% -> 27.809881 | W47: =$T47*3% -> 27.809881 | X47: =$T47*2% -> 18.53992 | Y47: =$T47*4.5% -> 41.714821 | Z47: =SUM(U47:Y47) -> 217.84406 | AA47: =T47-Z47 -> 709.15195 | AB47: =IF(D47>38,'DATOS REFERENCIALES'!$D$10,'DATOS REFERENCIALES'!$E$10*D47) -> 119.47368 | AC47: =IF(C47<12,IF(H47>1134,'DATOS REFERENCIALES'!$C$17,'DATOS REFERENCIALES'!$C$17/20*D47),0) -> 129.2 | AD47: =IF(D47>41,IF((('DATOS REFERENCIALES'!$D$9)-((T47)+(AB47)+(AC47)))<0,0,((('DATOS REFERENCIALES'!$D$9)-((T47)-(Z47)+(AB47)+(AC47))))),IF((('DATOS REFERENCIALES'!$E$9*D47)-(((T47)+(AB47)+(AC47))))<0,0,('DATOS REFERENCIALES'!$E$9*D47)-((T47)-(Z47)+(AB47)+(AC47)))) -> 469.07436 | AE47: =SUM(AA47:AD47) -> 1426.9 | AF47: =IF(D47>30,'DATOS REFERENCIALES'!$D$13,('DATOS REFERENCIALES'!$E$13*D47)) -> 80.666667 | AH47: =IF(D47>'DATOS REFERENCIALES'!#REF!,'DATOS REFERENCIALES'!#REF!,('DATOS REFERENCIALES'!#REF!*D47)) -> #REF! | AI47: =+AF47 -> 80.666667 | AJ47: =IF(D47>'DATOS REFERENCIALES'!$I$12,'DATOS REFERENCIALES'!$D$12,'DATOS REFERENCIALES'!$E$12*D47) -> 14 | AK47: =+AE47+AF47+AI47+AJ47 -> 1602.2333 | AL47: =IF(D47>'DATOS REFERENCIALES'!$I$16,'DATOS REFERENCIALES'!$D$16,'DATOS REFERENCIALES'!$E$16*D47) -> 134.82033 | AM47: =AL47*$AM$31 -> 31.682778 | AN47: =AL47-AM47 -> 103.13756 | AO47: =AK47+AN47 -> 1705.3709
A48: 1599 | B48: Hora nivelación idioma extranjero | C48: 0 | D48: 1 | G48: 56 | H48: =SUM(G48:G48) -> 56 | K48: =(H48*'DATOS REFERENCIALES'!$C$4)*D48 -> 537.3648 | N48: =LOOKUP(C48,'TABLA ANTIG.'!$A$4:$A$39,'TABLA ANTIG.'!$B$4:$B$39)*(K48) -> 0 | O48: =K48*0.1 -> 53.73648 | P48: =IF(D48>48,'DATOS REFERENCIALES'!$D$8+('DATOS REFERENCIALES'!$F$8*10),IF(D48<39,'DATOS REFERENCIALES'!$E$8*D48,((D48-'DATOS REFERENCIALES'!$I$8)*'DATOS REFERENCIALES'!$F$8)+'DATOS REFERENCIALES'!$D$8)) -> 335.89474 | Q48: =LOOKUP(C48,'TABLA ANTIG.'!$A$4:$A$39,'TABLA ANTIG.'!$B$4:$B$39)*(P48) -> 0 | R48: 0 | S48: =IF(C48>11,IF(H48>1134,'DATOS REFERENCIALES'!$C$18,'DATOS REFERENCIALES'!$C$18/20*D48),0) -> 0 | T48: =K48+N48+O48+P48+Q48+R48+S48 -> 926.99602 | U48: =$T48*11% -> 101.96956 | V48: =$T48*3% -> 27.809881 | W48: =$T48*3% -> 27.809881 | X48: =$T48*2% -> 18.53992 | Y48: =$T48*4.5% -> 41.714821 | Z48: =SUM(U48:Y48) -> 217.84406 | AA48: =T48-Z48 -> 709.15195 | AB48: =IF(D48>38,'DATOS REFERENCIALES'!$D$10,'DATOS REFERENCIALES'!$E$10*D48) -> 119.47368 | AC48: =IF(C48<12,IF(H48>1134,'DATOS REFERENCIALES'!$C$17,'DATOS REFERENCIALES'!$C$17/20*D48),0) -> 129.2 | AD48: =IF(D48>41,IF((('DATOS REFERENCIALES'!$D$9)-((T48)+(AB48)+(AC48)))<0,0,((('DATOS REFERENCIALES'!$D$9)-((T48)-(Z48)+(AB48)+(AC48))))),IF((('DATOS REFERENCIALES'!$E$9*D48)-(((T48)+(AB48)+(AC48))))<0,0,('DATOS REFERENCIALES'!$E$9*D48)-((T48)-(Z48)+(AB48)+(AC48)))) -> 469.07436 | AE48: =SUM(AA48:AD48) -> 1426.9 | AF48: =IF(D48>30,'DATOS REFERENCIALES'!$D$13,('DATOS REFERENCIALES'!$E$13*D48)) -> 80.666667 | AH48: =IF(D48>'DATOS REFERENCIALES'!#REF!,'DATOS REFERENCIALES'!#REF!,('DATOS REFERENCIALES'!#REF!*D48)) -> #REF! | AI48: =+AF48 -> 80.666667 | AJ48: =IF(D48>'DATOS REFERENCIALES'!$I$12,'DATOS REFERENCIALES'!$D$12,'DATOS REFERENCIALES'!$E$12*D48) -> 14 | AK48: =+AE48+AF48+AI48+AJ48 -> 1602.2333 | AL48: =IF(D48>'DATOS REFERENCIALES'!$I$16,'DATOS REFERENCIALES'!$D$16,'DATOS REFERENCIALES'!$E$16*D48) -> 134.82033 | AM48: =AL48*$AM$31 -> 31.682778 | AN48: =AL48-AM48 -> 103.13756 | AO48: =AK48+AN48 -> 1705.3709
A49: 1599 | B49: Hora de tutoría | C49: 0 | D49: 1 | G49: 56 | H49: =SUM(G49:G49) -> 56 | K49: =(H49*'DATOS REFERENCIALES'!$C$4)*D49 -> 537.3648 | N49: =LOOKUP(C49,'TABLA ANTIG.'!$A$4:$A$39,'TABLA ANTIG.'!$B$4:$B$39)*(K49) -> 0 | O49: =K49*0.1 -> 53.73648 | P49: =IF(D49>48,'DATOS REFERENCIALES'!$D$8+('DATOS REFERENCIALES'!$F$8*10),IF(D49<39,'DATOS REFERENCIALES'!$E$8*D49,((D49-'DATOS REFERENCIALES'!$I$8)*'DATOS REFERENCIALES'!$F$8)+'DATOS REFERENCIALES'!$D$8)) -> 335.89474 | Q49: =LOOKUP(C49,'TABLA ANTIG.'!$A$4:$A$39,'TABLA ANTIG.'!$B$4:$B$39)*(P49) -> 0 | R49: 0 | S49: =IF(C49>11,IF(H49>1134,'DATOS REFERENCIALES'!$C$18,'DATOS REFERENCIALES'!$C$18/20*D49),0) -> 0 | T49: =K49+N49+O49+P49+Q49+R49+S49 -> 926.99602 | U49: =$T49*11% -> 101.96956 | V49: =$T49*3% -> 27.809881 | W49: =$T49*3% -> 27.809881 | X49: =$T49*2% -> 18.53992 | Y49: =$T49*4.5% -> 41.714821 | Z49: =SUM(U49:Y49) -> 217.84406 | AA49: =T49-Z49 -> 709.15195 | AB49: =IF(D49>38,'DATOS REFERENCIALES'!$D$10,'DATOS REFERENCIALES'!$E$10*D49) -> 119.47368 | AC49: =IF(C49<12,IF(H49>1134,'DATOS REFERENCIALES'!$C$17,'DATOS REFERENCIALES'!$C$17/20*D49),0) -> 129.2 | AD49: =IF(D49>41,IF((('DATOS REFERENCIALES'!$D$9)-((T49)+(AB49)+(AC49)))<0,0,((('DATOS REFERENCIALES'!$D$9)-((T49)-(Z49)+(AB49)+(AC49))))),IF((('DATOS REFERENCIALES'!$E$9*D49)-(((T49)+(AB49)+(AC49))))<0,0,('DATOS REFERENCIALES'!$E$9*D49)-((T49)-(Z49)+(AB49)+(AC49)))) -> 469.07436 | AE49: =SUM(AA49:AD49) -> 1426.9 | AF49: =IF(D49>30,'DATOS REFERENCIALES'!$D$13,('DATOS REFERENCIALES'!$E$13*D49)) -> 80.666667 | AH49: =IF(D49>'DATOS REFERENCIALES'!#REF!,'DATOS REFERENCIALES'!#REF!,('DATOS REFERENCIALES'!#REF!*D49)) -> #REF! | AI49: =+AF49 -> 80.666667 | AJ49: =IF(D49>'DATOS REFERENCIALES'!$I$12,'DATOS REFERENCIALES'!$D$12,'DATOS REFERENCIALES'!$E$12*D49) -> 14 | AK49: =+AE49+AF49+AI49+AJ49 -> 1602.2333 | AL49: =IF(D49>'DATOS REFERENCIALES'!$I$16,'DATOS REFERENCIALES'!$D$16,'DATOS REFERENCIALES'!$E$16*D49) -> 134.82033 | AM49: =AL49*$AM$31 -> 31.682778 | AN49: =AL49-AM49 -> 103.13756 | AO49: =AK49+AN49 -> 1705.3709
A50: 1599 | B50: Hora de Jefatura de departameto | C50: 0 | D50: 1 | G50: 56 | H50: =SUM(G50:G50) -> 56 | K50: =(H50*'DATOS REFERENCIALES'!$C$4)*D50 -> 537.3648 | N50: =LOOKUP(C50,'TABLA ANTIG.'!$A$4:$A$39,'TABLA ANTIG.'!$B$4:$B$39)*(K50) -> 0 | O50: =K50*0.1 -> 53.73648 | P50: =IF(D50>48,'DATOS REFERENCIALES'!$D$8+('DATOS REFERENCIALES'!$F$8*10),IF(D50<39,'DATOS REFERENCIALES'!$E$8*D50,((D50-'DATOS REFERENCIALES'!$I$8)*'DATOS REFERENCIALES'!$F$8)+'DATOS REFERENCIALES'!$D$8)) -> 335.89474 | Q50: =LOOKUP(C50,'TABLA ANTIG.'!$A$4:$A$39,'TABLA ANTIG.'!$B$4:$B$39)*(P50) -> 0 | R50: 0 | S50: =IF(C50>11,IF(H50>1134,'DATOS REFERENCIALES'!$C$18,'DATOS REFERENCIALES'!$C$18/20*D50),0) -> 0 | T50: =K50+N50+O50+P50+Q50+R50+S50 -> 926.99602 | U50: =$T50*11% -> 101.96956 | V50: =$T50*3% -> 27.809881 | W50: =$T50*3% -> 27.809881 | X50: =$T50*2% -> 18.53992 | Y50: =$T50*4.5% -> 41.714821 | Z50: =SUM(U50:Y50) -> 217.84406 | AA50: =T50-Z50 -> 709.15195 | AB50: =IF(D50>38,'DATOS REFERENCIALES'!$D$10,'DATOS REFERENCIALES'!$E$10*D50) -> 119.47368 | AC50: =IF(C50<12,IF(H50>1134,'DATOS REFERENCIALES'!$C$17,'DATOS REFERENCIALES'!$C$17/20*D50),0) -> 129.2 | AD50: =IF(D50>41,IF((('DATOS REFERENCIALES'!$D$9)-((T50)+(AB50)+(AC50)))<0,0,((('DATOS REFERENCIALES'!$D$9)-((T50)-(Z50)+(AB50)+(AC50))))),IF((('DATOS REFERENCIALES'!$E$9*D50)-(((T50)+(AB50)+(AC50))))<0,0,('DATOS REFERENCIALES'!$E$9*D50)-((T50)-(Z50)+(AB50)+(AC50)))) -> 469.07436 | AE50: =SUM(AA50:AD50) -> 1426.9 | AF50: =IF(D50>30,'DATOS REFERENCIALES'!$D$13,('DATOS REFERENCIALES'!$E$13*D50)) -> 80.666667 | AH50: =IF(D50>'DATOS REFERENCIALES'!#REF!,'DATOS REFERENCIALES'!#REF!,('DATOS REFERENCIALES'!#REF!*D50)) -> #REF! | AI50: =+AF50 -> 80.666667 | AJ50: =IF(D50>'DATOS REFERENCIALES'!$I$12,'DATOS REFERENCIALES'!$D$12,'DATOS REFERENCIALES'!$E$12*D50) -> 14 | AK50: =+AE50+AF50+AI50+AJ50 -> 1602.2333 | AL50: =IF(D50>'DATOS REFERENCIALES'!$I$16,'DATOS REFERENCIALES'!$D$16,'DATOS REFERENCIALES'!$E$16*D50) -> 134.82033 | AM50: =AL50*$AM$31 -> 31.682778 | AN50: =AL50-AM50 -> 103.13756 | AO50: =AK50+AN50 -> 1705.3709
A52: Nivel Medio Tiempo Completo Proyecto XIII | AD52: Nivel Medio Tiempo Completo Proyecto XIII | AM52: 0.235
A53: Códigos | B53: Denominación del cargo | C53: AÑOS | D53: CANTIDAD DE HORAS | E53: SUBVENCIONADO | F53: CAJA COMPL. | G53: INDICE del Sueldo básico Unificado | H53: TOTAL DE INDICES | I53: INDICES JERARQUIZACION | J53: PLUS DIFERENCIAL POR ESTABLECIMIENTO | K53: Valor Sueldo Básico Unificado RB | L53: PLUS DIFERENCIAL POR JERARQUIZACIÓN | M53: PLUS DIFERENCIAL POR ESTABLECIMIENTO | N53: Antigüedad Docente | O53: Asig. Estímulo Educ. R/ NB (Presentismo) | P53: DECRETO 243/08 RB | Q53: Antigüedad Decreto 243/08 | R53: Art. 128 Estatuto Docente R/ NB | S53: Suma Fija Remun. No Bonif | T53: Total Haberes Remunerat. | U53: Retenciones por aportes personales | Z53: Total Aportes | AA53: SUBTOTAL NETO SIN C.M.G. | AB53: MDM | AC53: Suma Fija No Remun. No Bonif | AD53: C.M.G. | AE53: Sub Total Neto a cobrar | AF53: FONID / RESOLUC. Nº 02/04 neto | AG53: Adelanto Cláusula de Seguimiento 2017 | AH53: SUMA FIJA NO REMUN.Y NO BONIF. POR UNICA VEZ | AI53: 1 CUOTA EXTRAORDINARIA DE FONID | AJ53: APORTE NAC. A MAT. DIDÁCTICO 2017 | AK53: TOTAL NETO A COBRAR | AL53: Adicional Especial Remun no Bonif. | AM53: Total Aportes | AN53: NETO DEL ADICIO-NAL | AO53: NETO A COBRAR
U54: Jubilación 11% | V54: Obra Social 3% | W54: INSSJP - Ley 19032 3% | X54: Ley 24.016 Dec. 137/05 2% | Y54: Caja Compl. 4,5%
A55: 5080 | B55: Rector | C55: 0 | G55: 3128 | H55: =SUM(G55:G55) -> 3128 | K55: =H55*'DATOS REFERENCIALES'!$C$4 -> 30015.662 | N55: =LOOKUP(C55,'TABLA ANTIG.'!$A$4:$A$39,'TABLA ANTIG.'!$B$4:$B$39)*(K55) -> 0 | O55: =K55*0.1 -> 3001.5662 | P55: ='DATOS REFERENCIALES'!$D$8 -> 12764 | Q55: =LOOKUP(C55,'TABLA ANTIG.'!$A$4:$A$39,'TABLA ANTIG.'!$B$4:$B$39)*(P55) -> 0 | R55: 0 | S55: =IF(C55>11,IF(H55>1134,'DATOS REFERENCIALES'!$C$18,'DATOS REFERENCIALES'!$C$18/1135*H55),0) -> 0 | T55: =K55+N55+O55+P55+Q55+R55+S55 -> 45781.229 | U55: =$T55*11% -> 5035.9352 | V55: =$T55*3% -> 1373.4369 | W55: =$T55*3% -> 1373.4369 | X55: =$T55*2% -> 915.62457 | Y55: =$T55*4.5% -> 2060.1553 | Z55: =SUM(U55:Y55) -> 10758.589 | AA55: =T55-Z55 -> 35022.64 | AB55: ='DATOS REFERENCIALES'!$D$10 -> 4540 | AC55: =IF(C55<12,IF(H55>2069,'DATOS REFERENCIALES'!$D$17,'DATOS REFERENCIALES'!$D$17/2070*H55),0) -> 5168 | AD55: =IF((IF(H55>2069,('DATOS REFERENCIALES'!$D$9-(T55-U55-V55-W55-X55-Y55+AB55+AC55)),(('DATOS REFERENCIALES'!$D$9/2070)*H55)-(K55+N55+O55+P55+Q55+S55-U55-V55-W55-X55-Y55+AB55+AC55)))<0,0,IF(H55>2069,(('DATOS REFERENCIALES'!$D$9)-(T55-U55-V55-W55-X55-Y55+AB55+AC55)),(('DATOS REFERENCIALES'!$D$9/2070)*H55)-(K55+N55+O55+P55+Q55+S55-U55-V55-W55-X55-Y55+AB55+AC55))) -> 12345.36 | AE55: =SUM(AA55:AD55) -> 57076 | AF55: ='DATOS REFERENCIALES'!$D$13 -> 2420 | AH55: =IF($H55>2042,'DATOS REFERENCIALES'!#REF!,'DATOS REFERENCIALES'!#REF!/2043*$H55) -> #REF! | AI55: =+AF55 -> 2420 | AJ55: ='DATOS REFERENCIALES'!$D$12 -> 420 | AK55: =+AE55+AE56+AF55+AI55+AJ55 -> 65493.272 | AL55: ='DATOS REFERENCIALES'!D16 -> 4044.61 | AM55: =AL55*$AM$52 -> 950.48335 | AN55: =AL55-AM55 -> 3094.1267 | AO55: =AK55+AN55 -> 68587.399
